BEGIN:VCALENDAR
VERSION:2.0
PRODID:-//RIES - Rete Italiana Economia Solidale - ECPv6.15.20//NONSGML v1.0//EN
CALSCALE:GREGORIAN
METHOD:PUBLISH
X-WR-CALNAME:RIES - Rete Italiana Economia Solidale
X-ORIGINAL-URL:https://rete-ries.it
X-WR-CALDESC:Eventi per RIES - Rete Italiana Economia Solidale
REFRESH-INTERVAL;VALUE=DURATION:PT1H
X-Robots-Tag:noindex
X-PUBLISHED-TTL:PT1H
BEGIN:VTIMEZONE
TZID:Europe/Rome
BEGIN:DAYLIGHT
TZOFFSETFROM:+0100
TZOFFSETTO:+0200
TZNAME:CEST
DTSTART:20210328T010000
END:DAYLIGHT
BEGIN:STANDARD
TZOFFSETFROM:+0200
TZOFFSETTO:+0100
TZNAME:CET
DTSTART:20211031T010000
END:STANDARD
BEGIN:DAYLIGHT
TZOFFSETFROM:+0100
TZOFFSETTO:+0200
TZNAME:CEST
DTSTART:20220327T010000
END:DAYLIGHT
BEGIN:STANDARD
TZOFFSETFROM:+0200
TZOFFSETTO:+0100
TZNAME:CET
DTSTART:20221030T010000
END:STANDARD
BEGIN:DAYLIGHT
TZOFFSETFROM:+0100
TZOFFSETTO:+0200
TZNAME:CEST
DTSTART:20230326T010000
END:DAYLIGHT
BEGIN:STANDARD
TZOFFSETFROM:+0200
TZOFFSETTO:+0100
TZNAME:CET
DTSTART:20231029T010000
END:STANDARD
END:VTIMEZONE
BEGIN:VEVENT
DTSTART;TZID=Europe/Rome:20220318T180000
DTEND;TZID=Europe/Rome:20220318T200000
DTSTAMP:20260424T231653
CREATED:20220315T225713Z
LAST-MODIFIED:20220315T225824Z
UID:10000102-1647626400-1647633600@rete-ries.it
SUMMARY:Facciamo Comunità Enegetiche Solidali a Roma
DESCRIPTION:Le crisi ambientali ed energetiche generano risposte dal basso e nuove forme di gestione delle risorse. Emerge la necessità per i movimenti e le reti di economia solidale di affrontare il tema della transizione energetica costruendo modelli innovativi e solidali che sappiano coniugare benefici economici ed empowerment sociale. In questa cornice il diritto di organizzarsi in comunità energetiche per la condivisone delle fonti rinnovabili rappresenta un’opportunità che può essere sostanziata dalla capacità aggregativa delle organizzazioni sociali e solidali attive nei territori. \nPer discuterne\, fare proposte\, sperimentare insieme\, la Rete dell’Economia Sociale e Solidale Roma (Ress Roma ) ha organizzato un incontro aperto di informazione e discussione on-line per il giorno venerdì 18 marzo ore 18.00. \nLa discussione verrà preceduta dai seguenti interventi introduttivi: \nMauro Gaggiotti (Esperto in gestione dell’energia). Le comunità energetiche\, opportunità e vincoli. \nSara Capuzzo – (Presidente di èNostra Coop) – Favorire la transizione energetica dal basso \nAdriano Rossi – Presidente Monte Peglia Cooperativa di Comunità. La comunità energetica di San Venazo \nMariateresa Imparato ( Presidente Legambiente Campania). La comunità energetica e solidale di San Giovanni a Teduccio Mariateresa Imparato \nModera l’incontro Riccardo Troisi ( Ress Roma ) \n			\n			\n				\n				\n				\n				\n			\n				\n				\n				\n				\n				\n				\n				Iscriviti all'evento online \n			\n			\n				\n				\n				\n				\n			\n				\n				\n				\n				\n				\n				\n				Vai all'evento FaceBook
URL:https://rete-ries.it/evento/facciamo-comunita-enegetiche-solidali-a-roma/
ATTACH;FMTTYPE=image/png:https://rete-ries.it/wp-content/uploads/2022/03/Facciamo-comunita-enegetiche-a-roma.png
END:VEVENT
END:VCALENDAR