BEGIN:VCALENDAR
VERSION:2.0
PRODID:-//RIES - Rete Italiana Economia Solidale - ECPv6.15.20//NONSGML v1.0//EN
CALSCALE:GREGORIAN
METHOD:PUBLISH
X-WR-CALNAME:RIES - Rete Italiana Economia Solidale
X-ORIGINAL-URL:https://rete-ries.it
X-WR-CALDESC:Eventi per RIES - Rete Italiana Economia Solidale
REFRESH-INTERVAL;VALUE=DURATION:PT1H
X-Robots-Tag:noindex
X-PUBLISHED-TTL:PT1H
BEGIN:VTIMEZONE
TZID:Europe/Rome
BEGIN:DAYLIGHT
TZOFFSETFROM:+0100
TZOFFSETTO:+0200
TZNAME:CEST
DTSTART:20210328T010000
END:DAYLIGHT
BEGIN:STANDARD
TZOFFSETFROM:+0200
TZOFFSETTO:+0100
TZNAME:CET
DTSTART:20211031T010000
END:STANDARD
BEGIN:DAYLIGHT
TZOFFSETFROM:+0100
TZOFFSETTO:+0200
TZNAME:CEST
DTSTART:20220327T010000
END:DAYLIGHT
BEGIN:STANDARD
TZOFFSETFROM:+0200
TZOFFSETTO:+0100
TZNAME:CET
DTSTART:20221030T010000
END:STANDARD
BEGIN:DAYLIGHT
TZOFFSETFROM:+0100
TZOFFSETTO:+0200
TZNAME:CEST
DTSTART:20230326T010000
END:DAYLIGHT
BEGIN:STANDARD
TZOFFSETFROM:+0200
TZOFFSETTO:+0100
TZNAME:CET
DTSTART:20231029T010000
END:STANDARD
END:VTIMEZONE
BEGIN:VEVENT
DTSTART;TZID=Europe/Rome:20220324T163000
DTEND;TZID=Europe/Rome:20220324T180000
DTSTAMP:20260424T231655
CREATED:20220316T100821Z
LAST-MODIFIED:20220316T101037Z
UID:10000103-1648139400-1648144800@rete-ries.it
SUMMARY:TURISMO E SOSTENIBILITÀ: UN PRIMA E UN DOPO - DOV’È IL TRENTINO?
DESCRIPTION:Un talk online per capire cosa significa “turismo sostenibile” nell’era della transizione ecologica: \ncosa significa viaggiare oggi? Come vogliamo vivere le nostre montagne? E stiamo veramente costruendo un turismo più autentico e più responsabile? \n			\n				Registrati all'evento
URL:https://rete-ries.it/evento/turismo-e-sostenibilita-un-prima-e-un-dopo-dove-il-trentino/
LOCATION:on line
ATTACH;FMTTYPE=image/png:https://rete-ries.it/wp-content/uploads/2022/03/Turismo-Trentino.png
END:VEVENT
END:VCALENDAR