BEGIN:VCALENDAR
VERSION:2.0
PRODID:-//RIES - Rete Italiana Economia Solidale - ECPv6.15.20//NONSGML v1.0//EN
CALSCALE:GREGORIAN
METHOD:PUBLISH
X-WR-CALNAME:RIES - Rete Italiana Economia Solidale
X-ORIGINAL-URL:https://rete-ries.it
X-WR-CALDESC:Eventi per RIES - Rete Italiana Economia Solidale
REFRESH-INTERVAL;VALUE=DURATION:PT1H
X-Robots-Tag:noindex
X-PUBLISHED-TTL:PT1H
BEGIN:VTIMEZONE
TZID:Europe/Rome
BEGIN:DAYLIGHT
TZOFFSETFROM:+0100
TZOFFSETTO:+0200
TZNAME:CEST
DTSTART:20210328T010000
END:DAYLIGHT
BEGIN:STANDARD
TZOFFSETFROM:+0200
TZOFFSETTO:+0100
TZNAME:CET
DTSTART:20211031T010000
END:STANDARD
BEGIN:DAYLIGHT
TZOFFSETFROM:+0100
TZOFFSETTO:+0200
TZNAME:CEST
DTSTART:20220327T010000
END:DAYLIGHT
BEGIN:STANDARD
TZOFFSETFROM:+0200
TZOFFSETTO:+0100
TZNAME:CET
DTSTART:20221030T010000
END:STANDARD
BEGIN:DAYLIGHT
TZOFFSETFROM:+0100
TZOFFSETTO:+0200
TZNAME:CEST
DTSTART:20230326T010000
END:DAYLIGHT
BEGIN:STANDARD
TZOFFSETFROM:+0200
TZOFFSETTO:+0100
TZNAME:CET
DTSTART:20231029T010000
END:STANDARD
END:VTIMEZONE
BEGIN:VEVENT
DTSTART;VALUE=DATE:20220615
DTEND;VALUE=DATE:20220709
DTSTAMP:20260424T072841
CREATED:20220423T150659Z
LAST-MODIFIED:20220423T150700Z
UID:10000110-1655251200-1657324799@rete-ries.it
SUMMARY:Green4C Summer School: specializzazione in "Green Care entrepreneurship"
DESCRIPTION:La Green4C (Green for care) Summer School: offre una possibilità unica ed esclusiva per acquisire conoscenza e competenze imprenditoriali in  Green Care\, cioè le attività che promuovono la salute fisica e mentale e il benessere attraverso il contatto con la natura. \nrange of activities that promotes physical and mental health and well-being through contact with nature” or the first time\, top European experts in Green Care will come together to share knowledge and best practices related to this sector. Solo i partecipanti selezionati attraverso la BIC (Business Innovation Challenge) potranno accedere alla Summer School. \nQui tutte le informazioni sul BIC e su come partecipare all’iniziativa.
URL:https://rete-ries.it/evento/green4c-summer-school-specializzazione-in-green-care-entrepreneurship/
LOCATION:Agripolis Campus (Università di Padova)
ATTACH;FMTTYPE=image/jpeg:https://rete-ries.it/wp-content/uploads/2022/04/slider_school-1536x511-1.jpg
END:VEVENT
END:VCALENDAR