BEGIN:VCALENDAR
VERSION:2.0
PRODID:-//RIES - Rete Italiana Economia Solidale - ECPv6.15.20//NONSGML v1.0//EN
CALSCALE:GREGORIAN
METHOD:PUBLISH
X-ORIGINAL-URL:https://rete-ries.it
X-WR-CALDESC:Eventi per RIES - Rete Italiana Economia Solidale
REFRESH-INTERVAL;VALUE=DURATION:PT1H
X-Robots-Tag:noindex
X-PUBLISHED-TTL:PT1H
BEGIN:VTIMEZONE
TZID:Europe/Rome
BEGIN:DAYLIGHT
TZOFFSETFROM:+0100
TZOFFSETTO:+0200
TZNAME:CEST
DTSTART:20210328T010000
END:DAYLIGHT
BEGIN:STANDARD
TZOFFSETFROM:+0200
TZOFFSETTO:+0100
TZNAME:CET
DTSTART:20211031T010000
END:STANDARD
BEGIN:DAYLIGHT
TZOFFSETFROM:+0100
TZOFFSETTO:+0200
TZNAME:CEST
DTSTART:20220327T010000
END:DAYLIGHT
BEGIN:STANDARD
TZOFFSETFROM:+0200
TZOFFSETTO:+0100
TZNAME:CET
DTSTART:20221030T010000
END:STANDARD
BEGIN:DAYLIGHT
TZOFFSETFROM:+0100
TZOFFSETTO:+0200
TZNAME:CEST
DTSTART:20230326T010000
END:DAYLIGHT
BEGIN:STANDARD
TZOFFSETFROM:+0200
TZOFFSETTO:+0100
TZNAME:CET
DTSTART:20231029T010000
END:STANDARD
END:VTIMEZONE
BEGIN:VEVENT
DTSTART;TZID=Europe/Rome:20220825T170000
DTEND;TZID=Europe/Rome:20220828T140000
DTSTAMP:20260424T062803
CREATED:20220717T160822Z
LAST-MODIFIED:20220728T130310Z
UID:10000129-1661446800-1661695200@rete-ries.it
SUMMARY:Incontro Annuale 2022 di Bilanci di Giustizia
DESCRIPTION:Torna l’Incontro Annuale in presenza di Bilanci di Giustizia. \nL’incontro dal titolo “Lavorare in pace\, lavorare per la pace” è aperto a tutti ed è possibile iscriversi per tutta la durata oppure solo parzialmente. \nLeggi l’articolo qui \nProgramma completo e iscrizioni sul sito www.bilancidigiustizia.it
URL:https://rete-ries.it/evento/incontro-annuale-2022-di-bilanci-di-giustizia/
LOCATION:Scuola apostolica del sacro cuore\, via Dehon\, 1\, Albino (BG)\, 24021\, Italia
ATTACH;FMTTYPE=image/jpeg:https://rete-ries.it/wp-content/uploads/2022/07/Banner_incann22-scaled.jpg
ORGANIZER;CN="Bilanci di Giustizia":MAILTO:segreteriabilanci@gmail.com
END:VEVENT
END:VCALENDAR