BEGIN:VCALENDAR
VERSION:2.0
PRODID:-//RIES - Rete Italiana Economia Solidale - ECPv6.15.20//NONSGML v1.0//EN
CALSCALE:GREGORIAN
METHOD:PUBLISH
X-WR-CALNAME:RIES - Rete Italiana Economia Solidale
X-ORIGINAL-URL:https://rete-ries.it
X-WR-CALDESC:Eventi per RIES - Rete Italiana Economia Solidale
REFRESH-INTERVAL;VALUE=DURATION:PT1H
X-Robots-Tag:noindex
X-PUBLISHED-TTL:PT1H
BEGIN:VTIMEZONE
TZID:Europe/Rome
BEGIN:DAYLIGHT
TZOFFSETFROM:+0100
TZOFFSETTO:+0200
TZNAME:CEST
DTSTART:20210328T010000
END:DAYLIGHT
BEGIN:STANDARD
TZOFFSETFROM:+0200
TZOFFSETTO:+0100
TZNAME:CET
DTSTART:20211031T010000
END:STANDARD
BEGIN:DAYLIGHT
TZOFFSETFROM:+0100
TZOFFSETTO:+0200
TZNAME:CEST
DTSTART:20220327T010000
END:DAYLIGHT
BEGIN:STANDARD
TZOFFSETFROM:+0200
TZOFFSETTO:+0100
TZNAME:CET
DTSTART:20221030T010000
END:STANDARD
BEGIN:DAYLIGHT
TZOFFSETFROM:+0100
TZOFFSETTO:+0200
TZNAME:CEST
DTSTART:20230326T010000
END:DAYLIGHT
BEGIN:STANDARD
TZOFFSETFROM:+0200
TZOFFSETTO:+0100
TZNAME:CET
DTSTART:20231029T010000
END:STANDARD
END:VTIMEZONE
BEGIN:VEVENT
DTSTART;VALUE=DATE:20220901
DTEND;VALUE=DATE:20221005
DTSTAMP:20260424T052143
CREATED:20220922T075217Z
LAST-MODIFIED:20220922T090237Z
UID:10000138-1661990400-1664927999@rete-ries.it
SUMMARY:Terra Mater\, un Festival per il futuro del pianeta
DESCRIPTION:A Saronno il Festival Terra Mater fino al 4 ottobre proporrà momenti di approfondimento\, preghiera\, cultura e dibattito sull’urgente tema della crisi climatica\, sociale ed ambientale. \nScopo della manifestazione è sensibilizzare l’intera città sulla necessità di intervenire per rendere la nostra società strutturalmente sostenibile\, in linea con gli obiettivi della Commissione Europea e della Comunità Internazionale. \nClicca qui per scoprire tutto il programma \nContatti: info@terramaterfestival.it
URL:https://rete-ries.it/evento/terra-mater-un-festival-per-il-futuro-del-pianeta/
LOCATION:Saronno
ATTACH;FMTTYPE=image/jpeg:https://rete-ries.it/wp-content/uploads/2022/09/Terra-Mater.jpg
END:VEVENT
BEGIN:VEVENT
DTSTART;VALUE=DATE:20220923
DTEND;VALUE=DATE:20220926
DTSTAMP:20260424T052143
CREATED:20220718T154823Z
LAST-MODIFIED:20230130T102646Z
UID:10000131-1663891200-1664150399@rete-ries.it
SUMMARY:Tuttaunaltracosa: a Padova il Festival del Commercio equo e solidale
DESCRIPTION:Tuttaunaltracosa è il Festival nazionale del commercio equo e solidale\, organizzato dall’Associazione Botteghe del Mondo\, insieme alle istituzioni e alle realtà no profit della località in cui si svolge l’evento\, con un’importante presenza anche delle economie solidali. In questa edizione anche una grande sorpresa: la straordinaria pubblicazione del Fair Trade Magazine\, con sezioni di approfondimento sia sui temi della XXVII edizione: cura\, comunità e welfare di territorio\, che sugli espositori e il programma del Festival. Ingresso gratuito tutti e 3 i giorni. \nPiazza Capitaniato\n35139 Padova PD
URL:https://rete-ries.it/evento/tuttaunaltracosa-a-padova-il-festival-del-commerio-equo-e-solidale/
LOCATION:Tuttaunaltracosa – Padova\, Piazza Eremitani\, Padova\, Italy
ATTACH;FMTTYPE=image/png:https://rete-ries.it/wp-content/uploads/2022/07/Tuttaunaltracosa.png
END:VEVENT
END:VCALENDAR