BEGIN:VCALENDAR
VERSION:2.0
PRODID:-//RIES - Rete Italiana Economia Solidale - ECPv6.15.20//NONSGML v1.0//EN
CALSCALE:GREGORIAN
METHOD:PUBLISH
X-WR-CALNAME:RIES - Rete Italiana Economia Solidale
X-ORIGINAL-URL:https://rete-ries.it
X-WR-CALDESC:Eventi per RIES - Rete Italiana Economia Solidale
REFRESH-INTERVAL;VALUE=DURATION:PT1H
X-Robots-Tag:noindex
X-PUBLISHED-TTL:PT1H
BEGIN:VTIMEZONE
TZID:Europe/Rome
BEGIN:DAYLIGHT
TZOFFSETFROM:+0100
TZOFFSETTO:+0200
TZNAME:CEST
DTSTART:20210328T010000
END:DAYLIGHT
BEGIN:STANDARD
TZOFFSETFROM:+0200
TZOFFSETTO:+0100
TZNAME:CET
DTSTART:20211031T010000
END:STANDARD
BEGIN:DAYLIGHT
TZOFFSETFROM:+0100
TZOFFSETTO:+0200
TZNAME:CEST
DTSTART:20220327T010000
END:DAYLIGHT
BEGIN:STANDARD
TZOFFSETFROM:+0200
TZOFFSETTO:+0100
TZNAME:CET
DTSTART:20221030T010000
END:STANDARD
BEGIN:DAYLIGHT
TZOFFSETFROM:+0100
TZOFFSETTO:+0200
TZNAME:CEST
DTSTART:20230326T010000
END:DAYLIGHT
BEGIN:STANDARD
TZOFFSETFROM:+0200
TZOFFSETTO:+0100
TZNAME:CET
DTSTART:20231029T010000
END:STANDARD
END:VTIMEZONE
BEGIN:VEVENT
DTSTART;VALUE=DATE:20221012
DTEND;VALUE=DATE:20221013
DTSTAMP:20260424T040904
CREATED:20221010T131531Z
LAST-MODIFIED:20221010T145856Z
UID:10000085-1665532800-1665619199@rete-ries.it
SUMMARY:#Cambiamo Agricoltura: convegno
DESCRIPTION:Pesticidi: ridurre l’uso della chimica di sintesi in agricoltura entro il 2030\, come e perché\nè il titolo del convegno in presenza organizzato nell’ambito di #Cambiamo Agricoltura\, campagna a cui RIES aderisce.\n\nSi terrà presso la Rappresentanza Commissione Europea e Parlamento Europeo in Italia\, una giornata di lavoro su come la PAC e le altre politiche nazionali ed Europee potranno condurci al raggiungimento dei target di riduzione dell’uso dei pesticidi.\n\nA causa del numero limitato dei posti\, la prenotazione è obbligatoria entro l’11 ottobre A QUESTO LINK
URL:https://rete-ries.it/evento/cambiamo-agricoltura-convegno/
LOCATION:Sala Spazio Europa c/o Rappresentanza Commissione Europea e Parlamento Europeo\, via IV Novembre 149\, Roma\, Italia
ATTACH;FMTTYPE=image/jpeg:https://rete-ries.it/wp-content/uploads/2022/10/Cambiamo-agricoltura.jpg
END:VEVENT
BEGIN:VEVENT
DTSTART;TZID=Europe/Rome:20221012T183000
DTEND;TZID=Europe/Rome:20221012T193000
DTSTAMP:20260424T040904
CREATED:20221010T062437Z
LAST-MODIFIED:20221010T145716Z
UID:10000139-1665599400-1665603000@rete-ries.it
SUMMARY:#GoodClothesFairPay - Incontro online con Deborah Lucchetti
DESCRIPTION:Incontro con Deborah Lucchetti\, di Fair e coordinatrice della campagna Abitipuliti \n#GoodClothesFairPay è una campagna che chiede una legislazione sui salari dignitosi in tutto il settore dell’abbigliamento\, del tessile e delle calzature. \nRIES aderisce alla campagna e chiede ai soci di promuoverla nei propri territori e contatti. \nDiscuteremo come farlo insieme e coinvolgere più realtà per sostenere la necessaria inversione di tendenza nel mondo dell’abbigliamento e della moda. \nLink per partecipare all’incontro: https://meet.ripess.org/rie-u39-9mv \nLeggi di più \n 
URL:https://rete-ries.it/evento/goodclothesfairpay-salari-dignitosi-nel-settore-tessile/
LOCATION:on line
ATTACH;FMTTYPE=image/png:https://rete-ries.it/wp-content/uploads/2022/10/Abiti-puliti-e1665386867421.png
ORGANIZER;CN="RIES":MAILTO:info@rete-ries.it
END:VEVENT
END:VCALENDAR