BEGIN:VCALENDAR
VERSION:2.0
PRODID:-//RIES - Rete Italiana Economia Solidale - ECPv6.15.20//NONSGML v1.0//EN
CALSCALE:GREGORIAN
METHOD:PUBLISH
X-WR-CALNAME:RIES - Rete Italiana Economia Solidale
X-ORIGINAL-URL:https://rete-ries.it
X-WR-CALDESC:Eventi per RIES - Rete Italiana Economia Solidale
REFRESH-INTERVAL;VALUE=DURATION:PT1H
X-Robots-Tag:noindex
X-PUBLISHED-TTL:PT1H
BEGIN:VTIMEZONE
TZID:Europe/Rome
BEGIN:DAYLIGHT
TZOFFSETFROM:+0100
TZOFFSETTO:+0200
TZNAME:CEST
DTSTART:20210328T010000
END:DAYLIGHT
BEGIN:STANDARD
TZOFFSETFROM:+0200
TZOFFSETTO:+0100
TZNAME:CET
DTSTART:20211031T010000
END:STANDARD
BEGIN:DAYLIGHT
TZOFFSETFROM:+0100
TZOFFSETTO:+0200
TZNAME:CEST
DTSTART:20220327T010000
END:DAYLIGHT
BEGIN:STANDARD
TZOFFSETFROM:+0200
TZOFFSETTO:+0100
TZNAME:CET
DTSTART:20221030T010000
END:STANDARD
BEGIN:DAYLIGHT
TZOFFSETFROM:+0100
TZOFFSETTO:+0200
TZNAME:CEST
DTSTART:20230326T010000
END:DAYLIGHT
BEGIN:STANDARD
TZOFFSETFROM:+0200
TZOFFSETTO:+0100
TZNAME:CET
DTSTART:20231029T010000
END:STANDARD
END:VTIMEZONE
BEGIN:VEVENT
DTSTART;VALUE=DATE:20221014
DTEND;VALUE=DATE:20221023
DTSTAMP:20260424T041325
CREATED:20220922T070539Z
LAST-MODIFIED:20221010T103855Z
UID:10000135-1665705600-1666483199@rete-ries.it
SUMMARY:RETHINKABLE\, Festival delle economie trasformative e delle comunità territoriali
DESCRIPTION:Nei weekend dal 14 al 22 ottobre\, un Festival transfrontaliero delle economie trasformative\, tra Gorizia e Nova Gorica\, unendo Italia e Slovenia in un festival oltre ogni confine! \nAssieme a ospiti e a partner qualificati si parlerà di come trasformare il modello socio-economico rendendolo più giusto e sostenibile\, attento all’ambiente e alle relazioni umane! \nLeggi di più \nClicca qui e scopri tutti gli eventi del Festival \n 
URL:https://rete-ries.it/evento/rethinkable-festival-delle-economie-trasformative-e-delle-comunita-territoriali/
LOCATION:Gorizia\, Italia
ATTACH;FMTTYPE=image/jpeg:https://rete-ries.it/wp-content/uploads/2022/09/rethinkable.jpeg
ORGANIZER;CN="ProDES FVG":MAILTO:rethinkablefestival@gmail.com
END:VEVENT
END:VCALENDAR