BEGIN:VCALENDAR
VERSION:2.0
PRODID:-//RIES - Rete Italiana Economia Solidale - ECPv6.15.20//NONSGML v1.0//EN
CALSCALE:GREGORIAN
METHOD:PUBLISH
X-WR-CALNAME:RIES - Rete Italiana Economia Solidale
X-ORIGINAL-URL:https://rete-ries.it
X-WR-CALDESC:Eventi per RIES - Rete Italiana Economia Solidale
REFRESH-INTERVAL;VALUE=DURATION:PT1H
X-Robots-Tag:noindex
X-PUBLISHED-TTL:PT1H
BEGIN:VTIMEZONE
TZID:Europe/Rome
BEGIN:DAYLIGHT
TZOFFSETFROM:+0100
TZOFFSETTO:+0200
TZNAME:CEST
DTSTART:20210328T010000
END:DAYLIGHT
BEGIN:STANDARD
TZOFFSETFROM:+0200
TZOFFSETTO:+0100
TZNAME:CET
DTSTART:20211031T010000
END:STANDARD
BEGIN:DAYLIGHT
TZOFFSETFROM:+0100
TZOFFSETTO:+0200
TZNAME:CEST
DTSTART:20220327T010000
END:DAYLIGHT
BEGIN:STANDARD
TZOFFSETFROM:+0200
TZOFFSETTO:+0100
TZNAME:CET
DTSTART:20221030T010000
END:STANDARD
BEGIN:DAYLIGHT
TZOFFSETFROM:+0100
TZOFFSETTO:+0200
TZNAME:CEST
DTSTART:20230326T010000
END:DAYLIGHT
BEGIN:STANDARD
TZOFFSETFROM:+0200
TZOFFSETTO:+0100
TZNAME:CET
DTSTART:20231029T010000
END:STANDARD
END:VTIMEZONE
BEGIN:VEVENT
DTSTART;VALUE=DATE:20221027
DTEND;VALUE=DATE:20221031
DTSTAMP:20260424T040858
CREATED:20221010T082404Z
LAST-MODIFIED:20221010T083232Z
UID:10000082-1666828800-1667174399@rete-ries.it
SUMMARY:Agricultura e Diritto al Cibo a Bergamo
DESCRIPTION:A Bergamo nuova edizione di Agricultura e Diritto al Cibo. \nL’ultimo fine settimana di ottobre sarà animato da varie iniziative all’interno della cornice dell’ormai consueta manifestazione “Agricultura e Diritto al Cibo”: conferenze\, incontri\, eventi\, degustazioni e\, domenica 30 ottobre\, il “Mercato dei Mercati-BioDomenica” un appuntamento nato dalla collaborazione di tutti gli organizzatori dei mercati agricoli a filiera corta della provincia bergamasca.
URL:https://rete-ries.it/evento/agricultura-e-diritto-al-cibo-a-bergamo/
LOCATION:Bergamo\, Bergamo\, Italia
ATTACH;FMTTYPE=image/jpeg:https://rete-ries.it/wp-content/uploads/2022/10/Agricultura.jpg
END:VEVENT
END:VCALENDAR