BEGIN:VCALENDAR
VERSION:2.0
PRODID:-//RIES - Rete Italiana Economia Solidale - ECPv6.15.20//NONSGML v1.0//EN
CALSCALE:GREGORIAN
METHOD:PUBLISH
X-WR-CALNAME:RIES - Rete Italiana Economia Solidale
X-ORIGINAL-URL:https://rete-ries.it
X-WR-CALDESC:Eventi per RIES - Rete Italiana Economia Solidale
REFRESH-INTERVAL;VALUE=DURATION:PT1H
X-Robots-Tag:noindex
X-PUBLISHED-TTL:PT1H
BEGIN:VTIMEZONE
TZID:Europe/Rome
BEGIN:DAYLIGHT
TZOFFSETFROM:+0100
TZOFFSETTO:+0200
TZNAME:CEST
DTSTART:20210328T010000
END:DAYLIGHT
BEGIN:STANDARD
TZOFFSETFROM:+0200
TZOFFSETTO:+0100
TZNAME:CET
DTSTART:20211031T010000
END:STANDARD
BEGIN:DAYLIGHT
TZOFFSETFROM:+0100
TZOFFSETTO:+0200
TZNAME:CEST
DTSTART:20220327T010000
END:DAYLIGHT
BEGIN:STANDARD
TZOFFSETFROM:+0200
TZOFFSETTO:+0100
TZNAME:CET
DTSTART:20221030T010000
END:STANDARD
BEGIN:DAYLIGHT
TZOFFSETFROM:+0100
TZOFFSETTO:+0200
TZNAME:CEST
DTSTART:20230326T010000
END:DAYLIGHT
BEGIN:STANDARD
TZOFFSETFROM:+0200
TZOFFSETTO:+0100
TZNAME:CET
DTSTART:20231029T010000
END:STANDARD
END:VTIMEZONE
BEGIN:VEVENT
DTSTART;TZID=Europe/Rome:20221106T100000
DTEND;TZID=Europe/Rome:20221106T183000
DTSTAMP:20260424T025651
CREATED:20221104T162321Z
LAST-MODIFIED:20221104T162321Z
UID:10000087-1667728800-1667759400@rete-ries.it
SUMMARY:Fiera del tessile sostenibile a Paladina (BG)
DESCRIPTION:17° edizione della fiera mercato del tessile sostenibile PER FILO E PER SOGNO pensata e creata dai Gruppi di Acquisto Solidale GASP di Ponte San Pietro\, Paladina e AltrogasFontana\, della provincia di Bergamo \nOltre ad incontrare una ventina tra artigiani\, hobbisti e produttori di abbigliamento\, borse\, collane in stoffa\, articoli per neonati\, coperte e cuscini\, calze\, gomitoli e matasse\, nella giornata della fiera sono previsti alcuni incontri con Amandla bottega del commercio equo e solidale che racconterà la storia dell’alpaca dalla Bolivia; il progetto Ricucendo collegato con il tema del riscatto e dell’inserimento sociale dei detenuti; Oltre – Spazio Aperto che racconterà come l’usato può essere una alternativa all’industria della Fast Fashion. \nCi saranno anche laboratori pratici per grandi e piccoli: “mi immergo nel colore\, seguo il filo\, realizzo la forma” laboratorio di tessitura con Marianna Agnelli; “la brandamaglia”\, facciamo uno scaldacollo\, a cura di Rosanna Mazzocchi; stringhe e c.\, laboratorio per bambini de La Terza Piuma; facciamo i pon pon con le forchette\, a cura delle mamme di Attaccabottone. \nVerrà inoltre allestita un’isola del riciclo a sostegno di diversi progetti sociali: si potranno portare maglioni di lana o cashmere che verranno devoluti a RIFO’ LAB\, scarpe da ginnastica usate per il progetto #kickofftherevolution in collaborazione con il Comune di Bergamo\, tappi di sughero per il progetto “mind the tap”\, in collaborazione con AIPD e Legambiente. Il tutto organizzato dall’associazione La Terza Piuma. \nInfine\, chi ama sferruzzare a maglia o all’uncinetto\, troverà una postazione per lavorare quadrotti di maglia che serviranno a confezionare calde coperte per rifugiati. È possibile cominciare fin d’ora a preparare i quadrotti e consegnarli il giorno della manifestazione. Tutte le informazioni sul sito https://www.sheepitalia.it/chiamata-internazionale-ai-ferri-da-calza/ \nAlla fiera si potrà anche pranzare insieme con prodotti biologici e locali cucinati da Sani Sapori\, fare merenda e trovare libri a tema proposti dalla libreria Il Parnaso. \nScarica il volantino di Per Filo e Per Sogno
URL:https://rete-ries.it/evento/fiera-del-tessile-sostenibile-a-paladina-bg/
LOCATION:Centro Sportivo Comunale\, via degli Alpini 1\, Paladina\, Italia
ATTACH;FMTTYPE=image/jpeg:https://rete-ries.it/wp-content/uploads/2022/11/Per-filo-e-per-sogno.jpg
ORGANIZER;CN="Dess Bg":MAILTO:dess.bergamo@gmail.com
END:VEVENT
END:VCALENDAR