BEGIN:VCALENDAR
VERSION:2.0
PRODID:-//RIES - Rete Italiana Economia Solidale - ECPv6.15.20//NONSGML v1.0//EN
CALSCALE:GREGORIAN
METHOD:PUBLISH
X-WR-CALNAME:RIES - Rete Italiana Economia Solidale
X-ORIGINAL-URL:https://rete-ries.it
X-WR-CALDESC:Eventi per RIES - Rete Italiana Economia Solidale
REFRESH-INTERVAL;VALUE=DURATION:PT1H
X-Robots-Tag:noindex
X-PUBLISHED-TTL:PT1H
BEGIN:VTIMEZONE
TZID:Europe/Rome
BEGIN:DAYLIGHT
TZOFFSETFROM:+0100
TZOFFSETTO:+0200
TZNAME:CEST
DTSTART:20210328T010000
END:DAYLIGHT
BEGIN:STANDARD
TZOFFSETFROM:+0200
TZOFFSETTO:+0100
TZNAME:CET
DTSTART:20211031T010000
END:STANDARD
BEGIN:DAYLIGHT
TZOFFSETFROM:+0100
TZOFFSETTO:+0200
TZNAME:CEST
DTSTART:20220327T010000
END:DAYLIGHT
BEGIN:STANDARD
TZOFFSETFROM:+0200
TZOFFSETTO:+0100
TZNAME:CET
DTSTART:20221030T010000
END:STANDARD
BEGIN:DAYLIGHT
TZOFFSETFROM:+0100
TZOFFSETTO:+0200
TZNAME:CEST
DTSTART:20230326T010000
END:DAYLIGHT
BEGIN:STANDARD
TZOFFSETFROM:+0200
TZOFFSETTO:+0100
TZNAME:CET
DTSTART:20231029T010000
END:STANDARD
END:VTIMEZONE
BEGIN:VEVENT
DTSTART;TZID=Europe/Rome:20221113T084500
DTEND;TZID=Europe/Rome:20221113T190000
DTSTAMP:20260424T025649
CREATED:20221104T213001Z
LAST-MODIFIED:20221104T213001Z
UID:10000091-1668329100-1668366000@rete-ries.it
SUMMARY:Climathon Treviso 2022
DESCRIPTION:Gli impatti climatici stanno toccando ogni parte del globo\, ma sai che le sfide climatiche che la tua comunità sta affrontando al meglio. \nClimathon è un movimento globale che si organizza a livello locale; un programma cittadino che offre un chiaro percorso verso l’azione per il clima. \nAl centro del programma Climathon c’è un’ideathon annuale che si svolge nella tua città e in centinaia di altre città in molti continenti e fusi orari. \nNell’arco dell’ideathon di 12 ore\, un gruppo eterogeneo di partecipanti\, dai responsabili politici agli hacker\, dai giovani agli accademici\, dagli studenti ai leader aziendali\, si riunirà per collaborare su idee lungimiranti che affrontano le sfide climatiche locali. \nPartecipa e unisciti a una comunità globale di migliaia di persone che vogliono agire ora e ripensare alle città in cui viviamo e al futuro che desideriamo come cittadini. \nIscrizione obbligatoria: www.climathon.climate-kic.org/europe/italy/treviso
URL:https://rete-ries.it/evento/climathon-treviso-2022/
LOCATION:Treviso
ATTACH;FMTTYPE=image/jpeg:https://rete-ries.it/wp-content/uploads/2022/11/Climathon.jpeg
END:VEVENT
END:VCALENDAR