BEGIN:VCALENDAR
VERSION:2.0
PRODID:-//RIES - Rete Italiana Economia Solidale - ECPv6.15.20//NONSGML v1.0//EN
CALSCALE:GREGORIAN
METHOD:PUBLISH
X-ORIGINAL-URL:https://rete-ries.it
X-WR-CALDESC:Eventi per RIES - Rete Italiana Economia Solidale
REFRESH-INTERVAL;VALUE=DURATION:PT1H
X-Robots-Tag:noindex
X-PUBLISHED-TTL:PT1H
BEGIN:VTIMEZONE
TZID:Europe/Rome
BEGIN:DAYLIGHT
TZOFFSETFROM:+0100
TZOFFSETTO:+0200
TZNAME:CEST
DTSTART:20220327T010000
END:DAYLIGHT
BEGIN:STANDARD
TZOFFSETFROM:+0200
TZOFFSETTO:+0100
TZNAME:CET
DTSTART:20221030T010000
END:STANDARD
BEGIN:DAYLIGHT
TZOFFSETFROM:+0100
TZOFFSETTO:+0200
TZNAME:CEST
DTSTART:20230326T010000
END:DAYLIGHT
BEGIN:STANDARD
TZOFFSETFROM:+0200
TZOFFSETTO:+0100
TZNAME:CET
DTSTART:20231029T010000
END:STANDARD
BEGIN:DAYLIGHT
TZOFFSETFROM:+0100
TZOFFSETTO:+0200
TZNAME:CEST
DTSTART:20240331T010000
END:DAYLIGHT
BEGIN:STANDARD
TZOFFSETFROM:+0200
TZOFFSETTO:+0100
TZNAME:CET
DTSTART:20241027T010000
END:STANDARD
END:VTIMEZONE
BEGIN:VEVENT
DTSTART;TZID=Europe/Rome:20230201T210000
DTEND;TZID=Europe/Rome:20230201T223000
DTSTAMP:20260423T223627
CREATED:20230203T120354Z
LAST-MODIFIED:20230203T120442Z
UID:10000155-1675285200-1675290600@rete-ries.it
SUMMARY:Presentazione HOME Open Market - Torino
DESCRIPTION:Il modello “Food Coop” di un supermercato gestito direttamente dai suoi soci-clienti è stato fatto conoscere da un documentario e ripreso in Italia dalle esperienze di Bologna\, Parma\, Cagliari e Trento.\nOra questa proposta arriva anche a Torino con il progetto HOME Open Market che verrà presentata mercoledì 1 febbraio 2023 alle ore 21 presso il Polo Culturale Lombroso 16 in Via Cesare Lombroso 16.\nOpen Market è un “supermercato strano” dove i soci diventano contemporaneamente proprietari\, clienti e lavoratori\, dedicando in prima persona 3 al mese per il buon funzionamento della struttura; ma Open Market è soprattutto una comunità che vuole sperimentare un nuovo modello economico e sociale basato sulla collaborazione e la solidarietà\, sul rispetto dell’ambiente e sul supporto alle produzioni sostenibili del territorio.
URL:https://rete-ries.it/evento/presentazione-home-open-market-torino/
LOCATION:Polo culturale Lombroso\, Via Cesare Lombroso 16\, Torino\, TO\, Italy
CATEGORIES:Events
ATTACH;FMTTYPE=image/gif:https://rete-ries.it/wp-content/uploads/2023/02/230201_HOM_564.gif
END:VEVENT
END:VCALENDAR