BEGIN:VCALENDAR
VERSION:2.0
PRODID:-//RIES - Rete Italiana Economia Solidale - ECPv6.15.20//NONSGML v1.0//EN
CALSCALE:GREGORIAN
METHOD:PUBLISH
X-ORIGINAL-URL:https://rete-ries.it
X-WR-CALDESC:Eventi per RIES - Rete Italiana Economia Solidale
REFRESH-INTERVAL;VALUE=DURATION:PT1H
X-Robots-Tag:noindex
X-PUBLISHED-TTL:PT1H
BEGIN:VTIMEZONE
TZID:Europe/Rome
BEGIN:DAYLIGHT
TZOFFSETFROM:+0100
TZOFFSETTO:+0200
TZNAME:CEST
DTSTART:20220327T010000
END:DAYLIGHT
BEGIN:STANDARD
TZOFFSETFROM:+0200
TZOFFSETTO:+0100
TZNAME:CET
DTSTART:20221030T010000
END:STANDARD
BEGIN:DAYLIGHT
TZOFFSETFROM:+0100
TZOFFSETTO:+0200
TZNAME:CEST
DTSTART:20230326T010000
END:DAYLIGHT
BEGIN:STANDARD
TZOFFSETFROM:+0200
TZOFFSETTO:+0100
TZNAME:CET
DTSTART:20231029T010000
END:STANDARD
BEGIN:DAYLIGHT
TZOFFSETFROM:+0100
TZOFFSETTO:+0200
TZNAME:CEST
DTSTART:20240331T010000
END:DAYLIGHT
BEGIN:STANDARD
TZOFFSETFROM:+0200
TZOFFSETTO:+0100
TZNAME:CET
DTSTART:20241027T010000
END:STANDARD
END:VTIMEZONE
BEGIN:VEVENT
DTSTART;TZID=Europe/Rome:20230414T183000
DTEND;TZID=Europe/Rome:20230414T200000
DTSTAMP:20260423T112023
CREATED:20230412T102610Z
LAST-MODIFIED:20230412T102818Z
UID:10000174-1681497000-1681502400@rete-ries.it
SUMMARY:Reti di mutualismo e poli civici a Roma
DESCRIPTION:A Sud in collaborazione con il Comitato Certosa organizza la presentazione della ricerca Poli Civici e Reti di mutualismo a Roma. La ricerca ha voluto mappare il protagonismo sociale e le forme di attivazione civica nel territorio romano studiando modelli ed esperienze di reti di mutualismo italiane ed estere e la co-progettazione partecipata di un #Hub per l’attivazione di processi di sviluppo socio economico nei quartieri della periferia romana.\n\nTorpignattara con le sue reti di associazioni e comitati che lavorano per combattere la dispersione scolastica\, per costruire processi inclusivi\, difendere le aree verdi\, promuovere comunità energetiche\, contro la speculazione e la cementificazione\, e sostenendo le comunità e le famiglie con iniziative di welfare diffuso\, è un esempio concreto di #polocivico. Durante l’evento parleremo delle nostre esperienze territoriali assieme a ricercatori e fondazioni.\n\nIntroducono\nSara Vegni\, A Sud\nRiccardo Troisi\, Fairwatch\n\nIntervengono\nCarlo Cellamare\, DICEA – Sapienza Università di Roma\nMonica Di Sisto\, Fairwatch\nDomenico Chirico\, Fondazione Charlemagne Alessandro Bernardini\, A Sud\nRappresentanti del Comitato Certosa\nRappresentanti di Associazioni del territorio\n\nSono stati invitati\nMauro Caliste – Presidente V municipio\nEdoardo Annucci – Ass. Ambiente V municipio
URL:https://rete-ries.it/evento/reti-di-mutualismo-e-poli-civici-a-roma/
LOCATION:Giardino Ciro Principessa\, via degli Angeli\, Roma
ATTACH;FMTTYPE=image/jpeg:https://rete-ries.it/wp-content/uploads/2023/04/mutualismo-roma.jpg
END:VEVENT
END:VCALENDAR