BEGIN:VCALENDAR
VERSION:2.0
PRODID:-//RIES - Rete Italiana Economia Solidale - ECPv6.15.20//NONSGML v1.0//EN
CALSCALE:GREGORIAN
METHOD:PUBLISH
X-ORIGINAL-URL:https://rete-ries.it
X-WR-CALDESC:Eventi per RIES - Rete Italiana Economia Solidale
REFRESH-INTERVAL;VALUE=DURATION:PT1H
X-Robots-Tag:noindex
X-PUBLISHED-TTL:PT1H
BEGIN:VTIMEZONE
TZID:Europe/Rome
BEGIN:DAYLIGHT
TZOFFSETFROM:+0100
TZOFFSETTO:+0200
TZNAME:CEST
DTSTART:20220327T010000
END:DAYLIGHT
BEGIN:STANDARD
TZOFFSETFROM:+0200
TZOFFSETTO:+0100
TZNAME:CET
DTSTART:20221030T010000
END:STANDARD
BEGIN:DAYLIGHT
TZOFFSETFROM:+0100
TZOFFSETTO:+0200
TZNAME:CEST
DTSTART:20230326T010000
END:DAYLIGHT
BEGIN:STANDARD
TZOFFSETFROM:+0200
TZOFFSETTO:+0100
TZNAME:CET
DTSTART:20231029T010000
END:STANDARD
BEGIN:DAYLIGHT
TZOFFSETFROM:+0100
TZOFFSETTO:+0200
TZNAME:CEST
DTSTART:20240331T010000
END:DAYLIGHT
BEGIN:STANDARD
TZOFFSETFROM:+0200
TZOFFSETTO:+0100
TZNAME:CET
DTSTART:20241027T010000
END:STANDARD
END:VTIMEZONE
BEGIN:VEVENT
DTSTART;VALUE=DATE:20230415
DTEND;VALUE=DATE:20230416
DTSTAMP:20260423T112043
CREATED:20230308T140334Z
LAST-MODIFIED:20230408T094348Z
UID:10000161-1681516800-1681603199@rete-ries.it
SUMMARY:ECONOMIE DI R-ESISTENZA - Forum territoriale dell'economia solidale Sud
DESCRIPTION:Si svolgerà a Lecce il 15 aprile il FORUM TERRITORIALE DELL’ECONOMIA SOLIDALE dell’Italia meridionale\, in vista dell’assemblea RIES di fine maggio (27 e 28 maggio) a Roma. OLTRE MERCATO SALENTO\, tra i soci fondatori della rete nazionale\, accoglierà il Forum che invita alla partecipazione tutte le realtà che in questi anni stanno dimostrando di poter fare un’altra economia – trasformativa\, solidale e resistente – nel Sud. \nDalle politiche locali per il cibo a tutte le forme di co-produzione e distribuzione collettiva (GAS\, mercato dei piccoli produttori e consumatori etici\, openfoodnetwork\, realtà contro lo sfruttamento\, ecc.) alle comunità energetiche solidali che si stanno formando\, dal commercio equo alle forme di mutualismo sul territorio e il turismo responsabile ed ecosolidale\, con un focus sull’inclusione sociale dei migranti (in collaborazione con i progetti SAI in Salento del GUS Gruppo Umana Solidarietà Guido Puletti): sarà una giornata di festa e di lavoro per rinsaldare progetti e collaborazioni e coltivare nuove relazioni !
URL:https://rete-ries.it/evento/economie-di-r-esistenza-forum-territoriale-delleconomia-solidale-sud/
LOCATION:Manifatture Knos\, Lecce\, via Vecchia Frigole\, 36\, Lecce\, Lecce\, 73100\, Italy
CATEGORIES:Events
ATTACH;FMTTYPE=image/png:https://rete-ries.it/wp-content/uploads/2023/04/Banner-Sito-Lecce-1.png
END:VEVENT
END:VCALENDAR