BEGIN:VCALENDAR
VERSION:2.0
PRODID:-//RIES - Rete Italiana Economia Solidale - ECPv6.15.20//NONSGML v1.0//EN
CALSCALE:GREGORIAN
METHOD:PUBLISH
X-WR-CALNAME:RIES - Rete Italiana Economia Solidale
X-ORIGINAL-URL:https://rete-ries.it
X-WR-CALDESC:Eventi per RIES - Rete Italiana Economia Solidale
REFRESH-INTERVAL;VALUE=DURATION:PT1H
X-Robots-Tag:noindex
X-PUBLISHED-TTL:PT1H
BEGIN:VTIMEZONE
TZID:Europe/Rome
BEGIN:DAYLIGHT
TZOFFSETFROM:+0100
TZOFFSETTO:+0200
TZNAME:CEST
DTSTART:20220327T010000
END:DAYLIGHT
BEGIN:STANDARD
TZOFFSETFROM:+0200
TZOFFSETTO:+0100
TZNAME:CET
DTSTART:20221030T010000
END:STANDARD
BEGIN:DAYLIGHT
TZOFFSETFROM:+0100
TZOFFSETTO:+0200
TZNAME:CEST
DTSTART:20230326T010000
END:DAYLIGHT
BEGIN:STANDARD
TZOFFSETFROM:+0200
TZOFFSETTO:+0100
TZNAME:CET
DTSTART:20231029T010000
END:STANDARD
BEGIN:DAYLIGHT
TZOFFSETFROM:+0100
TZOFFSETTO:+0200
TZNAME:CEST
DTSTART:20240331T010000
END:DAYLIGHT
BEGIN:STANDARD
TZOFFSETFROM:+0200
TZOFFSETTO:+0100
TZNAME:CET
DTSTART:20241027T010000
END:STANDARD
END:VTIMEZONE
BEGIN:VEVENT
DTSTART;TZID=Europe/Rome:20230512T160000
DTEND;TZID=Europe/Rome:20230512T190000
DTSTAMP:20260423T095047
CREATED:20230504T154506Z
LAST-MODIFIED:20230506T131720Z
UID:10000179-1683907200-1683918000@rete-ries.it
SUMMARY:Mondeggi va in città
DESCRIPTION:Incontro di autoformazione \n• Laboratorio sull’immaginario\n• Potere e paura: governare l’incertezza\n• Cambiamenti e sostenibilità\n• Governance e assemblea \nL’esempio de I Nidiaci\, spazio comune rivendicato dal suo quartiere \nInterventi e facilitazione di: \nSoana Tortora (Solidarius Italia) e Dalma Domeneghini (Associazione Decrescita) \nCol supporto di Europe Direct – Comune di Firenze \nPartecipazione libera.\nPer aiutare l’organizzazione\, chi intende partecipare è pregato di inviare un messaggio a: mondeggivaincitta@protonmail.com \nA seguire:\nSPAZIOFESTA 999\nFesta dei maker e nono compleanno di Lofoio\nvia del Campuccio 23r e 25r\, Firenze\nIngresso libero
URL:https://rete-ries.it/evento/mondeggi-va-in-citta/
LOCATION:Sala mazzei – Nidiaci\, via dell'Ardiglione\, 30\, Firenze\, Italy
ATTACH;FMTTYPE=image/jpeg:https://rete-ries.it/wp-content/uploads/2023/05/Mondeggi.jpg
END:VEVENT
BEGIN:VEVENT
DTSTART;TZID=Europe/Rome:20230512T203000
DTEND;TZID=Europe/Rome:20230512T223000
DTSTAMP:20260423T095047
CREATED:20230504T151256Z
LAST-MODIFIED:20231005T103529Z
UID:10000178-1683923400-1683930600@rete-ries.it
SUMMARY:Riprendiamoci il comune... a Bergamo
DESCRIPTION:Incontro di approfondimento della campagna con raccolta firme per la proposta di due leggi di inziativa popolare. \nIntervengono Marco Noris e Corrado Conti\nIntroduce la serata Simonetta Rinaldi \nMaggiori informazioni sulla campagna sul sito Riprendiamociilcomune
URL:https://rete-ries.it/evento/riprendiamoci-il-comune-a-bergamo/
LOCATION:Ex convento La Ripa\, via La Ripa\, Albino\, Bergamo\, 24021\, Italy
CATEGORIES:Events
ATTACH;FMTTYPE=image/jpeg:https://rete-ries.it/wp-content/uploads/2023/05/Riprendiamoci-il-comune.jpeg
END:VEVENT
END:VCALENDAR