BEGIN:VCALENDAR
VERSION:2.0
PRODID:-//RIES - Rete Italiana Economia Solidale - ECPv6.15.20//NONSGML v1.0//EN
CALSCALE:GREGORIAN
METHOD:PUBLISH
X-ORIGINAL-URL:https://rete-ries.it
X-WR-CALDESC:Eventi per RIES - Rete Italiana Economia Solidale
REFRESH-INTERVAL;VALUE=DURATION:PT1H
X-Robots-Tag:noindex
X-PUBLISHED-TTL:PT1H
BEGIN:VTIMEZONE
TZID:Europe/Rome
BEGIN:DAYLIGHT
TZOFFSETFROM:+0100
TZOFFSETTO:+0200
TZNAME:CEST
DTSTART:20220327T010000
END:DAYLIGHT
BEGIN:STANDARD
TZOFFSETFROM:+0200
TZOFFSETTO:+0100
TZNAME:CET
DTSTART:20221030T010000
END:STANDARD
BEGIN:DAYLIGHT
TZOFFSETFROM:+0100
TZOFFSETTO:+0200
TZNAME:CEST
DTSTART:20230326T010000
END:DAYLIGHT
BEGIN:STANDARD
TZOFFSETFROM:+0200
TZOFFSETTO:+0100
TZNAME:CET
DTSTART:20231029T010000
END:STANDARD
BEGIN:DAYLIGHT
TZOFFSETFROM:+0100
TZOFFSETTO:+0200
TZNAME:CEST
DTSTART:20240331T010000
END:DAYLIGHT
BEGIN:STANDARD
TZOFFSETFROM:+0200
TZOFFSETTO:+0100
TZNAME:CET
DTSTART:20241027T010000
END:STANDARD
END:VTIMEZONE
BEGIN:VEVENT
DTSTART;VALUE=DATE:20230610
DTEND;VALUE=DATE:20230612
DTSTAMP:20260423T083420
CREATED:20230404T221947Z
LAST-MODIFIED:20230609T081758Z
UID:10000170-1686355200-1686527999@rete-ries.it
SUMMARY:Solidalia 2023
DESCRIPTION:La Fattoria di Vigheffio (PR) accoglierà Solidalia\, la festa dell’Economia Solidale\, il 10 e 11 giugno 2022 – 2a edizione. \nCi sarà il mercato dei produttori (oltre 70) a cui si rivolgono i Gas\, incontri locali e nazionali\, spettacoli\, momenti di convivialità e di gioco. Ci saranno laboratori in cui associazioni e artigiani metteranno a disposizione i loro saperi.\nCi saranno spazi e momenti dedicati ai bambini che anche nello scorso anno hanno arricchito con la loro presenza l’aria di festa. Ci sarà cibo\, ma anche altri prodotti\, tutti con caratteristiche comuni: il rispetto dell’ambiente\, del lavoro della persone\, l’onestà e limpidezza nei processi produttivi\, la fiducia come ingrediente indispensabile.\nI temi che verranno affrontati sono quelli che caratterizzano l’economia solidale: energie rinnovabili\, finanza etica\, commercio equo\, agricoltura contadina. \nRIES co-organizza con il DES Parma\, GAS Torino e DESS Roma un incontro per parlare di MERCATO SOCIALE e confrontarci con l’esperienza di due altri paesi\, Spagna e Svizzera. \nUn mercato sociale è un sistema economico strutturato da relazioni di scambio\, cooperazione e solidarietà. Si potrebbe definire una rete stabile di transazioni tra soggetti dell’economia sociale e solidale (EES) e altri ad essi strettamente legati\, consumatori responsabili e risparmiatori-investitori etici\, in modo che tutte le persone partecipanti finiscano per coprire la maggioranza dei loro bisogni con i beni di questa rete\, insieme ai beni comuni e ai beni pubblici. Per transazioni si intendono beni (beni e servizi)\, ma anche valori\, informazioni e conoscenze. Inoltre\, le transazioni commerciali possono essere effettuate attraverso monete (ufficiali o comunitarie) o attraverso il baratto. Ci confronteremo con le esperienze di paesi in cui già da anni si stanno mettendo in pratica mercati sociali o strutture simili. \nLa creazione di mercati sociali è un obiettivo strategico della Rete dell’economia solidale e alternativa in Spagna (REAS RdR). In Svizzera si lavora a partire dai quartieri fino ai cantoni\, per costruire catene di valore e poli di servizi dell’economia sociale solidale. \nSabato 10 giugno alle 14\,30 interverranno rappresentanti dell’economia solidale spagnola e svizzera e apriremo il dibattito per una strategia di mercato sociale in Italia. Il Mercato Sociale costituirà anche il primo incontro del Forum Territoriale di Economia Solidale che Ries sta in questi anni sviluppando in tutta Italia. \nApprofondisci qui
URL:https://rete-ries.it/evento/solidalia-2023/
LOCATION:Fattoria di Vigheffio\, Collecchio\, Parma\, Italy
CATEGORIES:Events
ATTACH;FMTTYPE=image/jpeg:https://rete-ries.it/wp-content/uploads/2023/04/Solidalia_2023.jpg
END:VEVENT
END:VCALENDAR