BEGIN:VCALENDAR
VERSION:2.0
PRODID:-//RIES - Rete Italiana Economia Solidale - ECPv6.15.20//NONSGML v1.0//EN
CALSCALE:GREGORIAN
METHOD:PUBLISH
X-ORIGINAL-URL:https://rete-ries.it
X-WR-CALDESC:Eventi per RIES - Rete Italiana Economia Solidale
REFRESH-INTERVAL;VALUE=DURATION:PT1H
X-Robots-Tag:noindex
X-PUBLISHED-TTL:PT1H
BEGIN:VTIMEZONE
TZID:Europe/Rome
BEGIN:DAYLIGHT
TZOFFSETFROM:+0100
TZOFFSETTO:+0200
TZNAME:CEST
DTSTART:20220327T010000
END:DAYLIGHT
BEGIN:STANDARD
TZOFFSETFROM:+0200
TZOFFSETTO:+0100
TZNAME:CET
DTSTART:20221030T010000
END:STANDARD
BEGIN:DAYLIGHT
TZOFFSETFROM:+0100
TZOFFSETTO:+0200
TZNAME:CEST
DTSTART:20230326T010000
END:DAYLIGHT
BEGIN:STANDARD
TZOFFSETFROM:+0200
TZOFFSETTO:+0100
TZNAME:CET
DTSTART:20231029T010000
END:STANDARD
BEGIN:DAYLIGHT
TZOFFSETFROM:+0100
TZOFFSETTO:+0200
TZNAME:CEST
DTSTART:20240331T010000
END:DAYLIGHT
BEGIN:STANDARD
TZOFFSETFROM:+0200
TZOFFSETTO:+0100
TZNAME:CET
DTSTART:20241027T010000
END:STANDARD
END:VTIMEZONE
BEGIN:VEVENT
DTSTART;VALUE=DATE:20231005
DTEND;VALUE=DATE:20231020
DTSTAMP:20260423T045413
CREATED:20231007T103155Z
LAST-MODIFIED:20231006T203544Z
UID:10000195-1696464000-1697759999@rete-ries.it
SUMMARY:Viaggio responsabile - Senegal - apertura iscrizioni
DESCRIPTION:Sono aperte le iscrizioni al VIAGGIO RESPONSABILE in Senegal che si terrà alla fine dell’anno 2023.\nVIAGGIA & SCEGLI COME STARE NEL MONDO\nViaggiare nel profondamente altro\, è un potentissimo strumento di consapevolezza e formazione: un viaggio iniziatico e gioioso per scoprire che il Sud del mondo ha molto da insegnarci e da condividere!\n\nInformazioni:\n> compilate il form al link: https://bit.ly/viaggio-senegal\n> telefonare/inviare sms whatsapp/telegram a: 392 849 7549\n> richiedi a 3928497549 la scheda prezzo trasparente \n\n\nVai all’evento FB\n\nScarica il volantino
URL:https://rete-ries.it/evento/viaggio-responsabile-senegal-apertura-iscrizioni/
LOCATION:on line
CATEGORIES:Events
ATTACH;FMTTYPE=image/jpeg:https://rete-ries.it/wp-content/uploads/2023/10/Viaggi-senegal_small.jpg
END:VEVENT
BEGIN:VEVENT
DTSTART;TZID=Europe/Rome:20231005T080000
DTEND;TZID=Europe/Rome:20231007T170000
DTSTAMP:20260423T045413
CREATED:20231005T102041Z
LAST-MODIFIED:20231005T103444Z
UID:10000194-1696492800-1696698000@rete-ries.it
SUMMARY:Portare l’ecologia integrale sul territorio
DESCRIPTION:Il progetto nazionale RETI ha rafforzato le competenze di operatori\, volontari\, attivisti e studenti appartenenti alle comunità legate alle associazioni ideatrici e responsabili del progetto (ARCS\, A Sud Ecologia e Cooperazione\, Tamat\, Patatrac e Pax Christi\, Comune-info\, Fairwatch in collaborazione con Ries e Pax Christi ). \nCentrali sono state le riflessioni e i momenti di scambio sui temi della sostenibilità economica\, ambientale e sociale\, fondamenta di una rigenerazione dei territori\, del modo di produrre e consumare orientati al contrasto delle disuguaglianze e a una dimensione sempre più attiva della cittadinanza. \nDopo la fase della formazione online abbiamo pensato di proporre un approfondimento attraverso delle giornate in presenza a Milano dove poter fornire un’opportunità ai partecipanti di costruire dei percorsi di co- progettazione sui temi inerenti alle formazioni svolte e coerenti con le esigenze emerse. \nL’obiettivo delle RESIDENZE è quello di fornire gli strumenti di progettualità ed animazione territoriale per dare concretezza al percorso teorico fruito online e supportare iniziative\, programmi e progettualità già in essere o di interesse. \nLa seconda residenza si terrà a Mialno  dal 5 al 7 ottobre  ed è gratuita ed aperta ai residenti nell’Area Centro\n \nLe giornate saranno coordinate da esperti che\, a partire dalla valorizzazione delle esperienze territoriali\, rafforzeranno le reti nella capacità di programmare e pianificare strategie di intervento in grado di produrre cambiamenti localmente radicati\, duraturi e chiaramente verificabili. \nLa proposta formativa si basa sugli strumenti della theory of change\, sulla valutazione dell’impatto sociale e sull’incontro con esperienze di innovazione sociale. \nEvento FB: https://www.facebook.com/events/137808426068159/ \nQui le info  https://www.arcsculturesolidali.org/reti-solidali-e-competenti/ \nPer iscriversi occorre compilare questo form:\nhttps://form.jotform.com/232491502862354 \nPer info scrivi a : scuola.attivazione.politica@gmail.com \nScarica il programma qui
URL:https://rete-ries.it/evento/portare-lecologia-integrale-sul-territorio/
LOCATION:Milano
CATEGORIES:Events
ATTACH;FMTTYPE=image/jpeg:https://rete-ries.it/wp-content/uploads/2023/10/Milano-Ecologia-integrale-sul-territorio.jpg
END:VEVENT
BEGIN:VEVENT
DTSTART;VALUE=DATE:20231007
DTEND;VALUE=DATE:20231009
DTSTAMP:20260423T045413
CREATED:20230928T081931Z
LAST-MODIFIED:20231006T204033Z
UID:10000193-1696636800-1696809599@rete-ries.it
SUMMARY:Festival della Transizione Ecologica: Mondeggi ed ex-GKN
DESCRIPTION:Per comprendere a fondo il significato della Transizione Ecologica e quali cambiamenti questa comporti nella vita quotidiana di ciascunə\, il Festival affronta il tema da diversi punti di vista: alimentazione e produzione alimentare\, cambiamento climatico\, commercio equo e solidale\, energia\, economia\, inclusione\, rifiuti. Tutte questioni profondamente legate ai valori e agli ideali di sostenibilità ambientale\, giustizia sociale\, solidarietà e consumo critico. \nRIES co-organizza due incontri all’interno del Festival\, entrambi il 7 ottobre: \nalle 10:00\, Mondeggi Bene Comune – Fattoria senza padroni incontra SOMS GFF (ex-GKN) – Fabbrica socialmente integrata nel territorio.  Verso un patto territoriale per un’infrastruttura di movimento per i diritti sociali e del lavoro \nalle 15:30\, Mondeggi va in Città – percorso di auto-formazione con la partecipazione di Massimo Renno (AERES Venezia)\, Eliana Caramelli e Alessio Capezzuoli
URL:https://rete-ries.it/evento/festival-della-transizione-ecologica/
LOCATION:Firenze\, complesso Le Murate
CATEGORIES:Events
ATTACH;FMTTYPE=image/png:https://rete-ries.it/wp-content/uploads/2023/09/Festival_transizione_ecologica_2023.png
ORGANIZER;CN="Il Villaggio dei Popoli Soc. Coop.":MAILTO:info@villaggiodeipopoli.org
END:VEVENT
BEGIN:VEVENT
DTSTART;TZID=Europe/Rome:20231007T130000
DTEND;TZID=Europe/Rome:20231007T190000
DTSTAMP:20260423T045413
CREATED:20231006T205805Z
LAST-MODIFIED:20231006T205805Z
UID:10000201-1696683600-1696705200@rete-ries.it
SUMMARY:"La Via Maestra" - manifestazione nazionale
DESCRIPTION:Manifestazione nazionale “La via maestra” per la Costituzione e per la Pace il 7 ottobre a Roma\, promossa da oltre 100 associazioni e reti della società civile e sindacale anche nel contesto della settimana globale di mobilitazione per il cessate il fuoco e il negoziato. In piazza con le ragioni dell’obiezione alla guerra insieme a tanti e tante per i diritti ambientali\, sociali e civili nel nome della Costituzione. Una importante convergenza di tematiche e movimenti perché una politica di pace per affermarsi ha bisogno della giustizia.
URL:https://rete-ries.it/evento/la-via-maestra-manifestazione-nazionale/
LOCATION:Piazza San Giovanni\,Roma
CATEGORIES:Events
ATTACH;FMTTYPE=image/png:https://rete-ries.it/wp-content/uploads/2023/10/la_via_maestra_071023.png
END:VEVENT
END:VCALENDAR