BEGIN:VCALENDAR
VERSION:2.0
PRODID:-//RIES - Rete Italiana Economia Solidale - ECPv6.15.20//NONSGML v1.0//EN
CALSCALE:GREGORIAN
METHOD:PUBLISH
X-WR-CALNAME:RIES - Rete Italiana Economia Solidale
X-ORIGINAL-URL:https://rete-ries.it
X-WR-CALDESC:Eventi per RIES - Rete Italiana Economia Solidale
REFRESH-INTERVAL;VALUE=DURATION:PT1H
X-Robots-Tag:noindex
X-PUBLISHED-TTL:PT1H
BEGIN:VTIMEZONE
TZID:Europe/Rome
BEGIN:DAYLIGHT
TZOFFSETFROM:+0100
TZOFFSETTO:+0200
TZNAME:CEST
DTSTART:20220327T010000
END:DAYLIGHT
BEGIN:STANDARD
TZOFFSETFROM:+0200
TZOFFSETTO:+0100
TZNAME:CET
DTSTART:20221030T010000
END:STANDARD
BEGIN:DAYLIGHT
TZOFFSETFROM:+0100
TZOFFSETTO:+0200
TZNAME:CEST
DTSTART:20230326T010000
END:DAYLIGHT
BEGIN:STANDARD
TZOFFSETFROM:+0200
TZOFFSETTO:+0100
TZNAME:CET
DTSTART:20231029T010000
END:STANDARD
BEGIN:DAYLIGHT
TZOFFSETFROM:+0100
TZOFFSETTO:+0200
TZNAME:CEST
DTSTART:20240331T010000
END:DAYLIGHT
BEGIN:STANDARD
TZOFFSETFROM:+0200
TZOFFSETTO:+0100
TZNAME:CET
DTSTART:20241027T010000
END:STANDARD
END:VTIMEZONE
BEGIN:VEVENT
DTSTART;TZID=Europe/Rome:20231211T130000
DTEND;TZID=Europe/Rome:20231211T143000
DTSTAMP:20260423T083155
CREATED:20231211T111609Z
LAST-MODIFIED:20231211T111628Z
UID:10000208-1702299600-1702305000@rete-ries.it
SUMMARY:FaiRevolution\, storie di clima e Commercio Equo e Solidale
DESCRIPTION:Lunedì 11 dicembre WEBINAR di EquoGarantito\, dove si parla di giustizia climatica e impatto della crisi climatica sui produttori di Commercio Equo e Solidale e per commentare i lavori della Cop28 in corso a Dubai. \nUn incontro organizzato da EquoGarantito\, dopo i recenti incontri di formazione in presenza dedicati al nuovo toolkit educativo FaiRevolution\, a cui ne seguiranno altri anche a gennaio 2024\, per approfondire i contenuti con il prezioso supporto di esperti ed esperte. \nInterverranno: \n– Gianluca Ruggieri\, ricercatore all’Università dell’Insubria\, attivista energetico e socio fondatore di Retenergie e di ènostra\, speaker per Radio Poplare per il podcast “Il giusto clima“\n– Sally Sawaya\, coordinatrice dell’organizzazione equosolidale Meru Herbs del Kenya. \nClicca qui per iscriverti al webinar \nFaiRevolution: il toolkit educativo \nIl toolkit\, realizzato da Equo Garantito nell’ambito dell’omonimo progetto Erasmus+ con il contributo dell’Unione Europea\, si rivolge a formatrici\, formatori\, insegnanti\, operatrici\, operatori e volontariə delle organizzazioni di Commercio Equo e Solidale. \nUno strumento operativo che fornisce tracce di lavoro per affrontare con ragazze e ragazzi dai 12 ai 19 anni le principali sfide dei nostri tempi.\nA partire dalle storie delle produttrici e dei produttori di Commercio Equo e Solidale\, il toolkit affronta il tema della sostenibilità sociale ed economica\, della sostenibilità ambientale\, della diversità e inclusione e delle migrazioni. \nPer ciascun tema\, vengono forniti strumenti per coinvolgere le giovani generazioni in attività di storytelling digitale\, favorendo il lavoro di gruppo\, la creatività\, il pensiero critico e il protagonismo giovanile. \nClicca qui per scaricare gratuitamente il TOOLKIT e gli ALTRI MATERIALI DEL PROGETTO
URL:https://rete-ries.it/evento/fairevolution-storie-di-clima-e-commercio-equo-e-solidale/
LOCATION:Online
CATEGORIES:Events
ATTACH;FMTTYPE=image/png:https://rete-ries.it/wp-content/uploads/2023/12/FaiRevolution-1.png
END:VEVENT
END:VCALENDAR