BEGIN:VCALENDAR
VERSION:2.0
PRODID:-//RIES - Rete Italiana Economia Solidale - ECPv6.15.20//NONSGML v1.0//EN
CALSCALE:GREGORIAN
METHOD:PUBLISH
X-WR-CALNAME:RIES - Rete Italiana Economia Solidale
X-ORIGINAL-URL:https://rete-ries.it
X-WR-CALDESC:Eventi per RIES - Rete Italiana Economia Solidale
REFRESH-INTERVAL;VALUE=DURATION:PT1H
X-Robots-Tag:noindex
X-PUBLISHED-TTL:PT1H
BEGIN:VTIMEZONE
TZID:Europe/Rome
BEGIN:DAYLIGHT
TZOFFSETFROM:+0100
TZOFFSETTO:+0200
TZNAME:CEST
DTSTART:20220327T010000
END:DAYLIGHT
BEGIN:STANDARD
TZOFFSETFROM:+0200
TZOFFSETTO:+0100
TZNAME:CET
DTSTART:20221030T010000
END:STANDARD
BEGIN:DAYLIGHT
TZOFFSETFROM:+0100
TZOFFSETTO:+0200
TZNAME:CEST
DTSTART:20230326T010000
END:DAYLIGHT
BEGIN:STANDARD
TZOFFSETFROM:+0200
TZOFFSETTO:+0100
TZNAME:CET
DTSTART:20231029T010000
END:STANDARD
BEGIN:DAYLIGHT
TZOFFSETFROM:+0100
TZOFFSETTO:+0200
TZNAME:CEST
DTSTART:20240331T010000
END:DAYLIGHT
BEGIN:STANDARD
TZOFFSETFROM:+0200
TZOFFSETTO:+0100
TZNAME:CET
DTSTART:20241027T010000
END:STANDARD
END:VTIMEZONE
BEGIN:VEVENT
DTSTART;TZID=Europe/Rome:20231213T180000
DTEND;TZID=Europe/Rome:20231213T200000
DTSTAMP:20260423T083222
CREATED:20231213T161448Z
LAST-MODIFIED:20231213T161448Z
UID:10000210-1702490400-1702497600@rete-ries.it
SUMMARY:Effetto GAS\, il percorso prosegue
DESCRIPTION:Nuovo incontro online di “Effetto GAS” \nNel contesto del tema “Come funzioniamo /2° parte” condivideremo le riposte alle seguenti domande:\n8) Dal GAS sono nate esperienze che investono il territorio? Se sì\, con quali soggetti? Raccontale.\n9) Nel tuo GAS ci sono giovani? Se si \, hanno compiti\, ruoli \, impegni particolari\n10) Rispondi a queste domande a titolo personale o hai condiviso con il tuo GAS? \nEffetto Gas: il percorso | economiasolidale.net
URL:https://rete-ries.it/evento/effetto-gas-il-percorso-prosegue/
LOCATION:Online
CATEGORIES:Events
ATTACH;FMTTYPE=image/jpeg:https://rete-ries.it/wp-content/uploads/2023/11/EffettoGas_800.jpg
END:VEVENT
END:VCALENDAR