BEGIN:VCALENDAR
VERSION:2.0
PRODID:-//RIES - Rete Italiana Economia Solidale - ECPv6.15.20//NONSGML v1.0//EN
CALSCALE:GREGORIAN
METHOD:PUBLISH
X-WR-CALNAME:RIES - Rete Italiana Economia Solidale
X-ORIGINAL-URL:https://rete-ries.it
X-WR-CALDESC:Eventi per RIES - Rete Italiana Economia Solidale
REFRESH-INTERVAL;VALUE=DURATION:PT1H
X-Robots-Tag:noindex
X-PUBLISHED-TTL:PT1H
BEGIN:VTIMEZONE
TZID:Europe/Rome
BEGIN:DAYLIGHT
TZOFFSETFROM:+0100
TZOFFSETTO:+0200
TZNAME:CEST
DTSTART:20230326T010000
END:DAYLIGHT
BEGIN:STANDARD
TZOFFSETFROM:+0200
TZOFFSETTO:+0100
TZNAME:CET
DTSTART:20231029T010000
END:STANDARD
BEGIN:DAYLIGHT
TZOFFSETFROM:+0100
TZOFFSETTO:+0200
TZNAME:CEST
DTSTART:20240331T010000
END:DAYLIGHT
BEGIN:STANDARD
TZOFFSETFROM:+0200
TZOFFSETTO:+0100
TZNAME:CET
DTSTART:20241027T010000
END:STANDARD
BEGIN:DAYLIGHT
TZOFFSETFROM:+0100
TZOFFSETTO:+0200
TZNAME:CEST
DTSTART:20250330T010000
END:DAYLIGHT
BEGIN:STANDARD
TZOFFSETFROM:+0200
TZOFFSETTO:+0100
TZNAME:CET
DTSTART:20251026T010000
END:STANDARD
END:VTIMEZONE
BEGIN:VEVENT
DTSTART;TZID=Europe/Rome:20240130T100000
DTEND;TZID=Europe/Rome:20240130T120000
DTSTAMP:20260423T095016
CREATED:20240123T173502Z
LAST-MODIFIED:20240123T173715Z
UID:10000227-1706608800-1706616000@rete-ries.it
SUMMARY:cont-ACT: Talk e Tavola Rotonda
DESCRIPTION:Due eventi aperti al pubblico per parlare di sostenibilità\, all’interno di cont-ACT\, Commercio Equo e Sostenibile in azione. \nGli appuntamenti aperti al pubblico\, con prenotazione obbligatoria si terranno presso lo Spazio Eventi della fiera: \n\nDomenica 28 gennaio alle ore 17.30 si terrà il talk “Nuove narrazioni per il Fair Trade e per l’Economia Sociale e Solidale” in cui interverranno Alice Pomiato (Aliceful)\, creator digitale di contenuti incentrati sulla sostenibilità\, Nogaye Ndiaye (Leregoledeldirittoperfetto)\, divulgatrice antirazzista e transfemminista e Deborah Lucchetti\, portavoce della campagna Abiti Puliti\, moderate da Imma Baccelliere\, giornalista di Radio Capital.\n\n\nMartedì 30 gennaio dalle ore 10.00\, si svolgerà\, invece\, la tavola rotonda “Filiere sostenibili e due diligence di impresa: buone pratiche e prospettive”. Il dibattito\, moderato da Matteo Macor\, giornalista de La Repubblica\, vedrà un confronto fra Martina Rogato\, consulente di sostenibilità e portavoce campagna Impresa 2030\, Luca Raffaele\, direttore Next – Nuova Economia X Tutti\, Elena Viganò\, docente di economia e estimo rurale presso l’Università degli Studi di Urbino Carlo Bo\, Pietro Fragasso\, presidente della Cooperativa Sociale Pietra di Scarto. Al termine\, previsto per le ore 12\, si terrà un brindisi di chiusura dell’intera manifestazione.\n\nClicca qui per maggiori informazioni
URL:https://rete-ries.it/evento/cont-act-talk-e-alla-tavola-rotonda/2024-01-30/
LOCATION:I frigoriferi milanesi\, Via G.B. Piranesi\, 10\, Milano\, Italy
CATEGORIES:Events
ATTACH;FMTTYPE=image/png:https://rete-ries.it/wp-content/uploads/2024/01/cont-ACT-EquoGarantito-1.png
END:VEVENT
END:VCALENDAR