BEGIN:VCALENDAR
VERSION:2.0
PRODID:-//RIES - Rete Italiana Economia Solidale - ECPv6.15.20//NONSGML v1.0//EN
CALSCALE:GREGORIAN
METHOD:PUBLISH
X-ORIGINAL-URL:https://rete-ries.it
X-WR-CALDESC:Eventi per RIES - Rete Italiana Economia Solidale
REFRESH-INTERVAL;VALUE=DURATION:PT1H
X-Robots-Tag:noindex
X-PUBLISHED-TTL:PT1H
BEGIN:VTIMEZONE
TZID:Europe/Rome
BEGIN:DAYLIGHT
TZOFFSETFROM:+0100
TZOFFSETTO:+0200
TZNAME:CEST
DTSTART:20230326T010000
END:DAYLIGHT
BEGIN:STANDARD
TZOFFSETFROM:+0200
TZOFFSETTO:+0100
TZNAME:CET
DTSTART:20231029T010000
END:STANDARD
BEGIN:DAYLIGHT
TZOFFSETFROM:+0100
TZOFFSETTO:+0200
TZNAME:CEST
DTSTART:20240331T010000
END:DAYLIGHT
BEGIN:STANDARD
TZOFFSETFROM:+0200
TZOFFSETTO:+0100
TZNAME:CET
DTSTART:20241027T010000
END:STANDARD
BEGIN:DAYLIGHT
TZOFFSETFROM:+0100
TZOFFSETTO:+0200
TZNAME:CEST
DTSTART:20250330T010000
END:DAYLIGHT
BEGIN:STANDARD
TZOFFSETFROM:+0200
TZOFFSETTO:+0100
TZNAME:CET
DTSTART:20251026T010000
END:STANDARD
END:VTIMEZONE
BEGIN:VEVENT
DTSTART;TZID=Europe/Rome:20240220T180000
DTEND;TZID=Europe/Rome:20240220T193000
DTSTAMP:20260421T075951
CREATED:20240123T170721Z
LAST-MODIFIED:20240123T170721Z
UID:10000224-1708452000-1708457400@rete-ries.it
SUMMARY:EBC: webinar "Introduzione all'economia e al bilancio del bene comune
DESCRIPTION:Ecco il primo webinar informativo di quest’anno per conoscere la Federazione dell’Economia del Bene Comune: \n—–\nINTRODUZIONE ALL’ECONOMIA e AL BILANCIO DEL BENE COMUNE\nWebinar Introduttivo gratuito \nNon conosci ancora l’Economia del Bene Comune?\nCi segui da un po’ ma non hai ancora avuto occasione di approfondire?\nConosci già il modello EBC ma vorresti presentarlo ad un tuo conoscente?\nGrazie al prezioso contributo dei Consulenti EBC\, verrà offerto un webinar gratuito di introduzione all’Economia del Bene Comune per chiunque sia interessato. \nLink della pagina dove avere info e iscrizioni:\nhttps://www.economia-del-bene-comune.it/evento/introduzione-alleconomia-e-al-bilancio-del-bene-comune-edizione-febbraio-2024/
URL:https://rete-ries.it/evento/ebc-webinar-introduzione-alleconomia-e-al-bilancio-del-bene-comune/
LOCATION:on line
CATEGORIES:Events
ATTACH;FMTTYPE=image/png:https://rete-ries.it/wp-content/uploads/2024/01/Economia-del-Bene-Comune_Webinar-Introduttivo-20-febbraio-24.png
END:VEVENT
END:VCALENDAR