BEGIN:VCALENDAR
VERSION:2.0
PRODID:-//RIES - Rete Italiana Economia Solidale - ECPv6.15.20//NONSGML v1.0//EN
CALSCALE:GREGORIAN
METHOD:PUBLISH
X-WR-CALNAME:RIES - Rete Italiana Economia Solidale
X-ORIGINAL-URL:https://rete-ries.it
X-WR-CALDESC:Eventi per RIES - Rete Italiana Economia Solidale
REFRESH-INTERVAL;VALUE=DURATION:PT1H
X-Robots-Tag:noindex
X-PUBLISHED-TTL:PT1H
BEGIN:VTIMEZONE
TZID:Europe/Rome
BEGIN:DAYLIGHT
TZOFFSETFROM:+0100
TZOFFSETTO:+0200
TZNAME:CEST
DTSTART:20230326T010000
END:DAYLIGHT
BEGIN:STANDARD
TZOFFSETFROM:+0200
TZOFFSETTO:+0100
TZNAME:CET
DTSTART:20231029T010000
END:STANDARD
BEGIN:DAYLIGHT
TZOFFSETFROM:+0100
TZOFFSETTO:+0200
TZNAME:CEST
DTSTART:20240331T010000
END:DAYLIGHT
BEGIN:STANDARD
TZOFFSETFROM:+0200
TZOFFSETTO:+0100
TZNAME:CET
DTSTART:20241027T010000
END:STANDARD
BEGIN:DAYLIGHT
TZOFFSETFROM:+0100
TZOFFSETTO:+0200
TZNAME:CEST
DTSTART:20250330T010000
END:DAYLIGHT
BEGIN:STANDARD
TZOFFSETFROM:+0200
TZOFFSETTO:+0100
TZNAME:CET
DTSTART:20251026T010000
END:STANDARD
END:VTIMEZONE
BEGIN:VEVENT
DTSTART;TZID=Europe/Rome:20240227T210000
DTEND;TZID=Europe/Rome:20240227T223000
DTSTAMP:20260420T231236
CREATED:20240216T095531Z
LAST-MODIFIED:20240216T101140Z
UID:10000233-1709067600-1709073000@rete-ries.it
SUMMARY:Comunità Energetiche Rinnovabili: uno strumento di democrazia
DESCRIPTION:Negli ultimi anni ci siamo trovati ad assistere ad eventi di grande impatto globale che\, pur  non sempre toccandoci direttamente\, hanno avuto un effetto concreto sulla nostra vita di  tutti i giorni. \nL’epidemia di COVID-19 e la guerra in Ucraina sono i due esempi più eclatanti\, il loro effetto più evidente è oggi l’aumento dell’inflazione che subiamo tutti e che ci fa sentire irrimediabilmente in balia di decisioni prese altrove e non sempre nei nostri interessi. Se vogliamo impegnarci a riprendere almeno in parte il controllo\, le *Comunità Energetiche* sono oggi un’opportunità di reagire alla sensazione di doversi sempre adattare a tutti gli sbalzi dei prezzi dell’energia\, decisi in borse lontane e secondo criteri difficilmente decifrabili. \nUna Comunità Energetica infatti è un’associazione senza scopo di lucro che si pone l’obiettivo di produrre\, consumare e gestire l’energia tramite impianti a disposizione dei consumatori. Questo ha come risultato un ritorno alla gestione dal basso con riflessi positivi di vario tipo. \nNe parliamo martedì 27 febbraio 2024 alle ore 21 \nPer partecipare:  https://meet.jit.si/CER_27-02-24 \n 
URL:https://rete-ries.it/evento/comunita-energetiche-rinnovabili-uno-strumento-di-democrazia/
LOCATION:Online
CATEGORIES:Events
ATTACH;FMTTYPE=image/jpeg:https://rete-ries.it/wp-content/uploads/2024/02/incontro-CER.jpg
END:VEVENT
END:VCALENDAR