BEGIN:VCALENDAR
VERSION:2.0
PRODID:-//RIES - Rete Italiana Economia Solidale - ECPv6.15.20//NONSGML v1.0//EN
CALSCALE:GREGORIAN
METHOD:PUBLISH
X-WR-CALNAME:RIES - Rete Italiana Economia Solidale
X-ORIGINAL-URL:https://rete-ries.it
X-WR-CALDESC:Eventi per RIES - Rete Italiana Economia Solidale
REFRESH-INTERVAL;VALUE=DURATION:PT1H
X-Robots-Tag:noindex
X-PUBLISHED-TTL:PT1H
BEGIN:VTIMEZONE
TZID:Europe/Rome
BEGIN:DAYLIGHT
TZOFFSETFROM:+0100
TZOFFSETTO:+0200
TZNAME:CEST
DTSTART:20230326T010000
END:DAYLIGHT
BEGIN:STANDARD
TZOFFSETFROM:+0200
TZOFFSETTO:+0100
TZNAME:CET
DTSTART:20231029T010000
END:STANDARD
BEGIN:DAYLIGHT
TZOFFSETFROM:+0100
TZOFFSETTO:+0200
TZNAME:CEST
DTSTART:20240331T010000
END:DAYLIGHT
BEGIN:STANDARD
TZOFFSETFROM:+0200
TZOFFSETTO:+0100
TZNAME:CET
DTSTART:20241027T010000
END:STANDARD
BEGIN:DAYLIGHT
TZOFFSETFROM:+0100
TZOFFSETTO:+0200
TZNAME:CEST
DTSTART:20250330T010000
END:DAYLIGHT
BEGIN:STANDARD
TZOFFSETFROM:+0200
TZOFFSETTO:+0100
TZNAME:CET
DTSTART:20251026T010000
END:STANDARD
END:VTIMEZONE
BEGIN:VEVENT
DTSTART;TZID=Europe/Rome:20240228T180000
DTEND;TZID=Europe/Rome:20240228T210000
DTSTAMP:20260420T231212
CREATED:20240119T160448Z
LAST-MODIFIED:20240119T161251Z
UID:10000214-1709143200-1709154000@rete-ries.it
SUMMARY:Laboratori aperti di Mag2
DESCRIPTION:Mag2 propone un percorso di laboratori aperti a soci e non soci dal titolo “Sostenibilità condivisa per economie di comunità” \nPartecipare a uno o più incontri è un modo per acquisire competenze utili a livello personale e da utilizzare nelle proprie reti\, ma anche per esplorare una rete di relazioni nuove. Per MAG2 questa esperienza è l’occasione per rivitalizzare la rete attuale dei soci ampliandola anche verso le nuove generazioni\, per costruire percorsi nuovi di circolazione della ricchezza\, non solo di denaro! \nSi tratta di laboratori a numero chiuso (20 partecipanti massimo) per questo è consigliabile iscriversi il prima possibile. \nCALENDARIO\, TEMI E RELATORI\n1. Mercoledì 28 Febbraio orario 18-21- con pausa intermedia\nIl clima cambia…tutto sta cambiando!\n\nDiamoci una cassetta degli attrezzi per affrontare la crisi climatica \nHimby -Hot In My Backyard APS ( www.himby.org) e Gloria Gelmi (autrice del libro il Clima Cambio…anch’io!) \n— \n2. Mercoledì 13 Marzo -orario 18-21 con pausa intermedia\nQuanto denaro ci serve per vivere bene?\nLe potenzialità del bilancio familiare oltre il Dare e l’Avere: uscire dal senso di impotenza dei soldi che non bastano mai per sperimentare una visione del denaro che muove le relazioni intorno a noi. \nMAG2 – Monica Cellini e Chiara Dallavalle \n— \n3. Sabato 13 Aprile- orario 10-13 con pausa intermedia\nEconomia e finanza a portata di mano\nCome si legge una busta paga o una bolletta? Quali sono gli strumenti di finanza etica disponibili oggi? Orientarsi tra le svariate offerte di conti correnti\, bancomat e carta di credito. \nMAG2 – Sebastiano Aleo\, Gianni Fasciolo e Michelle Tchokona \n— \n4. Mercoledì 25 Settembre – orario 18-21 con pausa intermedia\nEconomie di comunità\nA partire dalla storia del mutualismo\, esploriamo le pratiche di scambio e reciprocità dell’Oggi: dalle App alle Casse Comuni fino alla sperimentazione di sostenibilità condivisa nelle Mag. \nMAG2 – Barbara Aiolfi e Davide Biolghini \n— \n5. Sabato 26 Ottobre-orario 9\,30-13-con pausa intermedia\nFacilitare la condivisione\nCultura e strumenti essenziali di facilitazione per la vita dei gruppi e delle organizzazioni collettive per prendere decisioni condivise e affrontare i conflitti. \nElena Hogan e Marta Scalvi (Facilitatrici socie Mag6\, in formazione a FacilitArte) \n— \nClicca qui per i dettagli relativi ai singoli incontri e per iscriverti \n  \n     
URL:https://rete-ries.it/evento/laboratori-aperti-di-mag2/2024-02-28/
LOCATION:Mag2\, via Angera 3\, Milano\, 20125\, Italy
CATEGORIES:Events
ATTACH;FMTTYPE=image/jpeg:https://rete-ries.it/wp-content/uploads/2024/01/Laboratori-Mag2.jpg
END:VEVENT
END:VCALENDAR