BEGIN:VCALENDAR
VERSION:2.0
PRODID:-//RIES - Rete Italiana Economia Solidale - ECPv6.15.20//NONSGML v1.0//EN
CALSCALE:GREGORIAN
METHOD:PUBLISH
X-ORIGINAL-URL:https://rete-ries.it
X-WR-CALDESC:Eventi per RIES - Rete Italiana Economia Solidale
REFRESH-INTERVAL;VALUE=DURATION:PT1H
X-Robots-Tag:noindex
X-PUBLISHED-TTL:PT1H
BEGIN:VTIMEZONE
TZID:Europe/Rome
BEGIN:DAYLIGHT
TZOFFSETFROM:+0100
TZOFFSETTO:+0200
TZNAME:CEST
DTSTART:20230326T010000
END:DAYLIGHT
BEGIN:STANDARD
TZOFFSETFROM:+0200
TZOFFSETTO:+0100
TZNAME:CET
DTSTART:20231029T010000
END:STANDARD
BEGIN:DAYLIGHT
TZOFFSETFROM:+0100
TZOFFSETTO:+0200
TZNAME:CEST
DTSTART:20240331T010000
END:DAYLIGHT
BEGIN:STANDARD
TZOFFSETFROM:+0200
TZOFFSETTO:+0100
TZNAME:CET
DTSTART:20241027T010000
END:STANDARD
BEGIN:DAYLIGHT
TZOFFSETFROM:+0100
TZOFFSETTO:+0200
TZNAME:CEST
DTSTART:20250330T010000
END:DAYLIGHT
BEGIN:STANDARD
TZOFFSETFROM:+0200
TZOFFSETTO:+0100
TZNAME:CET
DTSTART:20251026T010000
END:STANDARD
END:VTIMEZONE
BEGIN:VEVENT
DTSTART;TZID=Europe/Rome:20240312T204000
DTEND;TZID=Europe/Rome:20240312T223000
DTSTAMP:20260420T231612
CREATED:20240301T231507Z
LAST-MODIFIED:20240301T232732Z
UID:10000234-1710276000-1710282600@rete-ries.it
SUMMARY:Presentazione dell'app EQUA
DESCRIPTION:E’ nata EQUA\, una nuova guida al consumo responsabile\, evoluzione digitale della guida al consumo critico pubblicata a suo tempo dal Centro Nuovo Modello di Sviluppo. \nMarco Ratti\, direttore responsabile di Osservatorio Diritti\, l’associazione che sta lavorando da quasi 3 anni allo sviluppo del progetto\, invita alla presentazione dell’app che permetterà di selezionare le aziende in base al rispetto dei diritti umani\, dell’ambiente e degli animali. \nL’incontro online è rivolto a tutti i GAS d’Italia e si terrà il 12 marzo alle ore 20.40 online. \nMandate una mail a questo indirizzo per confermare la propria partecipazione e ricevere il link per collegarsi all’incontro: \nmarco.ratti@osservatoriodiritti.it
URL:https://rete-ries.it/evento/presentazione-dellapp-equa/
LOCATION:Online
CATEGORIES:Events
ATTACH;FMTTYPE=image/jpeg:https://rete-ries.it/wp-content/uploads/2024/03/EQUAAPP.jpg
END:VEVENT
END:VCALENDAR