BEGIN:VCALENDAR
VERSION:2.0
PRODID:-//RIES - Rete Italiana Economia Solidale - ECPv6.15.20//NONSGML v1.0//EN
CALSCALE:GREGORIAN
METHOD:PUBLISH
X-ORIGINAL-URL:https://rete-ries.it
X-WR-CALDESC:Eventi per RIES - Rete Italiana Economia Solidale
REFRESH-INTERVAL;VALUE=DURATION:PT1H
X-Robots-Tag:noindex
X-PUBLISHED-TTL:PT1H
BEGIN:VTIMEZONE
TZID:Europe/Rome
BEGIN:DAYLIGHT
TZOFFSETFROM:+0100
TZOFFSETTO:+0200
TZNAME:CEST
DTSTART:20230326T010000
END:DAYLIGHT
BEGIN:STANDARD
TZOFFSETFROM:+0200
TZOFFSETTO:+0100
TZNAME:CET
DTSTART:20231029T010000
END:STANDARD
BEGIN:DAYLIGHT
TZOFFSETFROM:+0100
TZOFFSETTO:+0200
TZNAME:CEST
DTSTART:20240331T010000
END:DAYLIGHT
BEGIN:STANDARD
TZOFFSETFROM:+0200
TZOFFSETTO:+0100
TZNAME:CET
DTSTART:20241027T010000
END:STANDARD
BEGIN:DAYLIGHT
TZOFFSETFROM:+0100
TZOFFSETTO:+0200
TZNAME:CEST
DTSTART:20250330T010000
END:DAYLIGHT
BEGIN:STANDARD
TZOFFSETFROM:+0200
TZOFFSETTO:+0100
TZNAME:CET
DTSTART:20251026T010000
END:STANDARD
END:VTIMEZONE
BEGIN:VEVENT
DTSTART;TZID=Europe/Rome:20240314T211500
DTEND;TZID=Europe/Rome:20240314T223000
DTSTAMP:20260420T231605
CREATED:20240213T091102Z
LAST-MODIFIED:20240213T091818Z
UID:10000232-1710450900-1710455400@rete-ries.it
SUMMARY:Incontri "Mi presento" del progetto Furgoncino Solidale
DESCRIPTION:Serie di incontri proposti dal progetto del Furgoncino Solidale\, con la finalità di far conoscere da vicino i produttori e i progetti solidali aderenti. \n3 serate\, sulla piattaforma Jitsi all’indirizzo https://meet.jit.si/furgoncinosolidale (ore 21.15)\, aperte a tutti gli interessati (basta seguire il link\, non ci sono programmi da scaricare). \nClicca qui per leggere l’articolo
URL:https://rete-ries.it/evento/incontri-mi-presento-del-progetto-furgoncino-solidale/2024-03-14/
LOCATION:Online
CATEGORIES:Events
ATTACH;FMTTYPE=image/jpeg:https://rete-ries.it/wp-content/uploads/2024/02/Mi-presento_.jpeg
END:VEVENT
END:VCALENDAR