BEGIN:VCALENDAR
VERSION:2.0
PRODID:-//RIES - Rete Italiana Economia Solidale - ECPv6.15.20//NONSGML v1.0//EN
CALSCALE:GREGORIAN
METHOD:PUBLISH
X-ORIGINAL-URL:https://rete-ries.it
X-WR-CALDESC:Eventi per RIES - Rete Italiana Economia Solidale
REFRESH-INTERVAL;VALUE=DURATION:PT1H
X-Robots-Tag:noindex
X-PUBLISHED-TTL:PT1H
BEGIN:VTIMEZONE
TZID:Europe/Rome
BEGIN:DAYLIGHT
TZOFFSETFROM:+0100
TZOFFSETTO:+0200
TZNAME:CEST
DTSTART:20230326T010000
END:DAYLIGHT
BEGIN:STANDARD
TZOFFSETFROM:+0200
TZOFFSETTO:+0100
TZNAME:CET
DTSTART:20231029T010000
END:STANDARD
BEGIN:DAYLIGHT
TZOFFSETFROM:+0100
TZOFFSETTO:+0200
TZNAME:CEST
DTSTART:20240331T010000
END:DAYLIGHT
BEGIN:STANDARD
TZOFFSETFROM:+0200
TZOFFSETTO:+0100
TZNAME:CET
DTSTART:20241027T010000
END:STANDARD
BEGIN:DAYLIGHT
TZOFFSETFROM:+0100
TZOFFSETTO:+0200
TZNAME:CEST
DTSTART:20250330T010000
END:DAYLIGHT
BEGIN:STANDARD
TZOFFSETFROM:+0200
TZOFFSETTO:+0100
TZNAME:CET
DTSTART:20251026T010000
END:STANDARD
END:VTIMEZONE
BEGIN:VEVENT
DTSTART;TZID=Europe/Rome:20240508T180000
DTEND;TZID=Europe/Rome:20240508T190000
DTSTAMP:20260420T203318
CREATED:20240423T215815Z
LAST-MODIFIED:20240517T182432Z
UID:10000247-1715191200-1715194800@rete-ries.it
SUMMARY:Bilancia la filiera con il Bilancio del Bene Comune
DESCRIPTION:Bilancia la tua filiera! \nUn seminario introduttivo al Bilancio del Bene Comune come strumento per mostrare il valore della tua filiera e delle tue scelte d’impresa\, pensato in particolar modo per i produttori dei Gas e per i consum-attori!\nTi aspettiamo per dimostrarti come il Bilancio permette a te produttore di comunicare e valorizzare le tue buone pratiche di economia solidale e per ascoltare la testimonianza di CAES: un’impresa dell’Economia Solidale che ha già adottato questo modello. \nL’incontro si tiene online l’8 maggio 2024 alle 18. \nClicca qui per registrarti sulla piattaforma zoom \n 
URL:https://rete-ries.it/evento/bilancia-la-filiera-con-il-bilancio-del-bene-comune/
LOCATION:Online
CATEGORIES:Events
ATTACH;FMTTYPE=image/jpeg:https://rete-ries.it/wp-content/uploads/2024/04/BilanciaFiliera_s.jpg
END:VEVENT
END:VCALENDAR