BEGIN:VCALENDAR
VERSION:2.0
PRODID:-//RIES - Rete Italiana Economia Solidale - ECPv6.15.20//NONSGML v1.0//EN
CALSCALE:GREGORIAN
METHOD:PUBLISH
X-ORIGINAL-URL:https://rete-ries.it
X-WR-CALDESC:Eventi per RIES - Rete Italiana Economia Solidale
REFRESH-INTERVAL;VALUE=DURATION:PT1H
X-Robots-Tag:noindex
X-PUBLISHED-TTL:PT1H
BEGIN:VTIMEZONE
TZID:Europe/Rome
BEGIN:DAYLIGHT
TZOFFSETFROM:+0100
TZOFFSETTO:+0200
TZNAME:CEST
DTSTART:20230326T010000
END:DAYLIGHT
BEGIN:STANDARD
TZOFFSETFROM:+0200
TZOFFSETTO:+0100
TZNAME:CET
DTSTART:20231029T010000
END:STANDARD
BEGIN:DAYLIGHT
TZOFFSETFROM:+0100
TZOFFSETTO:+0200
TZNAME:CEST
DTSTART:20240331T010000
END:DAYLIGHT
BEGIN:STANDARD
TZOFFSETFROM:+0200
TZOFFSETTO:+0100
TZNAME:CET
DTSTART:20241027T010000
END:STANDARD
BEGIN:DAYLIGHT
TZOFFSETFROM:+0100
TZOFFSETTO:+0200
TZNAME:CEST
DTSTART:20250330T010000
END:DAYLIGHT
BEGIN:STANDARD
TZOFFSETFROM:+0200
TZOFFSETTO:+0100
TZNAME:CET
DTSTART:20251026T010000
END:STANDARD
END:VTIMEZONE
BEGIN:VEVENT
DTSTART;TZID=Europe/Rome:20240913T150000
DTEND;TZID=Europe/Rome:20240913T180000
DTSTAMP:20260420T150809
CREATED:20240912T213505Z
LAST-MODIFIED:20240912T213505Z
UID:10000270-1726239600-1726250400@rete-ries.it
SUMMARY:Lentamente\, mangiare
DESCRIPTION:Appuntamento a Poplar Cult con Davide Zambelli e Gianvito Fanelli \n \nL’Economia Solidale torna con un nuovo APPUNTAMENTO GRATUITO venerdì 13 settembre alle 15.00! \nRifletteremo sulla necessità di rallentare\, di prendersi il tempo per oziare\, godersi la compagnia e vivere in maniera consapevole\, riscoprendo la bellezza\, il valore e la magia delle cose semplici. \nE lo faremo con due ospiti speciali: \n\nGianvito Fanelli (Vita Lenta) | designer\, food writer\, communication manager di LOI e autore della newsletter La Colazione dei Campioni (colazione.email); si occupa di consulenza in branding\, content design ed eventi nel settore pubblico e privato.\nDavide Zambelli | giovane food blogger appassionato di cucina e di intrattenimento\, racconta da sempre le montagne del Trentino attraverso opere video\, podcast\, blog e foto. Il suo motto è “non ho mai cucinato in silenzio”.\n\nCome sempre modera Andreas Fernandez\, sociologo della comunicazione ed ecologista.\n \n 
URL:https://rete-ries.it/evento/lentamente-mangiare/
LOCATION:Piazza di Piedicastello\, piazza Piedicastello\, Trento\, Italy
CATEGORIES:Events
ATTACH;FMTTYPE=image/png:https://rete-ries.it/wp-content/uploads/2024/09/cult-poplar-1170x650-1.png
END:VEVENT
END:VCALENDAR