BEGIN:VCALENDAR
VERSION:2.0
PRODID:-//RIES - Rete Italiana Economia Solidale - ECPv6.15.20//NONSGML v1.0//EN
CALSCALE:GREGORIAN
METHOD:PUBLISH
X-ORIGINAL-URL:https://rete-ries.it
X-WR-CALDESC:Eventi per RIES - Rete Italiana Economia Solidale
REFRESH-INTERVAL;VALUE=DURATION:PT1H
X-Robots-Tag:noindex
X-PUBLISHED-TTL:PT1H
BEGIN:VTIMEZONE
TZID:Europe/Rome
BEGIN:DAYLIGHT
TZOFFSETFROM:+0100
TZOFFSETTO:+0200
TZNAME:CEST
DTSTART:20230326T010000
END:DAYLIGHT
BEGIN:STANDARD
TZOFFSETFROM:+0200
TZOFFSETTO:+0100
TZNAME:CET
DTSTART:20231029T010000
END:STANDARD
BEGIN:DAYLIGHT
TZOFFSETFROM:+0100
TZOFFSETTO:+0200
TZNAME:CEST
DTSTART:20240331T010000
END:DAYLIGHT
BEGIN:STANDARD
TZOFFSETFROM:+0200
TZOFFSETTO:+0100
TZNAME:CET
DTSTART:20241027T010000
END:STANDARD
BEGIN:DAYLIGHT
TZOFFSETFROM:+0100
TZOFFSETTO:+0200
TZNAME:CEST
DTSTART:20250330T010000
END:DAYLIGHT
BEGIN:STANDARD
TZOFFSETFROM:+0200
TZOFFSETTO:+0100
TZNAME:CET
DTSTART:20251026T010000
END:STANDARD
END:VTIMEZONE
BEGIN:VEVENT
DTSTART;VALUE=DATE:20240920
DTEND;VALUE=DATE:20240923
DTSTAMP:20260420T150723
CREATED:20240719T091149Z
LAST-MODIFIED:20240921T124012Z
UID:10000267-1726790400-1727049599@rete-ries.it
SUMMARY:TuttaUnAltraCosa 2024 - Save the Date
DESCRIPTION:DESIDERARE IL CAMBIAMENTO\nFestteggiamo insieme i 30 anni del festival nazionale del commercio equo e solidale! \nUn movimento capace di dare scacco alle convenzioni\, alla sottomissione di una realtà capitalista per essere i pedoni del cambiamento possibile e di un desiderio che si rinnova. \nSegna la data: 20-21-22 settembre a Padova! \nRicordiamo che sabato pomeriggio 21 settembre alle ore 16\, nello Spazio incontri in piazza Eremitani è previsto l’incontro “Comunità e Distretti di Economia Solidale” in collaborazione con i distretti della Rete Italiana Economia Solidale (RIES)\, condotto da Jason Nardi e Gabriella D’Amico. \nInterverranno\, tra gli altri\, Matteo Rossi (DES Bergamasca)\, Marco Riccato (DES Oltreconfin / Forum ES Triveneto)\, Virginia Meo (Oltremercato Salento – Lecce)\, Ada Rossi (DES Altrotirreno)\, Massimo Renno (Aeres Venezia)… \nClicca qui per scaricare il programma
URL:https://rete-ries.it/evento/tuttaunaltracosa-2024-save-the-date/
LOCATION:Tuttaunaltracosa – Padova\, Piazza Eremitani\, Padova\, Italy
CATEGORIES:Events
ATTACH;FMTTYPE=image/jpeg:https://rete-ries.it/wp-content/uploads/2024/07/TUAC_SaveTheDate_2024-1536x1127-1.jpg
END:VEVENT
END:VCALENDAR