BEGIN:VCALENDAR
VERSION:2.0
PRODID:-//RIES - Rete Italiana Economia Solidale - ECPv6.15.20//NONSGML v1.0//EN
CALSCALE:GREGORIAN
METHOD:PUBLISH
X-ORIGINAL-URL:https://rete-ries.it
X-WR-CALDESC:Eventi per RIES - Rete Italiana Economia Solidale
REFRESH-INTERVAL;VALUE=DURATION:PT1H
X-Robots-Tag:noindex
X-PUBLISHED-TTL:PT1H
BEGIN:VTIMEZONE
TZID:Europe/Rome
BEGIN:DAYLIGHT
TZOFFSETFROM:+0100
TZOFFSETTO:+0200
TZNAME:CEST
DTSTART:20230326T010000
END:DAYLIGHT
BEGIN:STANDARD
TZOFFSETFROM:+0200
TZOFFSETTO:+0100
TZNAME:CET
DTSTART:20231029T010000
END:STANDARD
BEGIN:DAYLIGHT
TZOFFSETFROM:+0100
TZOFFSETTO:+0200
TZNAME:CEST
DTSTART:20240331T010000
END:DAYLIGHT
BEGIN:STANDARD
TZOFFSETFROM:+0200
TZOFFSETTO:+0100
TZNAME:CET
DTSTART:20241027T010000
END:STANDARD
BEGIN:DAYLIGHT
TZOFFSETFROM:+0100
TZOFFSETTO:+0200
TZNAME:CEST
DTSTART:20250330T010000
END:DAYLIGHT
BEGIN:STANDARD
TZOFFSETFROM:+0200
TZOFFSETTO:+0100
TZNAME:CET
DTSTART:20251026T010000
END:STANDARD
END:VTIMEZONE
BEGIN:VEVENT
DTSTART;TZID=Europe/Rome:20240924T173000
DTEND;TZID=Europe/Rome:20240924T190000
DTSTAMP:20260420T150815
CREATED:20240924T140450Z
LAST-MODIFIED:20240924T140450Z
UID:10000272-1727199000-1727204400@rete-ries.it
SUMMARY:I sentieri di Etika a Trento
DESCRIPTION:I sentieri di Etika: muoversi per una comunità umanamente ed ecologicamente sostenibile \nUn nuovo INCONTRO GRATUITO con al termine degustazione dei prodotti del DES Agricoltura Sociale. \nNella Sala Falconetto di Palazzo Geremia di Trento\, Sara Segantin\, attivista e giornalista\, porterà riflessioni e buone pratiche per creare comunità più solidali e sostenibili\, al fine di superare l’indifferenza e creare legami forti. \nCon lei dialogheranno: \n\nStefano Musaico\, coordinatore del Centro per l’Economia Solidale\nAndreas Fernandez\, referente per la comunicazione del Centro Servizi per il Volontariato Trentino
URL:https://rete-ries.it/evento/i-sentieri-di-etika-a-trento/
LOCATION:sala Falconetto in Palazzo Geremia\, via Rodolfo Belenzani\, 20\, Trento\, Italy
CATEGORIES:Events
ATTACH;FMTTYPE=image/jpeg:https://rete-ries.it/wp-content/uploads/2024/09/etika_s.jpg
END:VEVENT
END:VCALENDAR