BEGIN:VCALENDAR
VERSION:2.0
PRODID:-//RIES - Rete Italiana Economia Solidale - ECPv6.15.20//NONSGML v1.0//EN
CALSCALE:GREGORIAN
METHOD:PUBLISH
X-ORIGINAL-URL:https://rete-ries.it
X-WR-CALDESC:Eventi per RIES - Rete Italiana Economia Solidale
REFRESH-INTERVAL;VALUE=DURATION:PT1H
X-Robots-Tag:noindex
X-PUBLISHED-TTL:PT1H
BEGIN:VTIMEZONE
TZID:Europe/Rome
BEGIN:DAYLIGHT
TZOFFSETFROM:+0100
TZOFFSETTO:+0200
TZNAME:CEST
DTSTART:20230326T010000
END:DAYLIGHT
BEGIN:STANDARD
TZOFFSETFROM:+0200
TZOFFSETTO:+0100
TZNAME:CET
DTSTART:20231029T010000
END:STANDARD
BEGIN:DAYLIGHT
TZOFFSETFROM:+0100
TZOFFSETTO:+0200
TZNAME:CEST
DTSTART:20240331T010000
END:DAYLIGHT
BEGIN:STANDARD
TZOFFSETFROM:+0200
TZOFFSETTO:+0100
TZNAME:CET
DTSTART:20241027T010000
END:STANDARD
BEGIN:DAYLIGHT
TZOFFSETFROM:+0100
TZOFFSETTO:+0200
TZNAME:CEST
DTSTART:20250330T010000
END:DAYLIGHT
BEGIN:STANDARD
TZOFFSETFROM:+0200
TZOFFSETTO:+0100
TZNAME:CET
DTSTART:20251026T010000
END:STANDARD
END:VTIMEZONE
BEGIN:VEVENT
DTSTART;TZID=Europe/Rome:20240928T180000
DTEND;TZID=Europe/Rome:20240928T193000
DTSTAMP:20260420T150817
CREATED:20240924T155458Z
LAST-MODIFIED:20240924T190732Z
UID:10000280-1727546400-1727551800@rete-ries.it
SUMMARY:Incontro sulle CERS alla Green Week 2024 di Milano
DESCRIPTION:Sabato 28 settembre 2024 alle ore 18\, nell’ambito della Green Week 2024 di Milano\, si terrà un incontro sulle Comunità Energetiche Rinnovabili e Solidali\, durante il quale saranno presenti alcuni dei referenti della nascente CERS di Castello Cabiaglio per raccontare la loro esperienza\, assieme a Davide Biolghini (presidente di CO-energia)\, che sulle CERS (Comunità di Energia Rinnovabile Solidali) darà un inquadramento storico e normativo\, ma anche etico e valoriale. \nL’appuntamento è aperto a tutta la cittadinanza. \nIngresso da via Isocrate 25 o dal Parco di Villa Finzi. \nSeguirà piccolo rinfresco ad offerta libera a sostegno degli patto di collaborazione con gli Orti di via Isocrate – Villa Finzi che raccoglie molte realtà del quartiere nella valorizzazione del bene comune.
URL:https://rete-ries.it/evento/incontro-sulle-cers-alla-green-week-2024-di-milano/
LOCATION:Orti di Villa Finzi\, via Isocrate\, 25\, Milano\, Italy
CATEGORIES:Events
ATTACH;FMTTYPE=image/jpeg:https://rete-ries.it/wp-content/uploads/2024/09/CER_GreenWeek_s.jpg
END:VEVENT
END:VCALENDAR