BEGIN:VCALENDAR
VERSION:2.0
PRODID:-//RIES - Rete Italiana Economia Solidale - ECPv6.15.20//NONSGML v1.0//EN
CALSCALE:GREGORIAN
METHOD:PUBLISH
X-ORIGINAL-URL:https://rete-ries.it
X-WR-CALDESC:Eventi per RIES - Rete Italiana Economia Solidale
REFRESH-INTERVAL;VALUE=DURATION:PT1H
X-Robots-Tag:noindex
X-PUBLISHED-TTL:PT1H
BEGIN:VTIMEZONE
TZID:Europe/Rome
BEGIN:DAYLIGHT
TZOFFSETFROM:+0100
TZOFFSETTO:+0200
TZNAME:CEST
DTSTART:20230326T010000
END:DAYLIGHT
BEGIN:STANDARD
TZOFFSETFROM:+0200
TZOFFSETTO:+0100
TZNAME:CET
DTSTART:20231029T010000
END:STANDARD
BEGIN:DAYLIGHT
TZOFFSETFROM:+0100
TZOFFSETTO:+0200
TZNAME:CEST
DTSTART:20240331T010000
END:DAYLIGHT
BEGIN:STANDARD
TZOFFSETFROM:+0200
TZOFFSETTO:+0100
TZNAME:CET
DTSTART:20241027T010000
END:STANDARD
BEGIN:DAYLIGHT
TZOFFSETFROM:+0100
TZOFFSETTO:+0200
TZNAME:CEST
DTSTART:20250330T010000
END:DAYLIGHT
BEGIN:STANDARD
TZOFFSETFROM:+0200
TZOFFSETTO:+0100
TZNAME:CET
DTSTART:20251026T010000
END:STANDARD
END:VTIMEZONE
BEGIN:VEVENT
DTSTART;VALUE=DATE:20240930
DTEND;VALUE=DATE:20241101
DTSTAMP:20260420T134627
CREATED:20240930T150753Z
LAST-MODIFIED:20240930T150900Z
UID:10000283-1727654400-1730419199@rete-ries.it
SUMMARY:Tornano le settimane Fairtrade
DESCRIPTION:Da oggi e per tutto il mese di ottobre\, le aziende partner di Fairtrade Italia si uniscono per offrire promozioni e iniziative dedicate alla spesa responsabile con le Settimane Fairtrade\, campagna di promozione dei prodotti del commercio equo \nAcquistando un prodotto Fairtrade tante persone avranno condizioni più dignitose\, ricevendo un compenso adeguato per il loro lavoro. \nVisita il sito Settimane.Fairtrade.it per scoprire tutti i dettagli e le promozioni attive. \n 
URL:https://rete-ries.it/evento/tornano-le-settimane-fairtrade/
LOCATION:Italia\, Italy
CATEGORIES:Events
ATTACH;FMTTYPE=image/jpeg:https://rete-ries.it/wp-content/uploads/2024/09/fair-trade.jpg
END:VEVENT
BEGIN:VEVENT
DTSTART;VALUE=DATE:20241017
DTEND;VALUE=DATE:20241021
DTSTAMP:20260420T134627
CREATED:20240927T122959Z
LAST-MODIFIED:20241001T181902Z
UID:10000281-1729123200-1729468799@rete-ries.it
SUMMARY:Festivalori\, il Festival della finanza etica
DESCRIPTION:Torna il Festival della finanza etica a Modena. \nQuattro giorni di eventi\, incontri\, giochi di ruolo\, laboratori per capire la quotidianità. \nLeggi di più
URL:https://rete-ries.it/evento/festivalori-il-festival-della-finanza-etica/
LOCATION:Modena\, Modena\, Italy
CATEGORIES:Events
ATTACH;FMTTYPE=image/webp:https://rete-ries.it/wp-content/uploads/2024/09/Festivalori.webp
END:VEVENT
BEGIN:VEVENT
DTSTART;VALUE=DATE:20241018
DTEND;VALUE=DATE:20241021
DTSTAMP:20260420T134627
CREATED:20241005T150303Z
LAST-MODIFIED:20241005T150342Z
UID:10000287-1729209600-1729468799@rete-ries.it
SUMMARY:ReThinkable 2024
DESCRIPTION:Torna il Festival Transfrontaliero Delle Economie Trasformative\nIl socio Ries ProDES Friuli Venezia Giulia in collaborazione con le Università di Udine\, di Trieste e di Nova Gorica\, Legambiente FVG\, l’Associazione per la decrescita\, l’unità scientifica ZRC SAZU (Nova Gorica) e l’ong CVCS (Gorizia) propone anche quest’anno un Festival transfrontaliero che possa essere luogo di conoscenza\, incontro e crescita tra persone ed esperienze che stanno sperimentando altri modi di fare economia. \nRETHINKABLE vuol essere una cornice in cui ragionare e confrontarsi\, tutti insieme\, su nuove idee che possano trasformare il modello socioeconomico in cui siamo inseriti\, e che da tempo sta dimostrando i suoi limiti. \nCosa sono le Economie Trasformative? \nLe economie trasformative si riferiscono a un “ecosistema” di pratiche e modelli che ormai da tempo emergono in risposta alle molteplici crisi che interessano il nostro pianeta: quella finanziaria ed economica\, quella ambientale e climatica\, quella sociale ed umana. Il Festival intende divulgare cultura rispetto a percorsi\, modelli e strumenti che guardano a una società rinnovata. \nIl Festival è nato nel 2022 per divulgare e promuovere le economie trasformative nelle loro diverse declinazioni\, riprendendo i 4 assi proposti dal primo “Forum Sociale Mondiale delle Economie Trasformative” tenutosi a Barcellona nel 2020\, ovvero: \n\nl’economia sociale e solidale;\ni Beni Comuni (naturale\, urbano\, digitale\, conoscenza);\nil movimento agro ecologico e la sovranità alimentare;\nle economie femministe e le prospettive di genere;\n\nInoltre: \n\nil ruolo positivo e virtuoso che le comunità locali e territoriali hanno e possono avere all’interno di processi di trasformazione sociale\, economica e ambientale;\nl’agenda e le tematiche proposte dal movimento della Decrescit​a;\ni movimenti che lottano contro le cause del cambiamento climatico.
URL:https://rete-ries.it/evento/rethinkable-2024/
LOCATION:Gorizia e Nova Gorica\, Gorizia
CATEGORIES:Events
ATTACH;FMTTYPE=image/jpeg:https://rete-ries.it/wp-content/uploads/2024/10/RT_2024-1024x502-1.jpg
ORGANIZER;CN="ProDES FVG":MAILTO:rethinkablefestival@gmail.com
END:VEVENT
END:VCALENDAR