BEGIN:VCALENDAR
VERSION:2.0
PRODID:-//RIES - Rete Italiana Economia Solidale - ECPv6.15.20//NONSGML v1.0//EN
CALSCALE:GREGORIAN
METHOD:PUBLISH
X-ORIGINAL-URL:https://rete-ries.it
X-WR-CALDESC:Eventi per RIES - Rete Italiana Economia Solidale
REFRESH-INTERVAL;VALUE=DURATION:PT1H
X-Robots-Tag:noindex
X-PUBLISHED-TTL:PT1H
BEGIN:VTIMEZONE
TZID:Europe/Rome
BEGIN:DAYLIGHT
TZOFFSETFROM:+0100
TZOFFSETTO:+0200
TZNAME:CEST
DTSTART:20230326T010000
END:DAYLIGHT
BEGIN:STANDARD
TZOFFSETFROM:+0200
TZOFFSETTO:+0100
TZNAME:CET
DTSTART:20231029T010000
END:STANDARD
BEGIN:DAYLIGHT
TZOFFSETFROM:+0100
TZOFFSETTO:+0200
TZNAME:CEST
DTSTART:20240331T010000
END:DAYLIGHT
BEGIN:STANDARD
TZOFFSETFROM:+0200
TZOFFSETTO:+0100
TZNAME:CET
DTSTART:20241027T010000
END:STANDARD
BEGIN:DAYLIGHT
TZOFFSETFROM:+0100
TZOFFSETTO:+0200
TZNAME:CEST
DTSTART:20250330T010000
END:DAYLIGHT
BEGIN:STANDARD
TZOFFSETFROM:+0200
TZOFFSETTO:+0100
TZNAME:CET
DTSTART:20251026T010000
END:STANDARD
END:VTIMEZONE
BEGIN:VEVENT
DTSTART;TZID=Europe/Rome:20241111T180000
DTEND;TZID=Europe/Rome:20241111T200000
DTSTAMP:20260420T104544
CREATED:20240604T210527Z
LAST-MODIFIED:20241001T170336Z
UID:10000256-1731348000-1731355200@rete-ries.it
SUMMARY:Nuovo Corso online sul Municipalismo
DESCRIPTION:La campagna “Riprendiamoci il Comune” propone un nuovo corso online sul municipalismo. \nIl corso si terrà dalle 18 alle 20 per due lunedì al mese come da programma nella locandina. \nQUI trovate il programma e chi sono le relatrici e i relatori del corso. \nprimo incontro: Lunedì 7 ottobre ore 18-20\nInquadramento teorico sul Municipalismo\ncon Iolanda Bianchi – modera Maria Francesca De Tullio \nla partecipazione è libera\, aperta e consigliata \nPer collegarsi\, si utilizzerà questo link ricorrente per tutti gli incontri \nhttps://arci-it.zoom.us/j/84973476612?pwd=BPrWDI6OlvV2ZAa3PGs5hNpGySqk7e.1 \nID riunione: 849 7347 6612 \nCodice d’accesso: 486806 \nCliccare sull’immagine per scaricare la locandina
URL:https://rete-ries.it/evento/nuovo-corso-online-sul-municipalismo/2024-11-11/
LOCATION:Online
CATEGORIES:Events
ATTACH;FMTTYPE=image/jpeg:https://rete-ries.it/wp-content/uploads/2024/06/Riprendiamoci-il-comune_s.jpg
END:VEVENT
END:VCALENDAR