BEGIN:VCALENDAR
VERSION:2.0
PRODID:-//RIES - Rete Italiana Economia Solidale - ECPv6.15.20//NONSGML v1.0//EN
CALSCALE:GREGORIAN
METHOD:PUBLISH
X-ORIGINAL-URL:https://rete-ries.it
X-WR-CALDESC:Eventi per RIES - Rete Italiana Economia Solidale
REFRESH-INTERVAL;VALUE=DURATION:PT1H
X-Robots-Tag:noindex
X-PUBLISHED-TTL:PT1H
BEGIN:VTIMEZONE
TZID:Europe/Rome
BEGIN:DAYLIGHT
TZOFFSETFROM:+0100
TZOFFSETTO:+0200
TZNAME:CEST
DTSTART:20230326T010000
END:DAYLIGHT
BEGIN:STANDARD
TZOFFSETFROM:+0200
TZOFFSETTO:+0100
TZNAME:CET
DTSTART:20231029T010000
END:STANDARD
BEGIN:DAYLIGHT
TZOFFSETFROM:+0100
TZOFFSETTO:+0200
TZNAME:CEST
DTSTART:20240331T010000
END:DAYLIGHT
BEGIN:STANDARD
TZOFFSETFROM:+0200
TZOFFSETTO:+0100
TZNAME:CET
DTSTART:20241027T010000
END:STANDARD
BEGIN:DAYLIGHT
TZOFFSETFROM:+0100
TZOFFSETTO:+0200
TZNAME:CEST
DTSTART:20250330T010000
END:DAYLIGHT
BEGIN:STANDARD
TZOFFSETFROM:+0200
TZOFFSETTO:+0100
TZNAME:CET
DTSTART:20251026T010000
END:STANDARD
END:VTIMEZONE
BEGIN:VEVENT
DTSTART;VALUE=DATE:20241127
DTEND;VALUE=DATE:20241128
DTSTAMP:20260420T121320
CREATED:20241121T153239Z
LAST-MODIFIED:20241121T153239Z
UID:10000297-1732665600-1732751999@rete-ries.it
SUMMARY:Presentazione 7° rapporto della finanza etica europea
DESCRIPTION:Novembre è tradizionalmente il mese di pubblicazione del Rapporto sulla finanza etica della Fondazione Finanza Etica. \n“Oltre il profitto. Come le banche etiche stanno trasformando il panorama finanziario europeo” è il titolo programmatico dell’edizione di quest’anno che sarà presentata a Madrid il 27 novembre\, in occasione dei festeggiamenti dei 20 anni di FIARE Banca Etica. \nAnche quest’anno è un lavoro congiunto delle due Fondazioni e di FEBEA\, la Federazione europea delle banche etiche e alternative. \nPotete avere qui un’anteprima e scaricare il report dal 27 di novembre.
URL:https://rete-ries.it/evento/presentazione-7-rapporto-della-finanza-etica-europea/
LOCATION:Madrid\, Spain
CATEGORIES:Events
ATTACH;FMTTYPE=image/jpeg:https://rete-ries.it/wp-content/uploads/2024/11/02.jpg
END:VEVENT
END:VCALENDAR