BEGIN:VCALENDAR
VERSION:2.0
PRODID:-//RIES - Rete Italiana Economia Solidale - ECPv6.15.20//NONSGML v1.0//EN
CALSCALE:GREGORIAN
METHOD:PUBLISH
X-ORIGINAL-URL:https://rete-ries.it
X-WR-CALDESC:Eventi per RIES - Rete Italiana Economia Solidale
REFRESH-INTERVAL;VALUE=DURATION:PT1H
X-Robots-Tag:noindex
X-PUBLISHED-TTL:PT1H
BEGIN:VTIMEZONE
TZID:Europe/Rome
BEGIN:DAYLIGHT
TZOFFSETFROM:+0100
TZOFFSETTO:+0200
TZNAME:CEST
DTSTART:20230326T010000
END:DAYLIGHT
BEGIN:STANDARD
TZOFFSETFROM:+0200
TZOFFSETTO:+0100
TZNAME:CET
DTSTART:20231029T010000
END:STANDARD
BEGIN:DAYLIGHT
TZOFFSETFROM:+0100
TZOFFSETTO:+0200
TZNAME:CEST
DTSTART:20240331T010000
END:DAYLIGHT
BEGIN:STANDARD
TZOFFSETFROM:+0200
TZOFFSETTO:+0100
TZNAME:CET
DTSTART:20241027T010000
END:STANDARD
BEGIN:DAYLIGHT
TZOFFSETFROM:+0100
TZOFFSETTO:+0200
TZNAME:CEST
DTSTART:20250330T010000
END:DAYLIGHT
BEGIN:STANDARD
TZOFFSETFROM:+0200
TZOFFSETTO:+0100
TZNAME:CET
DTSTART:20251026T010000
END:STANDARD
END:VTIMEZONE
BEGIN:VEVENT
DTSTART;VALUE=DATE:20241130
DTEND;VALUE=DATE:20241201
DTSTAMP:20260420T121304
CREATED:20241115T190806Z
LAST-MODIFIED:20241115T191009Z
UID:10000295-1732924800-1733011199@rete-ries.it
SUMMARY:Raduno italiano delle CSA (Comunità a Sostegno dell'Agricoltura)
DESCRIPTION:Quest’anno il Raduno della Rete Italiana delle CSA (RICSA) si terrà a Marghera\, sabato 30 novembre. \nSarà possibile visitare una di 3 CSA locali. \nInformazioni e partecipazione: \n\ninviare sms whatsapp/telegram a 351 8034389 Giulia\ncompilate il form al link https:/ /bit.ly/raduno-RICSA
URL:https://rete-ries.it/evento/raduno-italiano-delle-csa-comunita-a-sostegno-dellagricoltura/
LOCATION:Via A.Palladio 3\, Marghera (VE)\, Via A.Palladio 3\, Marghera\, VE\, Italy
CATEGORIES:Events
ATTACH;FMTTYPE=image/jpeg:https://rete-ries.it/wp-content/uploads/2024/11/RICSA_assemblea_301124.jpeg
END:VEVENT
END:VCALENDAR