BEGIN:VCALENDAR
VERSION:2.0
PRODID:-//RIES - Rete Italiana Economia Solidale - ECPv6.15.20//NONSGML v1.0//EN
CALSCALE:GREGORIAN
METHOD:PUBLISH
X-WR-CALNAME:RIES - Rete Italiana Economia Solidale
X-ORIGINAL-URL:https://rete-ries.it
X-WR-CALDESC:Eventi per RIES - Rete Italiana Economia Solidale
REFRESH-INTERVAL;VALUE=DURATION:PT1H
X-Robots-Tag:noindex
X-PUBLISHED-TTL:PT1H
BEGIN:VTIMEZONE
TZID:Europe/Rome
BEGIN:DAYLIGHT
TZOFFSETFROM:+0100
TZOFFSETTO:+0200
TZNAME:CEST
DTSTART:20240331T010000
END:DAYLIGHT
BEGIN:STANDARD
TZOFFSETFROM:+0200
TZOFFSETTO:+0100
TZNAME:CET
DTSTART:20241027T010000
END:STANDARD
BEGIN:DAYLIGHT
TZOFFSETFROM:+0100
TZOFFSETTO:+0200
TZNAME:CEST
DTSTART:20250330T010000
END:DAYLIGHT
BEGIN:STANDARD
TZOFFSETFROM:+0200
TZOFFSETTO:+0100
TZNAME:CET
DTSTART:20251026T010000
END:STANDARD
BEGIN:DAYLIGHT
TZOFFSETFROM:+0100
TZOFFSETTO:+0200
TZNAME:CEST
DTSTART:20260329T010000
END:DAYLIGHT
BEGIN:STANDARD
TZOFFSETFROM:+0200
TZOFFSETTO:+0100
TZNAME:CET
DTSTART:20261025T010000
END:STANDARD
END:VTIMEZONE
BEGIN:VEVENT
DTSTART;TZID=Europe/Rome:20250402T180000
DTEND;TZID=Europe/Rome:20250402T210000
DTSTAMP:20260422T002451
CREATED:20250401T084022Z
LAST-MODIFIED:20250401T085607Z
UID:10000325-1743616800-1743627600@rete-ries.it
SUMMARY:MAG2 e la finanza mutualistica e solidale
DESCRIPTION:Dalle prime Mag negli anni ’80\, alla creazione di Banca Etica\, alle sperimentazioni di Finanza Mutualistica e Solidale in corso\, fino alle idee\, alle speranze\, alle scommesse di domani.\nConducono Sebastiano Aleo (MAG2)\, Mara Favero e Marta Battistella (MagVenezia)\nMercoledì 2 aprile 2025 dalle 18 alle 21\nsede MAG2\, via Angera 3 a Milano con pausa apericena condiviso \nClicca qui per approfondire \nClicca sull’immagine per il programma completo
URL:https://rete-ries.it/evento/mag2-e-la-finanza-mutualistica-e-solidale/
LOCATION:Mag2\, via Angera 3\, Milano\, 20125\, Italy
CATEGORIES:Events
ATTACH;FMTTYPE=image/jpeg:https://rete-ries.it/wp-content/uploads/2025/04/Lab2025_Mag2_S.jpg
END:VEVENT
END:VCALENDAR