BEGIN:VCALENDAR
VERSION:2.0
PRODID:-//RIES - Rete Italiana Economia Solidale - ECPv6.15.20//NONSGML v1.0//EN
CALSCALE:GREGORIAN
METHOD:PUBLISH
X-WR-CALNAME:RIES - Rete Italiana Economia Solidale
X-ORIGINAL-URL:https://rete-ries.it
X-WR-CALDESC:Eventi per RIES - Rete Italiana Economia Solidale
REFRESH-INTERVAL;VALUE=DURATION:PT1H
X-Robots-Tag:noindex
X-PUBLISHED-TTL:PT1H
BEGIN:VTIMEZONE
TZID:Europe/Rome
BEGIN:DAYLIGHT
TZOFFSETFROM:+0100
TZOFFSETTO:+0200
TZNAME:CEST
DTSTART:20240331T010000
END:DAYLIGHT
BEGIN:STANDARD
TZOFFSETFROM:+0200
TZOFFSETTO:+0100
TZNAME:CET
DTSTART:20241027T010000
END:STANDARD
BEGIN:DAYLIGHT
TZOFFSETFROM:+0100
TZOFFSETTO:+0200
TZNAME:CEST
DTSTART:20250330T010000
END:DAYLIGHT
BEGIN:STANDARD
TZOFFSETFROM:+0200
TZOFFSETTO:+0100
TZNAME:CET
DTSTART:20251026T010000
END:STANDARD
BEGIN:DAYLIGHT
TZOFFSETFROM:+0100
TZOFFSETTO:+0200
TZNAME:CEST
DTSTART:20260329T010000
END:DAYLIGHT
BEGIN:STANDARD
TZOFFSETFROM:+0200
TZOFFSETTO:+0100
TZNAME:CET
DTSTART:20261025T010000
END:STANDARD
END:VTIMEZONE
BEGIN:VEVENT
DTSTART;TZID=Europe/Rome:20250523T150000
DTEND;TZID=Europe/Rome:20250524T183000
DTSTAMP:20260419T161225
CREATED:20250407T074641Z
LAST-MODIFIED:20250512T215537Z
UID:10000335-1748012400-1748111400@rete-ries.it
SUMMARY:Assemblea rete RIES
DESCRIPTION:Save the date! \nIl prossimo appuntamento annuale dedicato ai soci RIES si terrà a Parma e a Vigheffio (PR) presso Solidalia \nClicca qui per accedere alla pagina con le informazioni aggiornate \nA presto!
URL:https://rete-ries.it/evento/assemblea-soci-ries/
LOCATION:Fattoria di Vigheffio\, Collecchio\, Parma\, Italy
CATEGORIES:Events
ATTACH;FMTTYPE=image/jpeg:https://rete-ries.it/wp-content/uploads/2025/04/assemblea-soci-2025-scaled.jpg
ORGANIZER;CN="RIES":MAILTO:info@rete-ries.it
END:VEVENT
BEGIN:VEVENT
DTSTART;VALUE=DATE:20250524
DTEND;VALUE=DATE:20250526
DTSTAMP:20260419T161225
CREATED:20250407T073049Z
LAST-MODIFIED:20250407T073713Z
UID:10000334-1748044800-1748217599@rete-ries.it
SUMMARY:Solidalia 2025\, un altro mondo è possibile
DESCRIPTION:SOLIDALIA 2025 – COLTIVATORI DI PACE \n24-25 Maggio 2025 – Fattoria Mario Tommasini\, Vigheffio (Parma) \nUn altro mondo è possibile: economia solidale e costruzione della pace \nSolidalia torna per l’edizione 2025 con un tema cruciale e urgente: la costruzione della pace attraverso le pratiche dell’economia solidale. In un contesto internazionale sempre più complesso\, caratterizzato da guerre\, ingiustizie sociali e crisi ambientali\, il festival vuole ribadire con forza che un’alternativa è possibile e praticabile. \nIl cuore dell’evento: il convegno Coltivatori di Pace \nAl centro di questa edizione il convegno Coltivatori di Pace vedrà la partecipazione di sei relatori impegnati su diversi fronti della costruzione di relazioni nonviolente e di pace. \nPer maggiori informazioni clicca qui
URL:https://rete-ries.it/evento/solidalia-2025-un-altro-mondo-e-possibile/
LOCATION:Fattoria di Vigheffio\, Collecchio\, Parma\, Italy
ATTACH;FMTTYPE=image/png:https://rete-ries.it/wp-content/uploads/2025/04/Solidalia-immagine-copertina.png
END:VEVENT
BEGIN:VEVENT
DTSTART;TZID=Europe/Rome:20250524T100000
DTEND;TZID=Europe/Rome:20250524T160000
DTSTAMP:20260419T161225
CREATED:20250401T084333Z
LAST-MODIFIED:20250509T213418Z
UID:10000326-1748080800-1748102400@rete-ries.it
SUMMARY:Lavorare insieme tra armonia e caos
DESCRIPTION:Dalle teorie sulla mediazione Umanistica di Jacqueline Morineau alla sperimentazione delle tecniche necessarie per affrontare e risolvere i conflitti in modo empatico e collaborativo.\nFacilitano e conducono Barbara Musso e Filippo Vanoncini del centro Incontra di Bergamo\nSabato 24 maggio 2025 dalle 10 alle 16\nsede MAG2\, via Angera 3 a Milano con pausa pranzo condiviso \nClicca qui per maggiori informazioni e dettagli sull’incontro del 24 maggio \n \n  \nClicca qui per approfondire \nClicca sull’immagine per il programma completo
URL:https://rete-ries.it/evento/lavorare-insieme-tra-armonia-e-caos/
LOCATION:Mag2\, via Angera 3\, Milano\, 20125\, Italy
CATEGORIES:Events
ATTACH;FMTTYPE=image/jpeg:https://rete-ries.it/wp-content/uploads/2025/04/Lab2025_Mag2_S.jpg
END:VEVENT
BEGIN:VEVENT
DTSTART;TZID=Europe/Rome:20250524T173000
DTEND;TZID=Europe/Rome:20250524T190000
DTSTAMP:20260419T161225
CREATED:20250512T215933Z
LAST-MODIFIED:20250514T214044Z
UID:10000340-1748107800-1748113200@rete-ries.it
SUMMARY:Assemblea 2025: Incontro sulle Politiche del Cibo a Solidalia
DESCRIPTION:La rete Ries\, nell’ambito della sua assemblea soci 2025 aperta alla cittadinanza\, invita all”incontro dal titolo “Cibo è cittadinanza: dalla partecipazione la sfida alle giuste politiche per il cibo” dove si alterneranno testimonianze dei sistemi di governance del cibo nelle città italiane\, la presentazione del nuovo documento della Rete dei Consigli del cibo\, le esperienze e le proposte dei movimenti. \nClicca qui per approfondire
URL:https://rete-ries.it/evento/assemblea-2025-incontro-sulle-politiche-del-cibo-a-solidalia/
LOCATION:Fattoria di Vigheffio\, Collecchio\, Parma\, Italy
CATEGORIES:Events
ATTACH;FMTTYPE=image/jpeg:https://rete-ries.it/wp-content/uploads/2025/05/Cibo-e-cittadinanza-maggio-2025-mani-v1.1.jpg
ORGANIZER;CN="RIES":MAILTO:info@rete-ries.it
END:VEVENT
END:VCALENDAR