BEGIN:VCALENDAR
VERSION:2.0
PRODID:-//RIES - Rete Italiana Economia Solidale - ECPv6.15.20//NONSGML v1.0//EN
CALSCALE:GREGORIAN
METHOD:PUBLISH
X-ORIGINAL-URL:https://rete-ries.it
X-WR-CALDESC:Eventi per RIES - Rete Italiana Economia Solidale
REFRESH-INTERVAL;VALUE=DURATION:PT1H
X-Robots-Tag:noindex
X-PUBLISHED-TTL:PT1H
BEGIN:VTIMEZONE
TZID:Europe/Rome
BEGIN:DAYLIGHT
TZOFFSETFROM:+0100
TZOFFSETTO:+0200
TZNAME:CEST
DTSTART:20240331T010000
END:DAYLIGHT
BEGIN:STANDARD
TZOFFSETFROM:+0200
TZOFFSETTO:+0100
TZNAME:CET
DTSTART:20241027T010000
END:STANDARD
BEGIN:DAYLIGHT
TZOFFSETFROM:+0100
TZOFFSETTO:+0200
TZNAME:CEST
DTSTART:20250330T010000
END:DAYLIGHT
BEGIN:STANDARD
TZOFFSETFROM:+0200
TZOFFSETTO:+0100
TZNAME:CET
DTSTART:20251026T010000
END:STANDARD
BEGIN:DAYLIGHT
TZOFFSETFROM:+0100
TZOFFSETTO:+0200
TZNAME:CEST
DTSTART:20260329T010000
END:DAYLIGHT
BEGIN:STANDARD
TZOFFSETFROM:+0200
TZOFFSETTO:+0100
TZNAME:CET
DTSTART:20261025T010000
END:STANDARD
END:VTIMEZONE
BEGIN:VEVENT
DTSTART;VALUE=DATE:20250531
DTEND;VALUE=DATE:20250603
DTSTAMP:20260419T190930
CREATED:20250509T214009Z
LAST-MODIFIED:20250509T214410Z
UID:10000339-1748649600-1748908799@rete-ries.it
SUMMARY:Transizioni Fest
DESCRIPTION:4a edizione di Transizioni Fest Sentire- conoscere – agire \nTransizioni Fest è un festival di 3 giorni immersi nella natura e nella biodiversità di Cascina Rapello ad Airuno\, in provincia di Lecco. \nIn questo weekend a cavallo del ponte del 2 giugno\, si partirà dai paradigmi che caratterizzano la società dominante per studiare\, immaginare e praticare\, insieme\, altri mondi possibili. \nSarà un campeggio autogestito intergenerazionale e di vita comunitaria: cucineremo\, degusteremo buon vino e birra artigianale\, cammineremo\, parleremo\, studieremo e danzeremo insieme tra prati e boschi. Un’esperienza incredibile e potente che entrerà nella storia! \nClicca qui per tutte le informazioni e per iscriverti
URL:https://rete-ries.it/evento/transizioni-fest/
LOCATION:Cascina Rapello\, località Aizurro\, Airuno\, Lecco\, Italy
CATEGORIES:Events
ATTACH;FMTTYPE=image/jpeg:https://rete-ries.it/wp-content/uploads/2025/05/Transizioni-fest_2.jpg
END:VEVENT
END:VCALENDAR