BEGIN:VCALENDAR
VERSION:2.0
PRODID:-//RIES - Rete Italiana Economia Solidale - ECPv6.15.20//NONSGML v1.0//EN
CALSCALE:GREGORIAN
METHOD:PUBLISH
X-WR-CALNAME:RIES - Rete Italiana Economia Solidale
X-ORIGINAL-URL:https://rete-ries.it
X-WR-CALDESC:Eventi per RIES - Rete Italiana Economia Solidale
REFRESH-INTERVAL;VALUE=DURATION:PT1H
X-Robots-Tag:noindex
X-PUBLISHED-TTL:PT1H
BEGIN:VTIMEZONE
TZID:Europe/Rome
BEGIN:DAYLIGHT
TZOFFSETFROM:+0100
TZOFFSETTO:+0200
TZNAME:CEST
DTSTART:20240331T010000
END:DAYLIGHT
BEGIN:STANDARD
TZOFFSETFROM:+0200
TZOFFSETTO:+0100
TZNAME:CET
DTSTART:20241027T010000
END:STANDARD
BEGIN:DAYLIGHT
TZOFFSETFROM:+0100
TZOFFSETTO:+0200
TZNAME:CEST
DTSTART:20250330T010000
END:DAYLIGHT
BEGIN:STANDARD
TZOFFSETFROM:+0200
TZOFFSETTO:+0100
TZNAME:CET
DTSTART:20251026T010000
END:STANDARD
BEGIN:DAYLIGHT
TZOFFSETFROM:+0100
TZOFFSETTO:+0200
TZNAME:CEST
DTSTART:20260329T010000
END:DAYLIGHT
BEGIN:STANDARD
TZOFFSETFROM:+0200
TZOFFSETTO:+0100
TZNAME:CET
DTSTART:20261025T010000
END:STANDARD
END:VTIMEZONE
BEGIN:VEVENT
DTSTART;TZID=Europe/Rome:20250614T100000
DTEND;TZID=Europe/Rome:20250614T130000
DTSTAMP:20260421T035036
CREATED:20250401T090329Z
LAST-MODIFIED:20250401T090329Z
UID:10000327-1749895200-1749906000@rete-ries.it
SUMMARY:Coltiva-mente: autoproduci il tuo cibo
DESCRIPTION:Laboratorio per ripensare al concetto delle fonti di produzione del proprio cibo\, a partire da un balcone e da un orto personale o condiviso per arrivare alle Comunità a Supporto dell’Agricoltura.\nFacilitano e conducono Davide Florit e Giuseppe Bertolina\nSabato 14 giugno 2025 dalle 10 alle 13\nAllegricola\, in via Fratelli Gorlini\, 1 a Milano con pranzo condiviso \nClicca qui per approfondire \nClicca sull’immagine per il programma completo
URL:https://rete-ries.it/evento/coltiva-mente-autoproduci-il-tuo-cibo/
LOCATION:Allegricola\, via Fratelli Gorlini\, 1\, Milano\, Italy
CATEGORIES:Events
ATTACH;FMTTYPE=image/jpeg:https://rete-ries.it/wp-content/uploads/2025/04/Lab2025_Mag2_S.jpg
END:VEVENT
BEGIN:VEVENT
DTSTART;TZID=Europe/Rome:20250614T153000
DTEND;TZID=Europe/Rome:20250614T170000
DTSTAMP:20260421T035036
CREATED:20250612T235118Z
LAST-MODIFIED:20250612T235118Z
UID:10000347-1749915000-1749920400@rete-ries.it
SUMMARY:Parma: Corteo Stop OGM per l'acroecologia
DESCRIPTION:RIES ha aderito all’iniziativa sui nuovi OGM (TEA-NBT-NGT) promossa Cambiare il campo e varie associazioni.  Il corteo della manifestazione del 14 giugno si svolgerà a Parma. \nCambiare il Campo è un gruppo di attiviste e attivisti\, contadine e contadini\, di diverse zone d’Italia\, provenienti da diverse realtà\, gruppi\, collettivi e associazioni\, rurali e cittadine che lavorano per unire le forze e per difendere e sviluppare i sistemi agroecologici di produzione\, distribuzione e consumo del cibo. \nCi rivolgiamo a contadine e contadini\, consumatrici e consumatori\, associazioni\, gruppi d’acquisto\, comunità di supporto dell’agricoltura\, empori solidali\, aziende e cooperative\, tecnici agricoli\, ricercatrici e ricercatori responsabili\, per costruire un’opposizione comune contro l’avanzare dei nuovi OGM (TEA\, NBT\, NGT). \nMaggiori info qui.
URL:https://rete-ries.it/evento/parma-corteo-stop-ogm-per-lacroecologia/
LOCATION:Parma\, Stazione FS\, piazza Carlo Alberto Dalla Chiesa\, Parma\, Italy
CATEGORIES:Events
ATTACH;FMTTYPE=image/png:https://rete-ries.it/wp-content/uploads/2025/06/Parma_140625_stop_nuovi_ogm.png
END:VEVENT
BEGIN:VEVENT
DTSTART;TZID=Europe/Rome:20250614T160000
DTEND;TZID=Europe/Rome:20250614T200000
DTSTAMP:20260421T035036
CREATED:20250613T125251Z
LAST-MODIFIED:20250613T125413Z
UID:10000349-1749916800-1749931200@rete-ries.it
SUMMARY:SCELTE DISARMANTI:  Lotte e Percorsi per un'Europa di Pace
DESCRIPTION:Invito al CONVEGNO Economia di Guerra\,  il piano di riarmo europeo e gli investimenti nelle infrastrutture militari\, che si terrà sia IN PRESENZA sia IN STREAMING.\n\nLa logica di investimento in caserme verdi\, aeroporti azzurri e porti blu\, non riesce a mascherare l’opera di devastazione ambientale e sociale che la militarizzazione dei territori comporta. \nLa retorica della cultura della difesa e della continua propaganda allarmista sulla necessità di sicurezza mostra in maniera sempre più evidente che la logica perseguita  è la difesa dei confini\, la difesa dello status quo\,  la sicurezza volta a proteggere solo gli  interessi economici dei potentati mondiali.   A questo si contrappone la necessità di garantire alla popolazione la sicurezza di una casa\, di un lavoro\, di un sistema sanitario e scolastico universale e funzionante. \nCon questa iniziativa ci proponiamo di indagare i meccanismi che stanno alla base dell’economia di guerra\, dall’utilizzo del risparmio privato del singolo cittadino all’indebitamento pubblico a livello di Comunità Europea. Si può quantificare l’impatto negativo sui territori di un’economia che finanzia strumenti di morte e distruzione? Quali strategie e pratiche di resistenza possiamo mettere in campo per evitare che le nostre città diventino caserme a cielo aperto? Infine quali sono le possibili alternative per investire sulla salute e il benessere della cittadinanza? \nUna giornata di formazione e divulgazione che sia aperta a tutta la cittadinanza e che possa avere un respiro di interesse globale. \nL’iniziativa sarà trasmessa in streaming sui canali del movimento No Base\, ma sarà contornata in presenza da momenti di socialità e da una mostra sulla storia del movimento stesso. \nPillola Rossa. Focus locale: Territori e Strategie di Lotta \n\nMovimento No Base Desecretare la guerra: un territorio da tutelare.\nSimone Siliani (Direttore Fondazione Finanza Etica) Come si finanzia la guerra: il ruolo delle banche.\nAntonio De Lellis (Centro studi economico sociali per la pace di Pax Christi) Costruire la pace attraverso l’economia\nValentina Mangano (Centro Interdisciplinare Scienze per la Pace) Pratiche di resistenza: il ruolo della ricerca scientifica e dell’università nella promozione della pace\n\nPillola Blu. Piano Inclinato Europeo: il Riarmo da fermare. \n\nSimone D’Alessandro (Docente di Economia Politica\, Università di Pisa) Rearm Europe. Un piano di difesa o di espansione imperialista.\nNicoletta Dentico (Responsabile salute globale – Society for International Development) Warfare VS Welfare: salute o militarizzazione in Europa\nDuccio Facchini (Direttore Altraeconomia) Il Ruolo dell’Industria Bellica Italiana nello scenario Europeo e Internazionale\nHeidi Meinzolt (Women’s International League for Peace and Freedom) Reti Europee contro la guerra. Prospettive per una mobilitazione transnazionale.\n\n\nPromosso da:  Movimento No Base\,  GIT Banca Etica Pisa e Livorno\, Pax Christi\, Un Ponte Per\, Fondazione Finanza Etica\,  Altreconomia\, Chicco di Senape – Bottega Mondo.
URL:https://rete-ries.it/evento/scelte-disarmanti-lotte-e-percorsi-per-uneuropa-di-pace/
LOCATION:SMS Pisa\, Viale delle piagge\, Pisa\, Italy
CATEGORIES:Events
ATTACH;FMTTYPE=image/jpeg:https://rete-ries.it/wp-content/uploads/2025/06/scelte-disarmanti.jpg
END:VEVENT
END:VCALENDAR