BEGIN:VCALENDAR
VERSION:2.0
PRODID:-//RIES - Rete Italiana Economia Solidale - ECPv6.15.20//NONSGML v1.0//EN
CALSCALE:GREGORIAN
METHOD:PUBLISH
X-ORIGINAL-URL:https://rete-ries.it
X-WR-CALDESC:Eventi per RIES - Rete Italiana Economia Solidale
REFRESH-INTERVAL;VALUE=DURATION:PT1H
X-Robots-Tag:noindex
X-PUBLISHED-TTL:PT1H
BEGIN:VTIMEZONE
TZID:Europe/Rome
BEGIN:DAYLIGHT
TZOFFSETFROM:+0100
TZOFFSETTO:+0200
TZNAME:CEST
DTSTART:20240331T010000
END:DAYLIGHT
BEGIN:STANDARD
TZOFFSETFROM:+0200
TZOFFSETTO:+0100
TZNAME:CET
DTSTART:20241027T010000
END:STANDARD
BEGIN:DAYLIGHT
TZOFFSETFROM:+0100
TZOFFSETTO:+0200
TZNAME:CEST
DTSTART:20250330T010000
END:DAYLIGHT
BEGIN:STANDARD
TZOFFSETFROM:+0200
TZOFFSETTO:+0100
TZNAME:CET
DTSTART:20251026T010000
END:STANDARD
BEGIN:DAYLIGHT
TZOFFSETFROM:+0100
TZOFFSETTO:+0200
TZNAME:CEST
DTSTART:20260329T010000
END:DAYLIGHT
BEGIN:STANDARD
TZOFFSETFROM:+0200
TZOFFSETTO:+0100
TZNAME:CET
DTSTART:20261025T010000
END:STANDARD
END:VTIMEZONE
BEGIN:VEVENT
DTSTART;VALUE=DATE:20251024
DTEND;VALUE=DATE:20251027
DTSTAMP:20260420T103134
CREATED:20250926T202948Z
LAST-MODIFIED:20251021T195302Z
UID:10000356-1761264000-1761523199@rete-ries.it
SUMMARY:Rethinkable: torna il festival transfrontaliero
DESCRIPTION:Il programma di ReThinkable Festival quest’anno passa in modo deciso dalle idee alla pratica. Dopo tre edizioni dedicate alle economie trasformative e alla collaborazione transfrontaliera\, l’edizione 2025 si concentra sul tema delle (In)dipendenza(e) — scelto come invito ma anche come provocazione. \nNella giornata del 24 ottobre è previsto un incontro di confronto sulle Leggi dell’Economia Solidale\, approvate o presentate sul terrorio italiano a cui parteciperanno vari soci Ries. \nClicca qui per approfondire
URL:https://rete-ries.it/evento/rethinkable-torna-il-festival-transfrontaliero/
LOCATION:Gorizia e Nova Gorica\, Gorizia
CATEGORIES:Events
ATTACH;FMTTYPE=image/jpeg:https://rete-ries.it/wp-content/uploads/2025/09/rethinkable.jpg
ORGANIZER;CN="ProDES FVG":MAILTO:rethinkablefestival@gmail.com
END:VEVENT
END:VCALENDAR