BEGIN:VCALENDAR
VERSION:2.0
PRODID:-//RIES - Rete Italiana Economia Solidale - ECPv6.15.20//NONSGML v1.0//EN
CALSCALE:GREGORIAN
METHOD:PUBLISH
X-WR-CALNAME:RIES - Rete Italiana Economia Solidale
X-ORIGINAL-URL:https://rete-ries.it
X-WR-CALDESC:Eventi per RIES - Rete Italiana Economia Solidale
REFRESH-INTERVAL;VALUE=DURATION:PT1H
X-Robots-Tag:noindex
X-PUBLISHED-TTL:PT1H
BEGIN:VTIMEZONE
TZID:Europe/Rome
BEGIN:DAYLIGHT
TZOFFSETFROM:+0100
TZOFFSETTO:+0200
TZNAME:CEST
DTSTART:20240331T010000
END:DAYLIGHT
BEGIN:STANDARD
TZOFFSETFROM:+0200
TZOFFSETTO:+0100
TZNAME:CET
DTSTART:20241027T010000
END:STANDARD
BEGIN:DAYLIGHT
TZOFFSETFROM:+0100
TZOFFSETTO:+0200
TZNAME:CEST
DTSTART:20250330T010000
END:DAYLIGHT
BEGIN:STANDARD
TZOFFSETFROM:+0200
TZOFFSETTO:+0100
TZNAME:CET
DTSTART:20251026T010000
END:STANDARD
BEGIN:DAYLIGHT
TZOFFSETFROM:+0100
TZOFFSETTO:+0200
TZNAME:CEST
DTSTART:20260329T010000
END:DAYLIGHT
BEGIN:STANDARD
TZOFFSETFROM:+0200
TZOFFSETTO:+0100
TZNAME:CET
DTSTART:20261025T010000
END:STANDARD
END:VTIMEZONE
BEGIN:VEVENT
DTSTART;TZID=Europe/Rome:20251124T203000
DTEND;TZID=Europe/Rome:20251124T230000
DTSTAMP:20260420T090236
CREATED:20251121T154314Z
LAST-MODIFIED:20251121T155044Z
UID:10000360-1764016200-1764025200@rete-ries.it
SUMMARY:Geopolitica - Il ruolo delle multinazionali
DESCRIPTION:Andrea Di Stefano\, esperto di finanza etica ed economia civile\, sarà a Treviglio\, in provincia di Bergamo per un incontro dal titolo “Geopolitica internazionale e ruolo delle multinazionali”. \nClicca sul volantino per leggere i dettagli e scaricarlo.
URL:https://rete-ries.it/evento/il-ruolo-delle-multinazionali/
LOCATION:Sala Auser – Treviglio\, via M. Merisi\, 6\, Treviglio\, Bergamo\, 24047\, Italy
CATEGORIES:Events
ATTACH;FMTTYPE=image/jpeg:https://rete-ries.it/wp-content/uploads/2025/11/Locandina-Andrea-di-Stefano_s.jpg
END:VEVENT
END:VCALENDAR