BEGIN:VCALENDAR
VERSION:2.0
PRODID:-//RIES - Rete Italiana Economia Solidale - ECPv6.15.20//NONSGML v1.0//EN
CALSCALE:GREGORIAN
METHOD:PUBLISH
X-ORIGINAL-URL:https://rete-ries.it
X-WR-CALDESC:Eventi per RIES - Rete Italiana Economia Solidale
REFRESH-INTERVAL;VALUE=DURATION:PT1H
X-Robots-Tag:noindex
X-PUBLISHED-TTL:PT1H
BEGIN:VTIMEZONE
TZID:Europe/Rome
BEGIN:DAYLIGHT
TZOFFSETFROM:+0100
TZOFFSETTO:+0200
TZNAME:CEST
DTSTART:20240331T010000
END:DAYLIGHT
BEGIN:STANDARD
TZOFFSETFROM:+0200
TZOFFSETTO:+0100
TZNAME:CET
DTSTART:20241027T010000
END:STANDARD
BEGIN:DAYLIGHT
TZOFFSETFROM:+0100
TZOFFSETTO:+0200
TZNAME:CEST
DTSTART:20250330T010000
END:DAYLIGHT
BEGIN:STANDARD
TZOFFSETFROM:+0200
TZOFFSETTO:+0100
TZNAME:CET
DTSTART:20251026T010000
END:STANDARD
BEGIN:DAYLIGHT
TZOFFSETFROM:+0100
TZOFFSETTO:+0200
TZNAME:CEST
DTSTART:20260329T010000
END:DAYLIGHT
BEGIN:STANDARD
TZOFFSETFROM:+0200
TZOFFSETTO:+0100
TZNAME:CET
DTSTART:20261025T010000
END:STANDARD
END:VTIMEZONE
BEGIN:VEVENT
DTSTART;VALUE=DATE:20251128
DTEND;VALUE=DATE:20251201
DTSTAMP:20260420T090300
CREATED:20251124T152552Z
LAST-MODIFIED:20251124T152552Z
UID:10000364-1764288000-1764547199@rete-ries.it
SUMMARY:Le vie della decrescita – 2° edizione
DESCRIPTION:Più evidenti si fanno i segni della (poli)crisi ecologica\, sociale\, geopolitica del nostro tempo\, più si fa strada la necessità di uscire dall’imperativo della crescita per la crescita. Ma sul come fare ad invertire il corso suicida della storia le idee – per fortuna! – sono molte. Anche nel nostro mondo degli obiettori della crescita si discute e ci si confronta\, cercando sempre di tenere assieme visioni di futuro e pratiche trasformative. \nLo scorso anno ci si è dati appuntamento a Calambrone per discutere di questi temi per alcuni giorni nell’incontro intitolato Le vie della decrescita\, organizzato congiuntamente dalla rivista Quaderni della Decrescita\, dall’Associazione per la decrescita e dal Movimento per la decrescita felice. \nS’ è poi deciso di ripetere l’esperienza\, nella stessa località\, da venerdì 28 a domenica 30 novembre. L’incontro\, in forma residenziale\, si svolgerà dalla sera di venerdì 28\, per tutta la giornata di sabato 29 e la mattina di domenica 30 e avrà come filo conduttore l’impatto che il pensiero e le pratiche della decrescita possono avere sui movimenti sociali e sull’opinione pubblica\, sulle organizzazioni sindacali ed economiche\, sulle istituzioni politiche ad ogni livello nelle\ndrammatiche contingenze che stiamo vivendo. \nQui il programma; qui le note organizzative; qui iscrizione e prenotazione; qui il questionario. Qui di seguito il programma; qui il primo annuncio\, dove si trovano anche informazioni logistiche.
URL:https://rete-ries.it/evento/le-vie-della-decrescita-2-edizione/
LOCATION:Regina Mundi – casa per ferie\, Viale del Tirreno 62\, Calambrone\, Pisa\, Italy
CATEGORIES:Events
ATTACH;FMTTYPE=image/png:https://rete-ries.it/wp-content/uploads/2025/11/Locandina-Vie-della-decrescita2_s.png
ORGANIZER;CN="Associazione Decrescita":MAILTO:mariosassi23@gmail.com
END:VEVENT
BEGIN:VEVENT
DTSTART;TZID=Europe/Rome:20251128T100000
DTEND;TZID=Europe/Rome:20251128T133000
DTSTAMP:20260420T090300
CREATED:20251117T223606Z
LAST-MODIFIED:20251118T154526Z
UID:10000357-1764324000-1764336600@rete-ries.it
SUMMARY:La nuova fiscalità degli enti del Terzo Settore
DESCRIPTION:A partire dal 1° gennaio 2026\, il panorama fiscale degli Enti del Terzo Settore (ETS)\, incluse OdV e APS\, subirà una trasformazione importante. La soppressione dell’anagrafe tributaria Onlus e l’abolizione della Legge 398/1991\, sostituita da nuovi regimi forfettari\, rendono necessario un aggiornamento normativo.\n Mag organizza due mezze giornate di formazione intensiva\, specificamente pensate per affrontare in modo pratico gli elementi salienti di questa riforma: \n\nVenerdì 28/11/2025 (10:00 – 13:30)\nGiovedì 04/12/2025 (10:00 – 13:30)\n\nPossibilità di frequentare in presenza o da remoto \n COSTO: 200€\n I posti sono limitati. Per partecipare è necessario compilare il modulo di iscrizione online: \nLink di Iscrizione: https://forms.gle/D9T9EMJ2A7mKrWbr7 \nClicca sulla locandina per scaricarla
URL:https://rete-ries.it/evento/la-nuova-fiscalita-degli-enti-del-terzo-settore/
LOCATION:Mag Verona\, via Cristofoli 31/a\, Verona\, Italy
CATEGORIES:Events
ATTACH;FMTTYPE=image/jpeg:https://rete-ries.it/wp-content/uploads/2025/11/LA-NUOVA-FISCALITA-DEGLI-ENTI-DEL-TERZO-SETTORE_s.jpg
END:VEVENT
END:VCALENDAR