BEGIN:VCALENDAR
VERSION:2.0
PRODID:-//RIES - Rete Italiana Economia Solidale - ECPv6.15.20//NONSGML v1.0//EN
CALSCALE:GREGORIAN
METHOD:PUBLISH
X-ORIGINAL-URL:https://rete-ries.it
X-WR-CALDESC:Eventi per RIES - Rete Italiana Economia Solidale
REFRESH-INTERVAL;VALUE=DURATION:PT1H
X-Robots-Tag:noindex
X-PUBLISHED-TTL:PT1H
BEGIN:VTIMEZONE
TZID:Europe/Rome
BEGIN:DAYLIGHT
TZOFFSETFROM:+0100
TZOFFSETTO:+0200
TZNAME:CEST
DTSTART:20240331T010000
END:DAYLIGHT
BEGIN:STANDARD
TZOFFSETFROM:+0200
TZOFFSETTO:+0100
TZNAME:CET
DTSTART:20241027T010000
END:STANDARD
BEGIN:DAYLIGHT
TZOFFSETFROM:+0100
TZOFFSETTO:+0200
TZNAME:CEST
DTSTART:20250330T010000
END:DAYLIGHT
BEGIN:STANDARD
TZOFFSETFROM:+0200
TZOFFSETTO:+0100
TZNAME:CET
DTSTART:20251026T010000
END:STANDARD
BEGIN:DAYLIGHT
TZOFFSETFROM:+0100
TZOFFSETTO:+0200
TZNAME:CEST
DTSTART:20260329T010000
END:DAYLIGHT
BEGIN:STANDARD
TZOFFSETFROM:+0200
TZOFFSETTO:+0100
TZNAME:CET
DTSTART:20261025T010000
END:STANDARD
END:VTIMEZONE
BEGIN:VEVENT
DTSTART;TZID=Europe/Rome:20251203T180000
DTEND;TZID=Europe/Rome:20251203T210000
DTSTAMP:20260420T083755
CREATED:20250401T091900Z
LAST-MODIFIED:20250401T091900Z
UID:10000331-1764784800-1764795600@rete-ries.it
SUMMARY:Fare la spesa è un'azione sostenibile?
DESCRIPTION:Come si fa la spesa? Come si formano i prezzi del cibo nella grande distribuzione e quali sono le possibili azioni per influenzare il meccanismo attraverso le nostre scelte di acquisto? Quali sono forme alternative per acquisti solidali ed etici? Consumo critico: costi nascosti della spesa e scelte consapevoli.\nFacilitano e conducono Giancarlo Volpi e Alberto Fusar Poli\nMercoledì 3 dicembre 2025 dalle 18 alle 21\nsede MAG2\, via Angera 3 a Milano con pausa apericena condiviso \nClicca qui per approfondire \nClicca sull’immagine per il programma completo
URL:https://rete-ries.it/evento/fare-la-spesa-e-unazione-sostenibile/
LOCATION:Mag2\, via Angera 3\, Milano\, 20125\, Italy
CATEGORIES:Events
ATTACH;FMTTYPE=image/jpeg:https://rete-ries.it/wp-content/uploads/2025/04/Lab2025_Mag2_S.jpg
END:VEVENT
END:VCALENDAR