BEGIN:VCALENDAR
VERSION:2.0
PRODID:-//RIES - Rete Italiana Economia Solidale - ECPv6.15.20//NONSGML v1.0//EN
CALSCALE:GREGORIAN
METHOD:PUBLISH
X-WR-CALNAME:RIES - Rete Italiana Economia Solidale
X-ORIGINAL-URL:https://rete-ries.it
X-WR-CALDESC:Eventi per RIES - Rete Italiana Economia Solidale
REFRESH-INTERVAL;VALUE=DURATION:PT1H
X-Robots-Tag:noindex
X-PUBLISHED-TTL:PT1H
BEGIN:VTIMEZONE
TZID:Europe/Rome
BEGIN:DAYLIGHT
TZOFFSETFROM:+0100
TZOFFSETTO:+0200
TZNAME:CEST
DTSTART:20240331T010000
END:DAYLIGHT
BEGIN:STANDARD
TZOFFSETFROM:+0200
TZOFFSETTO:+0100
TZNAME:CET
DTSTART:20241027T010000
END:STANDARD
BEGIN:DAYLIGHT
TZOFFSETFROM:+0100
TZOFFSETTO:+0200
TZNAME:CEST
DTSTART:20250330T010000
END:DAYLIGHT
BEGIN:STANDARD
TZOFFSETFROM:+0200
TZOFFSETTO:+0100
TZNAME:CET
DTSTART:20251026T010000
END:STANDARD
BEGIN:DAYLIGHT
TZOFFSETFROM:+0100
TZOFFSETTO:+0200
TZNAME:CEST
DTSTART:20260329T010000
END:DAYLIGHT
BEGIN:STANDARD
TZOFFSETFROM:+0200
TZOFFSETTO:+0100
TZNAME:CET
DTSTART:20261025T010000
END:STANDARD
BEGIN:DAYLIGHT
TZOFFSETFROM:+0100
TZOFFSETTO:+0200
TZNAME:CEST
DTSTART:20270328T010000
END:DAYLIGHT
BEGIN:STANDARD
TZOFFSETFROM:+0200
TZOFFSETTO:+0100
TZNAME:CET
DTSTART:20271031T010000
END:STANDARD
END:VTIMEZONE
BEGIN:VEVENT
DTSTART;TZID=Europe/Rome:20251231T200000
DTEND;TZID=Europe/Rome:20260101T040000
DTSTAMP:20260420T054254
CREATED:20251223T233855Z
LAST-MODIFIED:20251224T115627Z
UID:10000365-1767211200-1767240000@rete-ries.it
SUMMARY:Capodanno 2025: convergenza al futuro (Mondeggi Bene Comune e GFF-exGKN)
DESCRIPTION:Mondeggi Bene Comune organizza il veglione di Capodanno alla @casadelpopolo_grassina assieme al @collettivofabbricagkn e @arci.firenze. \nIl ricavato della serata è un contributo all’azionariato popolare del Collettivo di Fabbrica ex-GKN. \n👉 Prenota la cena: https://forms.gle/2nidBm7gqgQpkM6F6
URL:https://rete-ries.it/evento/capodanno-2025-convergenza-al-futuro/
LOCATION:Casa del Popolo di Grassina (FI)\, Firenze\, Italy
CATEGORIES:Events
ATTACH;FMTTYPE=image/jpeg:https://rete-ries.it/wp-content/uploads/2025/12/Mondeggi_exGKN_311225_.jpg
ORGANIZER;CN="Mondeggi Bene Comune aps":MAILTO:info@mondeggibenecomune.org
END:VEVENT
END:VCALENDAR