BEGIN:VCALENDAR
VERSION:2.0
PRODID:-//RIES - Rete Italiana Economia Solidale - ECPv6.15.20//NONSGML v1.0//EN
CALSCALE:GREGORIAN
METHOD:PUBLISH
X-ORIGINAL-URL:https://rete-ries.it
X-WR-CALDESC:Eventi per RIES - Rete Italiana Economia Solidale
REFRESH-INTERVAL;VALUE=DURATION:PT1H
X-Robots-Tag:noindex
X-PUBLISHED-TTL:PT1H
BEGIN:VTIMEZONE
TZID:Europe/Rome
BEGIN:DAYLIGHT
TZOFFSETFROM:+0100
TZOFFSETTO:+0200
TZNAME:CEST
DTSTART:20250330T010000
END:DAYLIGHT
BEGIN:STANDARD
TZOFFSETFROM:+0200
TZOFFSETTO:+0100
TZNAME:CET
DTSTART:20251026T010000
END:STANDARD
BEGIN:DAYLIGHT
TZOFFSETFROM:+0100
TZOFFSETTO:+0200
TZNAME:CEST
DTSTART:20260329T010000
END:DAYLIGHT
BEGIN:STANDARD
TZOFFSETFROM:+0200
TZOFFSETTO:+0100
TZNAME:CET
DTSTART:20261025T010000
END:STANDARD
BEGIN:DAYLIGHT
TZOFFSETFROM:+0100
TZOFFSETTO:+0200
TZNAME:CEST
DTSTART:20270328T010000
END:DAYLIGHT
BEGIN:STANDARD
TZOFFSETFROM:+0200
TZOFFSETTO:+0100
TZNAME:CET
DTSTART:20271031T010000
END:STANDARD
END:VTIMEZONE
BEGIN:VEVENT
DTSTART;TZID=Europe/Rome:20260113T180000
DTEND;TZID=Europe/Rome:20260113T200000
DTSTAMP:20260420T025835
CREATED:20260110T195720Z
LAST-MODIFIED:20260110T195937Z
UID:10000367-1768327200-1768334400@rete-ries.it
SUMMARY:Riunione aperta Ries
DESCRIPTION:Il Consiglio Direttivo Ries è lieto di invitare ad un incontro aperto online martedì 13 gennaio 2026 alle ore 18 \nSarà l’occasione per dare il benvenuto al nuovo socio Ries “E’nostra” e per confrontarci sulle priorità e le azioni della nostra Rete per il 2026\, in particolare la nostra posizione su questioni nazionali e di ampio respiro\, tra cui: \n• il dibattito sulle leggi ESS e le politiche locali del cibo \n• la strategia nazionale per l’economia sociale (che risponde a quella della Commissione Europea) \n• la campagna fatta con Ultima Generazione di boicottaggio ai supermercati \n• le CERS\, dove stiamo promuovendo una rete nazionale insieme a FFF ed exGKN (di cui sosteniamo la campagna di azionariato popolare) \n• il nuovo progetto CoRe \n• l’espansione della rete in più territori\, la promozione di accordi e la partecipazione di Ries a incontri pubblici (Solidalia\, Tuttunalaltracosa\, ecc.). \nLINK per partecipare: \nhttps://us02web.zoom.us/j/84018868051?pwd=bKOfR6j40Z7dqMkX2RaWi2uO4teDHT.1 \nID riunione: 840 1886 8051\nCodice d’accesso: 685862 \nIstruzioni per la partecipazione\nhttps://us02web.zoom.us/meetings/84018868051/invitations?signature=pQRtiRRTR22j8oP5ROBnVbqR39NuXy0QoR7iShbAjiw \nNON è necessario iscriversi ma si chiede di confermare la partecipazione a: info@rete-ries.it \nVi aspettiamo numerosi!
URL:https://rete-ries.it/evento/riunione-aperta-ries/
LOCATION:Online
CATEGORIES:Events
ATTACH;FMTTYPE=image/jpeg:https://rete-ries.it/wp-content/uploads/2026/01/photo_2026-01-10_20-27-33.jpg
ORGANIZER;CN="RIES":MAILTO:info@rete-ries.it
END:VEVENT
END:VCALENDAR