BEGIN:VCALENDAR
VERSION:2.0
PRODID:-//RIES - Rete Italiana Economia Solidale - ECPv6.15.20//NONSGML v1.0//EN
CALSCALE:GREGORIAN
METHOD:PUBLISH
X-WR-CALNAME:RIES - Rete Italiana Economia Solidale
X-ORIGINAL-URL:https://rete-ries.it
X-WR-CALDESC:Eventi per RIES - Rete Italiana Economia Solidale
REFRESH-INTERVAL;VALUE=DURATION:PT1H
X-Robots-Tag:noindex
X-PUBLISHED-TTL:PT1H
BEGIN:VTIMEZONE
TZID:Europe/Rome
BEGIN:DAYLIGHT
TZOFFSETFROM:+0100
TZOFFSETTO:+0200
TZNAME:CEST
DTSTART:20250330T010000
END:DAYLIGHT
BEGIN:STANDARD
TZOFFSETFROM:+0200
TZOFFSETTO:+0100
TZNAME:CET
DTSTART:20251026T010000
END:STANDARD
BEGIN:DAYLIGHT
TZOFFSETFROM:+0100
TZOFFSETTO:+0200
TZNAME:CEST
DTSTART:20260329T010000
END:DAYLIGHT
BEGIN:STANDARD
TZOFFSETFROM:+0200
TZOFFSETTO:+0100
TZNAME:CET
DTSTART:20261025T010000
END:STANDARD
BEGIN:DAYLIGHT
TZOFFSETFROM:+0100
TZOFFSETTO:+0200
TZNAME:CEST
DTSTART:20270328T010000
END:DAYLIGHT
BEGIN:STANDARD
TZOFFSETFROM:+0200
TZOFFSETTO:+0100
TZNAME:CET
DTSTART:20271031T010000
END:STANDARD
END:VTIMEZONE
BEGIN:VEVENT
DTSTART;TZID=Europe/Rome:20260129T173000
DTEND;TZID=Europe/Rome:20260129T190000
DTSTAMP:20260419T201325
CREATED:20260128T154702Z
LAST-MODIFIED:20260128T154827Z
UID:10000371-1769707800-1769713200@rete-ries.it
SUMMARY:Webinar: Che fine fanno i tuoi soldi?
DESCRIPTION:Una domanda semplice\, che riguarda molto più della finanza.\nUn incontro online per parlare di soldi senza tabù\, per fare chiarezza su cosa accade al nostro denaro quando lo affidiamo a banche e strumenti finanziari. \nSenza tecnicismi\, ma con l’obiettivo di aumentare la consapevolezza sulle scelte quotidiane che facciamo\, spesso senza rendercene conto. \nNe parliamo con: \n\nAminata Gabriella Fall – divulgatrice e content creator sul rapporto tra persone\, lavoro\, soldi ed emancipazione economica.\nGiovanni Alenghi di Banca Etica – Direttore della filiale di Verona di Banca Etica\n\nModera: Andreas Fernandez\, sociologo della comunicazione ed ecologista \nCLICCA QUI PER REGISTRARTI
URL:https://rete-ries.it/evento/webinar-che-fine-fanno-i-tuoi-soldi/
LOCATION:on line
CATEGORIES:Events
ATTACH;FMTTYPE=image/jpeg:https://rete-ries.it/wp-content/uploads/2026/01/che-fine-fanno-i-tuoi-soldi-2.jpg
ORGANIZER;CN="Economia Solidale Trentina":MAILTO:centroeconomiasolidale@consolida.it
END:VEVENT
END:VCALENDAR