BEGIN:VCALENDAR
VERSION:2.0
PRODID:-//RIES - Rete Italiana Economia Solidale - ECPv6.15.20//NONSGML v1.0//EN
CALSCALE:GREGORIAN
METHOD:PUBLISH
X-WR-CALNAME:RIES - Rete Italiana Economia Solidale
X-ORIGINAL-URL:https://rete-ries.it
X-WR-CALDESC:Eventi per RIES - Rete Italiana Economia Solidale
REFRESH-INTERVAL;VALUE=DURATION:PT1H
X-Robots-Tag:noindex
X-PUBLISHED-TTL:PT1H
BEGIN:VTIMEZONE
TZID:Europe/Rome
BEGIN:DAYLIGHT
TZOFFSETFROM:+0100
TZOFFSETTO:+0200
TZNAME:CEST
DTSTART:20250330T010000
END:DAYLIGHT
BEGIN:STANDARD
TZOFFSETFROM:+0200
TZOFFSETTO:+0100
TZNAME:CET
DTSTART:20251026T010000
END:STANDARD
BEGIN:DAYLIGHT
TZOFFSETFROM:+0100
TZOFFSETTO:+0200
TZNAME:CEST
DTSTART:20260329T010000
END:DAYLIGHT
BEGIN:STANDARD
TZOFFSETFROM:+0200
TZOFFSETTO:+0100
TZNAME:CET
DTSTART:20261025T010000
END:STANDARD
BEGIN:DAYLIGHT
TZOFFSETFROM:+0100
TZOFFSETTO:+0200
TZNAME:CEST
DTSTART:20270328T010000
END:DAYLIGHT
BEGIN:STANDARD
TZOFFSETFROM:+0200
TZOFFSETTO:+0100
TZNAME:CET
DTSTART:20271031T010000
END:STANDARD
END:VTIMEZONE
BEGIN:VEVENT
DTSTART;TZID=Europe/Rome:20260131T160000
DTEND;TZID=Europe/Rome:20260131T180000
DTSTAMP:20260419T201330
CREATED:20260130T143855Z
LAST-MODIFIED:20260130T144203Z
UID:10000376-1769875200-1769882400@rete-ries.it
SUMMARY:Banche del Tempo Italiane e Latino-Americane a confronto
DESCRIPTION:Incontro seminariale on-line co-organizzato dal Laboratorio Monete e dal Coordinamento Lombardo delle Banche del Tempo in collaborazione con Associazione Nazionale BDT \nBanche del Tempo Italiane e Latino-Americane a confronto\nesperienze\, criticità\, e possibili sviluppi nei rapporti con\nle Amministrazioni Locali e Nazionali e i Circuiti di Scambio solidali\nPROGRAMMA: \nSaluti \nFiora Cappa (Presidente della ANBDT italiana)\nJason Nardi (Presidente Ries\, rete di Economia Solidale) \nPresentazione \nGrazia Pratella (Coordinamento Lombardo delle BdT): Banche del Tempo: l’economia della relazione\nMaurizio Ruzzene (Laboratorio Monete): Dialogo e cooperazione fra diversi sistemi di scambio non monetario \nInterventi \n– Marialuisa Petrucci (Presidente Onoraria dell&#39;ANBDT): “Quale futuro per le Banche del Tempo”\n– J. Gisbert Quero (Presidente dell&#39;Associazione delle BdT Ibero-Americane): “Economia solidale e moneta tempo”\n– Josefina. Altes (formatrice per la rete delle BdT Spagnole): ”Laboratorio di innovazione delle Banche del Tempo” \nDibattito \nMariangeles Exposito della Banca del Tempo di Cusago tradurrà dallo spagnolo \nLink per connettervi all’incontro: https://meet.ripess.org/mau-a8g-8gg-xpt
URL:https://rete-ries.it/evento/banche-del-tempo-italiane-e-latino-americane-a-confronto/
LOCATION:on line
CATEGORIES:Events
ATTACH;FMTTYPE=image/jpeg:https://rete-ries.it/wp-content/uploads/2026/01/coordinamento-banche-del-tempo.jpg
END:VEVENT
END:VCALENDAR