BEGIN:VCALENDAR
VERSION:2.0
PRODID:-//RIES - Rete Italiana Economia Solidale - ECPv6.15.20//NONSGML v1.0//EN
CALSCALE:GREGORIAN
METHOD:PUBLISH
X-ORIGINAL-URL:https://rete-ries.it
X-WR-CALDESC:Eventi per RIES - Rete Italiana Economia Solidale
REFRESH-INTERVAL;VALUE=DURATION:PT1H
X-Robots-Tag:noindex
X-PUBLISHED-TTL:PT1H
BEGIN:VTIMEZONE
TZID:Europe/Rome
BEGIN:DAYLIGHT
TZOFFSETFROM:+0100
TZOFFSETTO:+0200
TZNAME:CEST
DTSTART:20250330T010000
END:DAYLIGHT
BEGIN:STANDARD
TZOFFSETFROM:+0200
TZOFFSETTO:+0100
TZNAME:CET
DTSTART:20251026T010000
END:STANDARD
BEGIN:DAYLIGHT
TZOFFSETFROM:+0100
TZOFFSETTO:+0200
TZNAME:CEST
DTSTART:20260329T010000
END:DAYLIGHT
BEGIN:STANDARD
TZOFFSETFROM:+0200
TZOFFSETTO:+0100
TZNAME:CET
DTSTART:20261025T010000
END:STANDARD
BEGIN:DAYLIGHT
TZOFFSETFROM:+0100
TZOFFSETTO:+0200
TZNAME:CEST
DTSTART:20270328T010000
END:DAYLIGHT
BEGIN:STANDARD
TZOFFSETFROM:+0200
TZOFFSETTO:+0100
TZNAME:CET
DTSTART:20271031T010000
END:STANDARD
END:VTIMEZONE
BEGIN:VEVENT
DTSTART;VALUE=DATE:20260205
DTEND;VALUE=DATE:20260208
DTSTAMP:20260419T201459
CREATED:20260130T103108Z
LAST-MODIFIED:20260204T110432Z
UID:10000374-1770249600-1770508799@rete-ries.it
SUMMARY:9° Incontro della Rete Italiana Politiche Locali del Cibo
DESCRIPTION:E’ disponibile il programma definitivo del 9° Incontro della Rete Italiana Politiche Locali del Cibo dal titolo  Politiche del cibo fra urbano e rurale: dialoghi\, sinergie\, connessioni.  \n  \nClicca qui per scaricare il PROGRAMMA \nClicca qui per la pagina del sito della Rete Politiche locali del sito con tutte le informazioni \n  \nViste le numerose richieste di seguire le diverse sessioni da remoto\, tutte le sessioni saranno trasmesse in streaming\,\nNella tabella trovate tutti i link per seguire le sessioni online. \n\n\n\nSessione\nLink\nPiattaforma\n\n\nGiovedì 5 febbraio dalle 10:45 alle 18:30 – Sessione plenaria\nLink allo streaming\nMicrosoft Teams\n\n\nVenerdì 6 febbraio dalle 09:00 alle 13:00 – Sessioni parallele\n\n\nSessione 1.1 e Sessione 1.2 – Governance e strumenti delle Politiche Locali del Cibo\nLink allo streaming\nMicrosoft Teams\n\n\nSessione 2.1 e Sessione 2.2 – Concettualizzazione dei sistemi del cibo\, relazioni urbano-rurali\, filiere territoriali e sviluppo rurale\nLink allo streaming\nMicrosoft Teams\n\n\nSessione 3.1 e Sessione 3.2 – Transizione agroecologia\, strategie per maggiore sostenibilità\, gestione della biodiversità\nLink allo streaming\nMicrosoft Teams\n\n\nSessione 4 – Appalti pubblici\, ristorazione collettiva\, strategie per affrontare spreco alimentare\nLink allo streaming\nMicrosoft Teams\n\n\nSessione 5 – Giustizia alimentare\, accesso al cibo e welfare\, questioni di genere\nLink allo streaming\nMicrosoft Teams\n\n\nSessione 6 – Partecipazione\, cittadinanza alimentare\, iniziative di innovazione sociale\nLink allo streaming\nCisco Webex\n\n\nSessione 7 – Condivisione della conoscenza\, comunicazione e strumenti digitali\nLink allo streaming\nCisco Webex\n\n\nVenerdì 6 febbraio dalle 14:30 alle 16:00 – Seminari Tavoli di Lavoro\n\n\nEducare nutrendo: la mensa che insegna\nLink allo streaming\nCisco Webex\n\n\nLe riserve della Biosfera Unesco (MAB) come laboratori per sistemi del cibo sostenibili\nLink allo streaming\nGoogle Meet\n\n\nTra consumi\, stili di vita\, parità di genere e sostenibilità: confronto collettivo sugli obiettivi raggiunti e i passi futuri\nLink allo streaming\nCisco Webex\n\n\nTra ambizione e realtà: la coerenza delle politiche su perdite e sprechi alimentari\nLink allo streaming\nMicrosoft Teams\n\n\nPer un tavolo della Rete PLC su politiche locali del cibo e agroecologia. Un confronto tra Italia e America Latina\nLink allo streaming\nGoogle Meet\n\n\nLa Rete degli Atlanti locali come strumento a supporto di politiche del cibo: processi e avanzamenti dei nuovi Atlanti\nLink allo streaming\nCisco Webex\n\n\n\nEnti organizzatori: Rete Italiana Politiche Locali del Cibo\, Dipartimento di Scienze Agrarie\, Alimentari e Ambientali dell’Università di Perugia (DSA3) e CREA-Politiche e Bioeconomia\, con il supporto di RetePAC.
URL:https://rete-ries.it/evento/9-incontro-della-rete-italiana-politiche-locali-del-cibo/
LOCATION:Università di Perugia\, DSA3\, Borgo XX Giugno\, 74.\, Perugia\, Italy
CATEGORIES:Events
ATTACH;FMTTYPE=image/png:https://rete-ries.it/wp-content/uploads/2026/01/9°-Incontro-Nazionale-Perugia-s.png
END:VEVENT
END:VCALENDAR