BEGIN:VCALENDAR
VERSION:2.0
PRODID:-//RIES - Rete Italiana Economia Solidale - ECPv6.15.20//NONSGML v1.0//EN
CALSCALE:GREGORIAN
METHOD:PUBLISH
X-WR-CALNAME:RIES - Rete Italiana Economia Solidale
X-ORIGINAL-URL:https://rete-ries.it
X-WR-CALDESC:Eventi per RIES - Rete Italiana Economia Solidale
REFRESH-INTERVAL;VALUE=DURATION:PT1H
X-Robots-Tag:noindex
X-PUBLISHED-TTL:PT1H
BEGIN:VTIMEZONE
TZID:Europe/Rome
BEGIN:DAYLIGHT
TZOFFSETFROM:+0100
TZOFFSETTO:+0200
TZNAME:CEST
DTSTART:20210328T010000
END:DAYLIGHT
BEGIN:STANDARD
TZOFFSETFROM:+0200
TZOFFSETTO:+0100
TZNAME:CET
DTSTART:20211031T010000
END:STANDARD
BEGIN:DAYLIGHT
TZOFFSETFROM:+0100
TZOFFSETTO:+0200
TZNAME:CEST
DTSTART:20220327T010000
END:DAYLIGHT
BEGIN:STANDARD
TZOFFSETFROM:+0200
TZOFFSETTO:+0100
TZNAME:CET
DTSTART:20221030T010000
END:STANDARD
BEGIN:DAYLIGHT
TZOFFSETFROM:+0100
TZOFFSETTO:+0200
TZNAME:CEST
DTSTART:20230326T010000
END:DAYLIGHT
BEGIN:STANDARD
TZOFFSETFROM:+0200
TZOFFSETTO:+0100
TZNAME:CET
DTSTART:20231029T010000
END:STANDARD
END:VTIMEZONE
BEGIN:VEVENT
DTSTART;TZID=Europe/Rome:20220308T204500
DTEND;TZID=Europe/Rome:20220308T223000
DTSTAMP:20260424T044646
CREATED:20220308T071057Z
LAST-MODIFIED:20220308T071057Z
UID:10000100-1646772300-1646778600@rete-ries.it
SUMMARY:Incontro con CoEnergia
DESCRIPTION:Invitiamo tutti i soci a conoscere\, discutere e affrontare nel merito le attività di CoEnergia e le proposte che vuole fare alla RIES. \nIn particolare\, verranno presentate: \n– La proposta di sinergie sulle due filiere di cui si occupa CoEnergia (alimentazione ed energia) \n– Il modello adottato dei patti di filiera nella gestione della relazione tra consumatori e produttori solidali \nDopo la presentazione da parte di CoEnergia\, si aprirà alle domande e ai contributi dei soci.
URL:https://rete-ries.it/evento/incontro-con-coenergia/
LOCATION:Online
ATTACH;FMTTYPE=image/png:https://rete-ries.it/wp-content/uploads/2022/03/CO-ENERGIA-2.png
ORGANIZER;CN="RIES":MAILTO:info@rete-ries.it
END:VEVENT
END:VCALENDAR