BEGIN:VCALENDAR
VERSION:2.0
PRODID:-//RIES - Rete Italiana Economia Solidale - ECPv6.15.20//NONSGML v1.0//EN
CALSCALE:GREGORIAN
METHOD:PUBLISH
X-WR-CALNAME:RIES - Rete Italiana Economia Solidale
X-ORIGINAL-URL:https://rete-ries.it
X-WR-CALDESC:Eventi per RIES - Rete Italiana Economia Solidale
REFRESH-INTERVAL;VALUE=DURATION:PT1H
X-Robots-Tag:noindex
X-PUBLISHED-TTL:PT1H
BEGIN:VTIMEZONE
TZID:Europe/Rome
BEGIN:DAYLIGHT
TZOFFSETFROM:+0100
TZOFFSETTO:+0200
TZNAME:CEST
DTSTART:20210328T010000
END:DAYLIGHT
BEGIN:STANDARD
TZOFFSETFROM:+0200
TZOFFSETTO:+0100
TZNAME:CET
DTSTART:20211031T010000
END:STANDARD
BEGIN:DAYLIGHT
TZOFFSETFROM:+0100
TZOFFSETTO:+0200
TZNAME:CEST
DTSTART:20220327T010000
END:DAYLIGHT
BEGIN:STANDARD
TZOFFSETFROM:+0200
TZOFFSETTO:+0100
TZNAME:CET
DTSTART:20221030T010000
END:STANDARD
BEGIN:DAYLIGHT
TZOFFSETFROM:+0100
TZOFFSETTO:+0200
TZNAME:CEST
DTSTART:20230326T010000
END:DAYLIGHT
BEGIN:STANDARD
TZOFFSETFROM:+0200
TZOFFSETTO:+0100
TZNAME:CET
DTSTART:20231029T010000
END:STANDARD
END:VTIMEZONE
BEGIN:VEVENT
DTSTART;VALUE=DATE:20220611
DTEND;VALUE=DATE:20220612
DTSTAMP:20260424T072838
CREATED:20220523T090941Z
LAST-MODIFIED:20220523T090941Z
UID:10000118-1654905600-1654991999@rete-ries.it
SUMMARY:Solidalia: la festa dell'economia solidale parmense
DESCRIPTION:Arriva nel territorio parmense una nuova occasione di confronto\, approfondimento e divertimento sui temi della sostenibilità sociale e economica\, ambientale e alimentare: SOLIDALIA 2022\, la FESTA DELL’ECONOMIA SOLIDALE è una manifestazione promossa da DES (Distretto Economia Solidale) Parma e si terrà sabato 11 giugno dalle ore 9.30 a mezzanotte presso la Fattoria di Vigheffio (Collecchio). Le cittadine e i cittadini potranno partecipare in modo libero a gratuito a un’esperienza unica di immersione nei tanti temi che l’economia solidale implica. Ma SOLIDALIA non è solo una festa: è anche un mercato\, ricchissimo di varietà alimentari e artigianali\, un’occasione per incontri e laboratori\, concerti e mercatino del riuso. La festa è organizzata dal DES Parma\, il Distretto di Economia Solidale cittadino\, in collaborazione con Comune di Parma\, Comune di Collecchio e Comune di Fidenza\, AUSL di Parma\, Emc2 Onlus\, Avalon e con il contributo di Fondazione Cariparma.
URL:https://rete-ries.it/evento/solidalia-la-festa-delleconomia-solidale-parmense/
ATTACH;FMTTYPE=image/jpeg:https://rete-ries.it/wp-content/uploads/2022/05/Solidalia_2_800.jpeg
END:VEVENT
BEGIN:VEVENT
DTSTART;TZID=Europe/Rome:20220612T100000
DTEND;TZID=Europe/Rome:20220612T170000
DTSTAMP:20260424T072838
CREATED:20220609T082214Z
LAST-MODIFIED:20220609T082503Z
UID:10000120-1655028000-1655053200@rete-ries.it
SUMMARY:Politiche del Cibo. Certificazione partecipata e comunitaria
DESCRIPTION:S’intitola “Politiche per il cibo. Certificazione partecipata e comunitaria” l’evento in programma a Preganziol\, in provincia di Treviso. \nUna giornata che si aprirà alle ore 10 con un convegno durante il quale ci saranno riflessioni e testimonianze di esperienze agricole che mettono al centro la relazione interpersonale nella prospettiva di creare una comunità consapevole che certifichi la bontà ecologica del cibo in cui crede e che la nutre. \nAlle ore 13 ci si trasferirà presso l’agriturismo di Rio Selva per il pranzo (15 euro a persone\, bevande escluse) e alle 14.30 è in programma cerchi di approfondimento agromomico. \nInterverranno Riccardo Bovo\, assessore all’ambiente del comune di Preganziol; Jason Nardi\, presidente dI RIES; Gianni Tamino\, biologo e rappresentante dell’organizzazione di Venezia 2022; Franco Zecchinato\, presidente della coop. agricola biologica ElTamiso; Domenico Maffeo\, presidente di OltreConfine – Distretto di economia solidale e rappresentante legale della biofattoria Rio Selva. \nL’evento è organizzato da Verso Venezia 2022\, Ries\, Humus-Rete sociale per la Bioagricolturasociale italiana\, OltreConfine – Distretto di economia solidale. Con il supporto di CAES-Consorzio assicurativo etico e solidale. \nClicca qui per accedere al form d’iscrizione all’evento
URL:https://rete-ries.it/evento/politiche-del-cibo-certificazione-partecipata-e-comunitaria/
LOCATION:Preganziol (TV)
ATTACH;FMTTYPE=image/jpeg:https://rete-ries.it/wp-content/uploads/2022/06/SPGS_mod.jpg
END:VEVENT
BEGIN:VEVENT
DTSTART;TZID=Europe/Rome:20220613T180000
DTEND;TZID=Europe/Rome:20220613T193000
DTSTAMP:20260424T072838
CREATED:20220609T114125Z
LAST-MODIFIED:20220609T114503Z
UID:10000123-1655143200-1655148600@rete-ries.it
SUMMARY:Incontro soci RIES sulla Carta dell'Economia Solidale
DESCRIPTION:Alla luce dei cambiamenti dell’ultimo decennio è necessario ripensare e aggiornare la Carta dell’Economia Solidale: questo è il tema del prossimo incontro dei soci RIES\, come deciso nel corso dell’ultima assemblea. \nSi discuterà su come e quando avviare il percorso e ci confronteremo sulle tappe e le modalità di partecipazione. \nIl percorso sarà naturalmente rivolto a tutta la galassia delle economie solidali\, aperto\, articolato e diffuso – a partire dalle reti territoriali e tematiche / settoriali\, cercando di coinvolgere tutte le realtà\, iniziative\, organizzazioni\, imprese e comunità che si identificano e di fatto costituiscono il movimento ecosol in Italia. \nPoiché lo scopo principale della RIES è proprio quella di promuovere la costruzione del movimento in rete attraverso la collaborazione e il confronto con tutte le realtà che si richiamano ai principi e valori fondanti dell’economia solidale\, la sfida è proprio quella di chiamare a raccolta e creare un vero dibattito che possa poi trovare una sintesi in un manifesto aggiornato e condiviso.
URL:https://rete-ries.it/evento/incontro-soci-ries-sulla-carta-delleconomia-solidale/
LOCATION:Online
ATTACH;FMTTYPE=image/png:https://rete-ries.it/wp-content/uploads/2021/10/RIES_logo_web.png
ORGANIZER;CN="RIES":MAILTO:info@rete-ries.it
END:VEVENT
BEGIN:VEVENT
DTSTART;TZID=Europe/Rome:20220613T203000
DTEND;TZID=Europe/Rome:20220613T223000
DTSTAMP:20260424T072838
CREATED:20220609T085707Z
LAST-MODIFIED:20220609T090910Z
UID:10000122-1655152200-1655159400@rete-ries.it
SUMMARY:CSA: potenzialità e sfide
DESCRIPTION:Il progetto NUMES si poneva l’obiettivo di conoscere meglio il modello CSA (Comunità a Supporto dell’Agricoltura) e di diffonderlo il più possibile in Italia.\nOra\, con questo webinar verranno restituiti i risultati dell’indagine e saranno forniti il vademecum per l’avvio di nuove CSA e il materiale comunicativo realizzato.\nSeguiranno testimonianze di alcune CSA coinvolte e dibattito.\nClicca qui per iscriverti
URL:https://rete-ries.it/evento/csa-potenzialita-e-sfide/
LOCATION:Online
ATTACH;FMTTYPE=image/jpeg:https://rete-ries.it/wp-content/uploads/2022/06/Evento-finale-Numes-LD-scaled.jpg
END:VEVENT
BEGIN:VEVENT
DTSTART;VALUE=DATE:20220615
DTEND;VALUE=DATE:20220709
DTSTAMP:20260424T072838
CREATED:20220423T150659Z
LAST-MODIFIED:20220423T150700Z
UID:10000110-1655251200-1657324799@rete-ries.it
SUMMARY:Green4C Summer School: specializzazione in "Green Care entrepreneurship"
DESCRIPTION:La Green4C (Green for care) Summer School: offre una possibilità unica ed esclusiva per acquisire conoscenza e competenze imprenditoriali in  Green Care\, cioè le attività che promuovono la salute fisica e mentale e il benessere attraverso il contatto con la natura. \nrange of activities that promotes physical and mental health and well-being through contact with nature” or the first time\, top European experts in Green Care will come together to share knowledge and best practices related to this sector. Solo i partecipanti selezionati attraverso la BIC (Business Innovation Challenge) potranno accedere alla Summer School. \nQui tutte le informazioni sul BIC e su come partecipare all’iniziativa.
URL:https://rete-ries.it/evento/green4c-summer-school-specializzazione-in-green-care-entrepreneurship/
LOCATION:Agripolis Campus (Università di Padova)
ATTACH;FMTTYPE=image/jpeg:https://rete-ries.it/wp-content/uploads/2022/04/slider_school-1536x511-1.jpg
END:VEVENT
BEGIN:VEVENT
DTSTART;TZID=Europe/Rome:20220615T173000
DTEND;TZID=Europe/Rome:20220615T220000
DTSTAMP:20260424T072838
CREATED:20220607T085308Z
LAST-MODIFIED:20220609T082713Z
UID:10000119-1655314200-1655330400@rete-ries.it
SUMMARY:GAStorino incontra le Galline Felici
DESCRIPTION:La rete GAStorino ed il consorzio siciliano delle Galline Felici\, insieme alle cooperative ISoLa\, Verdessenza e Mondo Nuovo\, organizzano un incontro per rafforzare la conoscenza e condividere strategie tra Gas\, cooperative e produttori.\nSarà un’occasione per conoscere e scambiare idee\, oltre che con i Gas e le Galline Felici\, anche con altri produttori piemontesi. Sarà anche possibile conoscere ed acquistare alcuni prodotti delle Galline Felici\, compresi i trasformati.
URL:https://rete-ries.it/evento/gastorino-incontra-le-galline-felici/
LOCATION:Circolo CH4\, via Trofarello 10\, Torino\, Italia
ATTACH;FMTTYPE=image/jpeg:https://rete-ries.it/wp-content/uploads/2022/06/Gallina_occhi_800.jpg
END:VEVENT
BEGIN:VEVENT
DTSTART;TZID=Europe/Rome:20220624T203000
DTEND;TZID=Europe/Rome:20220624T223000
DTSTAMP:20260424T072838
CREATED:20220610T141726Z
LAST-MODIFIED:20220610T141726Z
UID:10000126-1656102600-1656109800@rete-ries.it
SUMMARY:Energia: consumatori consapevoli per il risparmio e il pianeta
DESCRIPTION:Evento sulle alternative possibili: fonti rinnovabili e Comunità Energetiche
URL:https://rete-ries.it/evento/energia-consumatori-consapevoli-per-il-risparmio-e-il-pianeta/
LOCATION:on line
ATTACH;FMTTYPE=image/jpeg:https://rete-ries.it/wp-content/uploads/2022/06/Energia-24-giugno.jpeg
END:VEVENT
BEGIN:VEVENT
DTSTART;TZID=Europe/Rome:20220625T100000
DTEND;TZID=Europe/Rome:20220625T190000
DTSTAMP:20260424T072838
CREATED:20220609T122002Z
LAST-MODIFIED:20220609T210335Z
UID:10000124-1656151200-1656183600@rete-ries.it
SUMMARY:Lavoro\, decrescita ed economia solidale
DESCRIPTION:Evento nazionale di confronto pubblico tra mondo del lavoro/vertenze operaie\, mondo della decrescita e mondo dell’economia trasformativa e solidale\, concordato nel Forum dei Movimenti a Roma a fine febbraio. Il confronto proseguirà poi durante l’incontro di Venezia a settembre ed altri eventi. \nL’iniziativa è co-promossa da RIES.  E’ possibile partecipare di persona oppure online. \nCliccare qui per iscriversi
URL:https://rete-ries.it/evento/lavoro-decrescita-ed-economia-solidale/
LOCATION:Casa del Municipio Roma Centro\, Via G. Galilei‚ 53\, Roma
ATTACH;FMTTYPE=image/png:https://rete-ries.it/wp-content/uploads/2022/04/logoVenezia__.png
END:VEVENT
BEGIN:VEVENT
DTSTART;TZID=Europe/Rome:20220625T140000
DTEND;TZID=Europe/Rome:20220626T190000
DTSTAMP:20260424T072838
CREATED:20220609T084350Z
LAST-MODIFIED:20220609T084426Z
UID:10000121-1656165600-1656270000@rete-ries.it
SUMMARY:Assemblea Rete Italiana delle CSA
DESCRIPTION:La rete italiana delle CSA (Comunità a Supporto dell’Agricoltura) terrà la sua assemblea a Roma\, presso la CSA Roma Semi di Comunità. \nDi seguito il programma dei lavori: \nSabato 25 Giugno  \nh 14:00 —19:00: plenaria\, 2 soci per ogni CSA \n\ni)  Il senso di essere comunità delle CSA (14:00-16:00)\nii) Il potenziale trasformativo delle CSA (16:30-19:00)\n\nh 19:30 —20:00 : Visita dei campi \nh 20:30 —24:00: cena + proiezione video progetto Numes\, concerto\, dj set \n** h14:00—19:00: attività di campo e laboratori per chi non partecipa alla plenaria \nDomenica 26 Giugno  \nh 08:00 — 08:30: colazione \nh 09:00 — 12:30:  plenaria\, 2 soci per ogni CSA \n\ni) Aggiornamento sugli impegni presi all’assemblea di Trento (09:00 – 12:00)\nii) aggiornamenti sul progetto Salsifi (12:00 – 12:30)\n\nh 13:00 —14:00: pranzo \nh 14:00 —15:00: dialogo aperto ai soci delle CSA \n\ni) Resoconto della plenaria di sabato\n\nh 15:00 —17:00: dialogo aperto alle realtà esterne \n\ni) interazione della RICSA con altre reti ed altri movimenti impegnati sul tema della sovranità alimentare\n\n** h 09:00—12:30: attività di campo e laboratori per chi non partecipa alla plenaria \n 
URL:https://rete-ries.it/evento/assemblea-rete-italiana-delle-csa/
LOCATION:CSA Roma Semi di Comunità\, via del prato della Corte 1602/A\, Roma
ATTACH;FMTTYPE=image/jpeg:https://rete-ries.it/wp-content/uploads/2022/06/locandina_incontro_RICSA-1.jpg
END:VEVENT
BEGIN:VEVENT
DTSTART;TZID=Europe/Rome:20220627T180000
DTEND;TZID=Europe/Rome:20220627T203000
DTSTAMP:20260424T072838
CREATED:20220609T190353Z
LAST-MODIFIED:20220609T210227Z
UID:10000125-1656352800-1656361800@rete-ries.it
SUMMARY:Riprendiamoci il Comune
DESCRIPTION:Un nuovo modello di società\, capace di superare le multiformi crisi che stiamo attraversando\, non può che partire da un nuovo ruolo dei Comuni e da comunità locali trasformative e in mobilitazione. \nPer questo Attac Italia propone a tutte le realtà l’avvio della campagna “Riprendiamoci il Comune”\, che avrà il suo fulcro in due proposte di legge d’iniziativa popolare che verranno lanciate nei prossimi mesi\, e invita al seminario di autoformazione del 27 giugno\, per conoscere\, capire e confrontarsi\, grazie al contributo di: \n\nSimona Repole (esperta di finanza degli enti locali)\nCorrado Conti (Attac Italia – proposta di legge sulla riforma della finanza pubblica locale)\nMarco Bersani (Attac Italia – proposta di legge sulla socializzazione di Cassa Depositi e Prestiti)\n\nPer collegarsi al seminario di autoformazione dovrete cliccare sul seguente link (Zoom Meeting): \nhttps://us02web.zoom.us/j/85116410572?pwd=elhYZ2lBZFh5Z0hycGROUlNuVEdNdz09\n\nMeeting ID: 851 1641 0572   –   Passcode: 772763\nLe due proposte di legge si intitolano: “Principi e disposizioni per la riforma della finanza pubblica locale” e “Principi e disposizioni per la tutela del risparmio e per la socializzazione di Cassa Depositi e Prestiti” e cliccando i link qui sotto si possono scaricare i testi : \nhttps://www.attac-italia.org/wp-content/uploads/2021/01/proposta-di-legge-riforma-della-finanza-pubblica-locale.pdf \nhttps://www.attac-italia.org/wp-content/uploads/2021/01/proposta-di-legge-socializzazione-cdp.pdf
URL:https://rete-ries.it/evento/riprendiamoci-il-comune/
LOCATION:on line
ATTACH;FMTTYPE=image/jpeg:https://rete-ries.it/wp-content/uploads/2022/06/Riprendiamoci_il_comune300x200.jpg
END:VEVENT
END:VCALENDAR