BEGIN:VCALENDAR
VERSION:2.0
PRODID:-//RIES - Rete Italiana Economia Solidale - ECPv6.15.20//NONSGML v1.0//EN
CALSCALE:GREGORIAN
METHOD:PUBLISH
X-WR-CALNAME:RIES - Rete Italiana Economia Solidale
X-ORIGINAL-URL:https://rete-ries.it
X-WR-CALDESC:Eventi per RIES - Rete Italiana Economia Solidale
REFRESH-INTERVAL;VALUE=DURATION:PT1H
X-Robots-Tag:noindex
X-PUBLISHED-TTL:PT1H
BEGIN:VTIMEZONE
TZID:Europe/Rome
BEGIN:DAYLIGHT
TZOFFSETFROM:+0100
TZOFFSETTO:+0200
TZNAME:CEST
DTSTART:20210328T010000
END:DAYLIGHT
BEGIN:STANDARD
TZOFFSETFROM:+0200
TZOFFSETTO:+0100
TZNAME:CET
DTSTART:20211031T010000
END:STANDARD
BEGIN:DAYLIGHT
TZOFFSETFROM:+0100
TZOFFSETTO:+0200
TZNAME:CEST
DTSTART:20220327T010000
END:DAYLIGHT
BEGIN:STANDARD
TZOFFSETFROM:+0200
TZOFFSETTO:+0100
TZNAME:CET
DTSTART:20221030T010000
END:STANDARD
BEGIN:DAYLIGHT
TZOFFSETFROM:+0100
TZOFFSETTO:+0200
TZNAME:CEST
DTSTART:20230326T010000
END:DAYLIGHT
BEGIN:STANDARD
TZOFFSETFROM:+0200
TZOFFSETTO:+0100
TZNAME:CET
DTSTART:20231029T010000
END:STANDARD
BEGIN:DAYLIGHT
TZOFFSETFROM:+0100
TZOFFSETTO:+0200
TZNAME:CEST
DTSTART:20240331T010000
END:DAYLIGHT
BEGIN:STANDARD
TZOFFSETFROM:+0200
TZOFFSETTO:+0100
TZNAME:CET
DTSTART:20241027T010000
END:STANDARD
END:VTIMEZONE
BEGIN:VEVENT
DTSTART;VALUE=DATE:20221212
DTEND;VALUE=DATE:20221214
DTSTAMP:20260424T001812
CREATED:20221206T112259Z
LAST-MODIFIED:20221206T112259Z
UID:10000143-1670803200-1670975999@rete-ries.it
SUMMARY:Dalla Strategia di bioeconomia alla Bioeconomia integrata
DESCRIPTION:Il  25  settembre  2020\,   si  è  tenuta  la  conferenza multidisciplinare “La Strategia europea di bioeconomia: scenari e impatti territoriali\, opportunità e rischi” – patrocinata da società scientifiche e università – che ha raccolto i contributi di storici\, geografi\, economisti\, urbanisti\, costituzionalisti\, biologi\, biologi forestali e medici le cui analisi hanno messo in evidenza una serie di criticità sulla base delle quali si può asserire che la Strategia di bioeconomia della Commissione europea e la conseguente Strategia Italiana siano piuttosto distanti dall’idea originaria di Bioeconomia teorizzata negli anni sessanta da Nicholas Georgescu-Roegen\, ovvero una bioeconomia in armonia con la vita e le leggi della natura. \nLa Strategia di bioeconomia attuale\, invece\, riflette un’accezione relativamente recente della parola “bioeconomia”\, che nasce dall’industria biotech\, chimica\, farmaceutica\, agroindustriale e dai progressi della biologia\, della genetica e della tecnologia molecolari\, nonché dalla domanda di biomasse per usi non alimentari. \nTale accezione presenta forti contraddizioni rispetto agli stessi obiettivi che si pone\, in quanto dipendente da risorse non sostenibili\, non rinnovabili e importate da Paesi esterni all’Unione europea\, arrivando alla conclusione che\, per tali ragioni\, essa stessa richiederebbe una rielaborazione che non può prescindere dal suo adeguamento alla Strategia europea sulla biodiversità\, nonché al Piano nazionale integrato per l’energia e il clima. \nLa conferenza in programma si interroga su come attuare nella contemporaneità una bioeconomia integrata e in armonia con la vita e la natura. \nScarica il programma \nLeggi l’articolo di approfondimento su Comune-info
URL:https://rete-ries.it/evento/dalla-strategia-di-bioeconomia-alla-bioeconomia-integrata/
LOCATION:Villa Celimontana\, via della Navicella\, 12\, Roma\, Italia
ATTACH;FMTTYPE=image/png:https://rete-ries.it/wp-content/uploads/2022/12/banner_conferenza_OIB_2022.png
END:VEVENT
BEGIN:VEVENT
DTSTART;TZID=Europe/Rome:20221214T173000
DTEND;TZID=Europe/Rome:20221214T193000
DTSTAMP:20260424T001812
CREATED:20221213T123239Z
LAST-MODIFIED:20221213T123239Z
UID:10000146-1671039000-1671046200@rete-ries.it
SUMMARY:MAG VERONA PRESENTA ONLINE IL NUMERO DELLA RIVISTA “CREATIVITÀ GIOVANILE. TRA FERITE E SLANCI”
DESCRIPTION:Link peer seguire la diretta su Zoom: https://us06web.zoom.us/j/83577670009?pwd=R2JuZ2hNczRlUzloYWdLdHAySFVTdz09#success \nID riunione: 835 7767 0009 \nPasscode: 459852
URL:https://rete-ries.it/evento/mag-verona-presenta-online-il-numero-della-rivista-creativita-giovanile-tra-ferite-e-slanci/
LOCATION:Online
ATTACH;FMTTYPE=image/png:https://rete-ries.it/wp-content/uploads/2022/12/Banner-RIES-WP-1280-×-640-3.png
END:VEVENT
BEGIN:VEVENT
DTSTART;VALUE=DATE:20221217
DTEND;VALUE=DATE:20221218
DTSTAMP:20260424T001812
CREATED:20221130T120919Z
LAST-MODIFIED:20221130T120919Z
UID:10000142-1671235200-1671321599@rete-ries.it
SUMMARY:Humus! Per la terra
DESCRIPTION:
URL:https://rete-ries.it/evento/humus-per-la-terra/
LOCATION:Bologna\, Via Azzo Gardino 65\, Bologna\, Italia\, 40122\, Italia
ATTACH;FMTTYPE=image/png:https://rete-ries.it/wp-content/uploads/2022/11/Banner-RIES-800x600-1280-×-640-px.png
END:VEVENT
BEGIN:VEVENT
DTSTART;TZID=Europe/Rome:20221217T090000
DTEND;TZID=Europe/Rome:20221217T130000
DTSTAMP:20260424T001812
CREATED:20221216T182827Z
LAST-MODIFIED:20221216T182827Z
UID:10000147-1671267600-1671282000@rete-ries.it
SUMMARY:AltroNatale\, un baobab di speranze
DESCRIPTION:Aeres Venezia per l’altraeconomia promuove\, dal 17 al 24 dicembre\, un Natale al centro del cambiamento\, della ricerca della Pace\, per l’integrazione e l’inclusione sociale\, per contrastare l’abilismo\, per promuovere le economie bio equo e solidali!\n\n\nSaranno presenti 12 realtà dell’economia sociale e solidale con oltre 1000 prodotti e laboratori didattici gratuiti per bambini.
URL:https://rete-ries.it/evento/altronatale-un-baobab-di-speranze/
ATTACH;FMTTYPE=image/jpeg:https://rete-ries.it/wp-content/uploads/2022/12/AltroNatale.jpg
END:VEVENT
BEGIN:VEVENT
DTSTART;TZID=Europe/Rome:20221217T094500
DTEND;TZID=Europe/Rome:20221217T130000
DTSTAMP:20260424T001812
CREATED:20221213T122559Z
LAST-MODIFIED:20230305T114404Z
UID:10000145-1671270300-1671282000@rete-ries.it
SUMMARY:Aseemblea cittadina del CERS della RESS Roma
DESCRIPTION:Sabato 17 dicembre\, dalle 9.45 alle 13.00\, si svolgerà l’Assemblea cittadina del Coordinamento Comunità Energetiche Rinnovabili e Solidali (Cers) della Ress Roma. L’incontro avrà luogo presso la facoltà di Ingegneria dell’Università la Sapienza\, in via Eudossiana 18.
URL:https://rete-ries.it/evento/assemblea-cittadina-del-cers-della-ress-roma/
LOCATION:ROMA\, Roma\, Italy
CATEGORIES:Events
ATTACH;FMTTYPE=image/png:https://rete-ries.it/wp-content/uploads/2022/12/ghjk.png
END:VEVENT
BEGIN:VEVENT
DTSTART;TZID=Europe/Rome:20221220T170000
DTEND;TZID=Europe/Rome:20221220T233000
DTSTAMP:20260424T001812
CREATED:20221208T183623Z
LAST-MODIFIED:20221208T183904Z
UID:10000144-1671555600-1671579000@rete-ries.it
SUMMARY:Comune-info in festa!
DESCRIPTION:Comune-info\, media partner di RIES\, festeggia il suo decimo compleanno e invita tutti alla festa che si terrà il 20 dicembre a SCUP. \nPROGRAMMA indicativo (è in continuo aggiornamento) \nore 17  MERCATO DEI BENI ESSENZIALI – Banchetti dei contadini della campagna romana \nore 19 BENVENUTO della redazione di Comune e di Scup \nore 19\,15 ASCANIO CELESTINI \nore 20\,15 CENA \nore 21\,45 “Se hai un problema… aggiungi olio”\nViaggio nella cucina popolare italiana\nSPETTACOLO di cucina\, musica dal vivo\, teatro e video
URL:https://rete-ries.it/evento/comune-info-in-festa/
LOCATION:Scup\, via della stazione Tuscolana\, 84\, Roma\, Italia
ATTACH;FMTTYPE=image/jpeg:https://rete-ries.it/wp-content/uploads/2022/12/festa-comune-info.jpg
ORGANIZER;CN="Comune-info":MAILTO:info@comune-info.net
END:VEVENT
BEGIN:VEVENT
DTSTART;VALUE=DATE:20221231
DTEND;VALUE=DATE:20230115
DTSTAMP:20260424T001812
CREATED:20221104T204817Z
LAST-MODIFIED:20221220T180754Z
UID:10000089-1672444800-1673740799@rete-ries.it
SUMMARY:Viaggio responsabile in Senegal
DESCRIPTION:dal 31 dicembre > al 14 gennaio\nVIAGGIA & SCEGLI COME STARE NEL MONDO\nViaggiare nel profondamente altro\, è un potentissimo strumento di consapevolezza e formazione: un viaggio\niniziatico e gioioso per scoprire che il Sud del mondo ha molto da insegnarci e da condividere!Informazioni:\n> compilate il form al link\nhttps://bit.ly/viaggio-senegal\n> telefonare/inviare sms whatsapp/telegram\na 3928497549 \n> richiedi a 3928497549 la scheda prezzo trasparente
URL:https://rete-ries.it/evento/viaggio-responsabile-in-senegal/
CATEGORIES:Events
ATTACH;FMTTYPE=image/jpeg:https://rete-ries.it/wp-content/uploads/2022/11/Turismo-senegal-e1671558636476.jpeg
END:VEVENT
END:VCALENDAR