BEGIN:VCALENDAR
VERSION:2.0
PRODID:-//RIES - Rete Italiana Economia Solidale - ECPv6.15.20//NONSGML v1.0//EN
CALSCALE:GREGORIAN
METHOD:PUBLISH
X-ORIGINAL-URL:https://rete-ries.it
X-WR-CALDESC:Eventi per RIES - Rete Italiana Economia Solidale
REFRESH-INTERVAL;VALUE=DURATION:PT1H
X-Robots-Tag:noindex
X-PUBLISHED-TTL:PT1H
BEGIN:VTIMEZONE
TZID:Europe/Rome
BEGIN:DAYLIGHT
TZOFFSETFROM:+0100
TZOFFSETTO:+0200
TZNAME:CEST
DTSTART:20220327T010000
END:DAYLIGHT
BEGIN:STANDARD
TZOFFSETFROM:+0200
TZOFFSETTO:+0100
TZNAME:CET
DTSTART:20221030T010000
END:STANDARD
BEGIN:DAYLIGHT
TZOFFSETFROM:+0100
TZOFFSETTO:+0200
TZNAME:CEST
DTSTART:20230326T010000
END:DAYLIGHT
BEGIN:STANDARD
TZOFFSETFROM:+0200
TZOFFSETTO:+0100
TZNAME:CET
DTSTART:20231029T010000
END:STANDARD
BEGIN:DAYLIGHT
TZOFFSETFROM:+0100
TZOFFSETTO:+0200
TZNAME:CEST
DTSTART:20240331T010000
END:DAYLIGHT
BEGIN:STANDARD
TZOFFSETFROM:+0200
TZOFFSETTO:+0100
TZNAME:CET
DTSTART:20241027T010000
END:STANDARD
END:VTIMEZONE
BEGIN:VEVENT
DTSTART;TZID=Europe/Rome:20230302T180000
DTEND;TZID=Europe/Rome:20230302T203000
DTSTAMP:20260423T112150
CREATED:20230301T100827Z
LAST-MODIFIED:20230331T092859Z
UID:10000159-1677780000-1677789000@rete-ries.it
SUMMARY:Basta stragi in mare: restiamo umani
DESCRIPTION:Il socio Ries\, DISTRETTO DI ECONOMIA SOLIDALE ALTRO TIRRENO segnala l’inziativa di Pisa\, per chiedere un’inversione di rotta più che mai necessaria:\nl’Italia deve tornare a impegnarsi nella ricerca e nel salvataggio dei naufraghi\, deve tutelare il diritto di asilo\, deve garantire canali di ingresso legali e sicuri per i migranti. \nUsando le parole del compianto Vittorio Arrigoni\, oggi più che mai è necessario “restare umani”.
URL:https://rete-ries.it/evento/basta-stragi-in-mare-restiamo-umani/
LOCATION:Pisa\, Piazza XX settembre\, piazza XX settembre\, Pisa\, Italy
CATEGORIES:Events
ATTACH;FMTTYPE=image/png:https://rete-ries.it/wp-content/uploads/2023/03/Basta_stragi_in_mare.png
END:VEVENT
BEGIN:VEVENT
DTSTART;VALUE=DATE:20230303
DTEND;VALUE=DATE:20230304
DTSTAMP:20260423T112150
CREATED:20230228T103102Z
LAST-MODIFIED:20230305T114232Z
UID:10000156-1677801600-1677887999@rete-ries.it
SUMMARY:Sciopero Globale per il Clima
DESCRIPTION:Fridays For Future invita a partecipare allo Sciopero Globale per il Clima. \nSiamo consapevol3\, tutte e tutti\, che la strada è ancora lunga\, in salita e c’è tanto da lavorare. Ma noi siamo pronti. Perché camminiamo assieme a tante altre realtà ed esperienze d’Italia con cui condividiamo sogni e lotte\, amore e obiettivi. Non siamo l’unione di singoli\, siamo una comunità di persone: decine e decine di persone\, migliaia in tutta Italia lavorano nei propri gruppi locali. Ma sebbene la nostra forza sia composta da così tante individualità\, pensieri e ideali\, riusciamo a essere comunità rinnovata e rinnovabile. Perché al di fuori della collettività c’è solo mitomania o ricerca di consensi.\nAbbiamo ben chiaro cosa c’è da fare e lo abbiamo steso con inchiostro e rabbia. Siamo determinat3 a cambiare le sorti di questo paese con nuovi strumenti di partecipazione e di attivazione. Per questo\, riusciamo a essere una collettività rinnovabile e solidale. Siamo le speranze\, siamo i sogni. Siamo la frontiera di una nuova comunità\, grazie a tutti i dati che la scienza ci ha messo in mano e che decliniamo città per città\, nazione per nazione. \nLeggi tutte le motivazioni e trova la piazza più vicina a te cercando su Instagram e Facebook la pagina di “Fridays For Future + Nome Città” oppure vai a questo link (in continuo aggiornamento): \nSciopero Globale per il Clima il 3 Marzo. Le motivazioni e le piazze
URL:https://rete-ries.it/evento/sciopero-globale-per-il-clima/
LOCATION:Piazze in Italia
CATEGORIES:Events
ATTACH;FMTTYPE=image/png:https://rete-ries.it/wp-content/uploads/2023/02/Global-strike-3.3.23.png
ORGANIZER;CN="Fridays For Future":MAILTO:https://fridaysforfutureitalia.it/
END:VEVENT
BEGIN:VEVENT
DTSTART;TZID=Europe/Rome:20230310T110000
DTEND;TZID=Europe/Rome:20230310T170000
DTSTAMP:20260423T112150
CREATED:20230302T145129Z
LAST-MODIFIED:20230305T114221Z
UID:10000160-1678446000-1678467600@rete-ries.it
SUMMARY:MAGico - Coordinamento delle MAG
DESCRIPTION:Il Coordinamento MAGico è il momento in cui tutte le MAG si confrontano su tutti gli aspetti pratici e teorici della finanza etica. \nLe MAG\, che sta per Mutua Auto Gestione\, sono soggetti di finanza mutualistica e solidale\nFanno parte del Coordinamento MAGico le seguenti Mag:\nMag Mutua & Servizi Verona; Coop. Mag 2 Finance Milano; Coop. Mag4 Piemonte (Torino); Coop. Mag6 Reggio Emilia; Coop. Mag Venezia; Coop. Mag Firenze; Coop. Sociale Mag delle Calabrie (Reggio Calabria e Cosenza) e Mag Altro Tirreno (Pisa). \nL’incontro del coordinamento è aperto a tutti i soci delle MAG. \n 
URL:https://rete-ries.it/evento/magico-coordinamento-delle-mag/
LOCATION:MAG Venezia\, Via Tasso 15/A\, Mestre\, 30172
CATEGORIES:Events
ATTACH;FMTTYPE=image/jpeg:https://rete-ries.it/wp-content/uploads/2023/03/Mag.jpg
ORGANIZER;CN="MAG Venezia":MAILTO:http://www.magvenezia.it/
END:VEVENT
BEGIN:VEVENT
DTSTART;TZID=Europe/Rome:20230315T204500
DTEND;TZID=Europe/Rome:20230315T223000
DTSTAMP:20260423T112150
CREATED:20230228T103829Z
LAST-MODIFIED:20230305T114210Z
UID:10000157-1678913100-1678919400@rete-ries.it
SUMMARY:Bilanci di Giustizia: serata di approfondimento
DESCRIPTION:Bilanci di Giustizia organizza una serata speciale dedicata all’accoglienza di chi vuole conoscere più da vicino l’esperienza “BdG”.\nOltre alle testimonianze dei presenti è previsto un video con le interviste a diversi bilancisti. \nLink per partecipare all’incontro: https://greenlight.rio20.net/seg-6wd-knk
URL:https://rete-ries.it/evento/bilanci-di-giustizia-serata-di-approfondimento/
LOCATION:on line
CATEGORIES:Events
ATTACH;FMTTYPE=image/jpeg:https://rete-ries.it/wp-content/uploads/2022/05/LOGO-BILANCI_xl-scaled.jpg
ORGANIZER;CN="Bilanci di Giustizia":MAILTO:segreteriabilanci@gmail.com
END:VEVENT
BEGIN:VEVENT
DTSTART;TZID=Europe/Rome:20230317T210000
DTEND;TZID=Europe/Rome:20230317T230000
DTSTAMP:20260423T112150
CREATED:20230317T103326Z
LAST-MODIFIED:20230317T103445Z
UID:10000163-1679086800-1679094000@rete-ries.it
SUMMARY:Monete altre: ricerca e pratiche di base
DESCRIPTION:Ecco un’occasione per approfondire e capire il mondo delle monete complementari e alternative (“monete altre”)\, tema complesso analizzato già da parecchi anni dal gruppo di lavoro del CNR – Issirfa (Istituto di Studi sui Sistemi Regionali\, Federali e sulle Autonomie “Massimo Severo Giannini”). \nSul piano pratico\, le Reti di Economia Solidale hanno sviluppato diverse forme di sperimentazioni locali di scambi monetari complementari basati su crediti mutuali. \nL’associazione informale Retics (Reti di Credito e Scambio Solidale) è nata nel 2013 dall’iniziativa di una decina di persone\, tra cui attivisti della rete di economia solidale italiana e ricercatori interessati allo sviluppo delle monete altre (complementari e alternative) e il progetto Laboratorio Monete è nato\, per iniziativa di Retics\, nell’ambito della terza Scuola estiva della decrescita e delle economie solidali del 2018. Da allora ha svolto una continua e ampiamente condivisa attività di formazione seminariale e di organizzazione di convegni ed incontri nazionali\, coinvolgendo sia associazioni del mondo eco-solidale sia circuiti di scambio e credito mutuale. \nIl 17 Marzo alle ore 21 Cnr-Issirfa e RETICS – Laboratorio Monete organizzano un Webinar sul tema: \n“Monete altre: quale ponte tra ricerca e pratiche di base” \nAl fine di comprendere meglio le crisi attuali e le difficoltà che ostacolano le pratiche di base e l’affermazione delle Monete Altre nel nostro paese\, nell’incontro verranno condivise conoscenze e valutazioni diverse di tali problematiche\, principalmente per capire se è possibile sviluppare una collaborazione più solida tra ricerca e pratiche ecosolidali sviluppate nel campo degli scambi e dei crediti mutuali. \nPer ottenere il link al webinar scrivere a laboratoriomonete@gmail.com
URL:https://rete-ries.it/evento/monete-altre-ricerca-e-pratiche-di-base/
LOCATION:on line
ATTACH;FMTTYPE=image/jpeg:https://rete-ries.it/wp-content/uploads/2023/03/pexels-pixabay-210600-e1679049270435.jpg
END:VEVENT
BEGIN:VEVENT
DTSTART;TZID=Europe/Rome:20230318T100000
DTEND;TZID=Europe/Rome:20230318T180000
DTSTAMP:20260423T112150
CREATED:20230313T003415Z
LAST-MODIFIED:20230313T003415Z
UID:10000162-1679133600-1679162400@rete-ries.it
SUMMARY:Accipicchia! Facciamo comunità solidali - territori educativi
DESCRIPTION:Giornata flegrea dell’economia sociale e solidale \n\n\n\n\nPROGRAMMA \nOre 10:00 – 13:00 \nBanchetti dei Progetti ECOSOL con la partecipazione degli studenti delle classi IIIA e IVA del Laboratorio di Sostenibilità \ndell’IS Virgilio di Pozzuoli\nOre 11:00 – 13:00\nLaboratorio del Riciclo creativo\nOre 13:00 – 14:30\nTavola rotonda «Dove va il consumo critico e responsabile?» Ore 14:30 – 16.30 Pranzo conviviale\nOre 16:30 – 17:30 Performance artistiche\nOre 17:30 Conclusioni e saluti
URL:https://rete-ries.it/evento/accipicchia-facciamo-comunita-solidali-territori-educativi/
LOCATION:Casa Mehari\, Via Nicotera\, 8\, Quarto\, Napoli\, Italy
CATEGORIES:Events
ATTACH;FMTTYPE=image/png:https://rete-ries.it/wp-content/uploads/2023/03/Accipicchia_flegrea.png
END:VEVENT
BEGIN:VEVENT
DTSTART;TZID=Europe/Rome:20230323T173000
DTEND;TZID=Europe/Rome:20230328T200000
DTSTAMP:20260423T112150
CREATED:20230317T213224Z
LAST-MODIFIED:20230321T131624Z
UID:10000164-1679592600-1680033600@rete-ries.it
SUMMARY:Scuola di attivazione politica 2023 (nord): 5° incontro modulo Agroecologia
DESCRIPTION:Quinto incontro del Corso Agroecologia e filiere agroalimentari sul tema: \nNormative e regolamenti per l’agroecologia a livello Europeo \, nazionale e regionale \nUn panorama delle normative che vanno dalle strategie europee (Farm to Fork e Biodiversità) alla recente legge 21/21 dell’Assemblea Regionale Siciliana e al caso Emilia Romagna . \nInterveranno : \nAlessandra Corrado – ricercatrice in Sociologia dell’ambiente e del territorio nel … dell’Università della Calabria (Centro studi per lo sviluppo rurale). \nPier Francesco Pandolfi de Rinaldis – Associazione Ruale Italiana ARI/Comitato di Coordinamento Internazionale del La Via Campesina. \nGuido Bissanti – Agronomo\, Coordinamento Agroecologia Sicilia 2030 \nCarlo Farneti – Rete per la sovranità alimentare in Emilia Romagna \nPer partecipare agli incontri occorre iscriversi in anticipo attraverso questo link: (il link sarà sempre lo stesso per ogni incontro) \nDopo l’iscrizione\, riceverete le indicazioni con le informazioni (tra cui il link) per entrare nella riunione. Questo link sarà utilizzato per ogni incontro per cui salvatelo tra i vostri appunti . Questa procedura consente di registrare le presenze effettive (per chi ne avesse bisogno abbiamo previsto anche un attestato di partecipazione che sarà inviato ha chi partecipa al 80% dei moduli attivati). \nIl programma completo è consultabile qui.
URL:https://rete-ries.it/evento/scuola-di-attivazione-politica-2023-nord-5-incontro-modulo-agroecologia/
CATEGORIES:Events
ATTACH;FMTTYPE=image/jpeg:https://rete-ries.it/wp-content/uploads/2023/03/SAP_area_centro_2023.jpeg
END:VEVENT
BEGIN:VEVENT
DTSTART;VALUE=DATE:20230324
DTEND;VALUE=DATE:20230327
DTSTAMP:20260423T112150
CREATED:20230202T181620Z
LAST-MODIFIED:20230301T095129Z
UID:10000154-1679616000-1679875199@rete-ries.it
SUMMARY:Fà la cosa giusta 2023
DESCRIPTION:Nata nel 2004 da un progetto della casa editrice Terre di mezzo ha la finalità di far conoscere e diffondere sul territorio nazionale le “buone pratiche” di consumo e produzione e di valorizzare le specificità e le eccellenze\, in rete e in sinergia con il tessuto istituzionale\, associativo e imprenditoriale locale.\n\nFa’ la cosa giusta! è…\n•  fiera di prodotti e servizi: scopri gli espositori iscritti e le aree espositive\n•  tre giorni di eventi\, laboratori\, incontri\, presentazioni\, degustazioni\, spettacoli: più di 450 eventi nel Programma Culturale per tutte le fasce d’eta\n•  convivialità e servizi: nursery\, spazio bimbi\, ristorazione\n•  occasione di relazione\, formazione e scoperta per i volontari e le scuole
URL:https://rete-ries.it/evento/fa-la-cosa-giusta-2023/
LOCATION:Fà la cosa giusta – Milano\, viale Eginardo\, Milano\, 20149\, Italy
CATEGORIES:Events
ATTACH;FMTTYPE=image/png:https://rete-ries.it/wp-content/uploads/2023/02/FLCG2023.png
END:VEVENT
BEGIN:VEVENT
DTSTART;TZID=Europe/Rome:20230325T120000
DTEND;TZID=Europe/Rome:20230325T133000
DTSTAMP:20260423T112150
CREATED:20230301T094929Z
LAST-MODIFIED:20230305T114155Z
UID:10000158-1679745600-1679751000@rete-ries.it
SUMMARY:C’è vita oltre il mercato? Emergenze\, guerre\, crisi e diritti: il commercio equo e la costruzione dell’altro
DESCRIPTION:Emergenze\, guerre\, crisi e diritti: il commercio equo e la costruzione dell’altro. \nIntervengono:\nMarta Fracasso (Comitato di Valutazione Etica Altromercato)\,\nGiovanni Battista Girolomoni (Pastificio Girolomoni\, presidente)\,\nMassimo Renno (Associazione Botteghe del Mondo\, presidente)\,\nGiuseppe Di Francesco (Fairtrade Italia\, presidente)\,\nDavid Cambioli (Equogarantito\, presidente) \nModerano: Duccio Facchini (Altreconomia)\, Maria Teresa Pecchini (RIES) \nOrganizzato da: RIES (Rete Italiana di Economia Solidale) – Altreconomia \nLeggi di più
URL:https://rete-ries.it/evento/ce-vita-oltre-il-mercato-emergenze-guerre-crisi-e-diritti-il-commercio-equo-e-la-costruzione-dellaltro/
LOCATION:Fà la cosa giusta – Milano\, viale Eginardo\, Milano\, 20149\, Italy
CATEGORIES:Events
ATTACH;FMTTYPE=image/png:https://rete-ries.it/wp-content/uploads/2023/03/FLCG_vita_oltre.png
END:VEVENT
BEGIN:VEVENT
DTSTART;TZID=Europe/Rome:20230328T173000
DTEND;TZID=Europe/Rome:20230328T200000
DTSTAMP:20260423T112150
CREATED:20230321T224319Z
LAST-MODIFIED:20230321T224319Z
UID:10000165-1680024600-1680033600@rete-ries.it
SUMMARY:Scuola di Attivazione Politica 2023 (CENTRO): 1° Incontro introduttorio
DESCRIPTION:Per una transizione ecologica\, equa solidale: Le Economie Trasformative verso nuovi paradigmi di sviluppo locale integrale \nIntroduce e modera l’incontro : \nRiccardo Troisi\, Fairwatch Italia\, ricercatore Università Cooperativa di Colombia. \nMonica Di Sisto\, Fairwatch \nJason Nardi\, RIES – Rete Italiana Economia Solidale(Ries) Ripees Europa at Ripees\, International Network for the Promotion of Social Solidarity Economy \nSono previsti interventi delle organizzazioni che hanno promosso il percorso formativo
URL:https://rete-ries.it/evento/scuola-di-attivazione-politica-2023-centro-1-incontro-introduttorio/
CATEGORIES:Events
ATTACH;FMTTYPE=image/jpeg:https://rete-ries.it/wp-content/uploads/2023/03/SAP_area_centro_2023.jpeg
END:VEVENT
BEGIN:VEVENT
DTSTART;VALUE=DATE:20230330
DTEND;VALUE=DATE:20230401
DTSTAMP:20260423T112150
CREATED:20230127T112526Z
LAST-MODIFIED:20230328T085727Z
UID:10000153-1680134400-1680307199@rete-ries.it
SUMMARY:3° Convegno nazionale di agroecologia
DESCRIPTION:Una due giorni intensissima (più una terza mattina di visita in azienda) con 7 tavole rotonde da non perdere. \nIl convegno si aprirà con un momento dedicato ai giovani\, con una Sessione 1 dal titolo Agroecologia verso il futuro\, lo stato dell’arte e le prospettive per il lavoro.\nI lavori proseguiranno con la Sessione 2 dove si metteranno in evidenza le imprescindibili relazioni tra l’Agroecologia e l‘agricoltura biologica e biodinamica che rappresentano oggi i modelli più avanzati e sostenibili per l’ambiente e la società\, per chiudere la prima giornata con una Sessione 3 dedicata al tema della salute\, in un’ottica di global health. \nLa seconda giornata si aprirà con la Sessione 4 in cui si affronteranno i temi complessi relativi alla riduzione degli input chimici di sintesi per la transizione agroecologica\, seguita dalla Sessione 5 con un momento di approfondimento sull’attualissimo tema del cambiamento climatico\, di cui saranno trattati i problemi e le prospettive. Nel pomeriggio nella Sessione 6 si parlerà di biodiversità e paesaggio\, per poi concludere con la Sessione 7 con un focus sui sistemi locali del cibo come laboratori di Agroecologia. \nIl convegno sarà anche online in diretta sulla pagina YouTube della Coalizione Cambiamo Agricoltura. \nQui il programma.
URL:https://rete-ries.it/evento/3-convegno-nazionale-di-agroecologia/
LOCATION:Sala Spazio Europa c/o Rappresentanza Commissione Europea e Parlamento Europeo\, via IV Novembre 149\, Roma\, Italia
CATEGORIES:Events
ATTACH;FMTTYPE=image/jpeg:https://rete-ries.it/wp-content/uploads/2023/01/Convegno-AGROECOLOGIA.jpg
END:VEVENT
BEGIN:VEVENT
DTSTART;TZID=Europe/Rome:20230330T090000
DTEND;TZID=Europe/Rome:20230330T133000
DTSTAMP:20260423T112150
CREATED:20230321T083402Z
LAST-MODIFIED:20230331T073831Z
UID:10000167-1680166800-1680183000@rete-ries.it
SUMMARY:Convegno "La svolta trasformativa" - Università per la pace
DESCRIPTION:Convegno “La svolta trasformativa: per una convergenza tra i movimenti di economia alternativa” promosso dalla Scuola per l’Economia Trasformativa dell’Università per la pace in collaborazione con il CRISS – Centro di Ricerca e Servizio sull’Educazione Socio-Sanitaria dell’Università Politecnica delle Marche. \nDiversi gli interventi previsti\, con l’obiettivo di diffondere\, soprattutto a favore degli studenti universitari di economia\, la conoscenza su alcune realtà dell’economia alternativa e contribuire al processo di convergenza per individuare gli elementi comuni in grado di delineare un nuovo sistema alternativo al capitalismo globale e alle sue logiche predatorie. \nL’incontro\, aperto a tutta la cittadinanza\, sarà trasmesso anche in diretta streaming sulla pagina FACEBOOK dell’Università per la pace  https://www.facebook.com/UnivPace
URL:https://rete-ries.it/evento/241694/
LOCATION:Università di Ancona e on line
ATTACH;FMTTYPE=image/jpeg:https://rete-ries.it/wp-content/uploads/2023/03/Convegno-La-svolta-trasformativa.jpg
END:VEVENT
BEGIN:VEVENT
DTSTART;TZID=Europe/Rome:20230330T210000
DTEND;TZID=Europe/Rome:20230330T223000
DTSTAMP:20260423T112150
CREATED:20230329T204028Z
LAST-MODIFIED:20230329T204208Z
UID:10000166-1680210000-1680215400@rete-ries.it
SUMMARY:Presentazione del nuovo progetto Le Solidali - bio patate co-prodotte
DESCRIPTION:Il gruppo di lavoro Bi-sogni di CO-energia dopo la campagna della Sporta solidale\, ora è approdato a un nuovo capitolo di ricerca e sperimentazione: “Le solidali – biopatate co-prodotte“. \nIl punto di partenza questa volta è Cascina Bertoldosso di Riccardo Sudati che produce le biopatate “Le Solidali”. Come per le sporte\, CO-energia supporta le relazioni con GAS e Reti territoriali. I GAS sono chiamati a diventare co-produttori:\n– anticipando i costi fissi (30 cent/kg)\n– assumendosi il rischio d’impresa\n– controllando in corso d’opera i costi in modo trasparente\n– costruendo con l’agricoltore il ‘prezzo giusto’. \nPerché solidali?\nLa sperimentazione: \n\nsostiene il progetto territoriale associato al patto Adesso grana\, cioè il consolidamento della filiera bio locale formata da: Biocaseificio Tomasoni\, Forneria Faol\, Cascina Bertoldosso\, i 2 fornitori di latte bio al caseificio Az agr. biologica Olini Luciano e Azienda agr. biologica Boffelli Andrea\nè parte di un percorso più generale\, avviato nel 2015\, che cerca di conquistare alle coltivazioni biologiche terreni di un’area\, la Bassa bresciana\, dove prevale in assoluto l’agricoltura convenzionale\nè un percorso di agricoltura sociale\, esperienza anche questa rara nella Bassa bresciana\, che cioè da’ lavoro e restituisce dignità a soggetti fragili\nrafforza le Reti di GAS nate con La sporta solidale e ne favorisce l’avvio di nuove\n\nIscriviti all’incontro online di presentazione del progetto: https://tinyurl.com/COE-Biopatate-co-prodotte
URL:https://rete-ries.it/evento/presentazione-del-nuovo-progetto-le-solidali-bio-patate-co-prodotte/
LOCATION:on line
ATTACH;FMTTYPE=image/png:https://rete-ries.it/wp-content/uploads/2023/03/patata_solidale.png
END:VEVENT
END:VCALENDAR